Workbook

Sheet Portada
B9: 2º Trimestre 2026
C14: Andalucía | L14: Com. Valenciana
C16: Aragón | L16: Extremadura
C18: Principado de Asturias | L18: Galicia
C20: Balears, Illes | L20: Madrid, Comunidad de
C22: Canarias | L22: Murcia, Región de
C24: Cantabria | L24: Navarra, Comunidad Foral de
C26: Castilla y León | L26: País Vasco
C28: Castilla - La Mancha | L28: Rioja, La
C30: Cataluña

Sheet Andalucía
B11: =Portada!B9 -> 2º Trimestre 2026
C13: 2º trimestre 2025 | D13: 2º trimestre 2026 | E13: Evolución
B14: DENUNCIAS RECIBIDAS - TOTAL | C14: 10811 | D14: 11607 | E14: =IF(C14>0,(D14-C14)/C14) -> 0.073628711
B15: VÍCTIMAS | C15: 9753 | D15: 10170 | E15: =IF(C15>0,(D15-C15)/C15) -> 0.042756075
B16: Víctimas Españolas | C16: 7071 | D16: 7809 | E16: =IF(C16>0,(D16-C16)/C16) -> 0.10436996
B17: Víctimas Extranjeras | C17: 2682 | D17: 2361 | E17: =IF(C17>0,(D17-C17)/C17) -> -0.1196868
B18: Víctimas Españolas menores | C18: 16 | D18: 10 | E18: =IF(C18=0,"-",(D18-C18)/C18) -> -0.375
B19: Víctimas Extranjeras menores | C19: 0 | D19: 0 | E19: =IF(C19=0,"-",(D19-C19)/C19) -> -
B20: % Extranjeras entre las víctimas | C20: =C17/C15 -> 0.27499231 | D20: =D17/D15 -> 0.23215339 | E20: =IF(C20>0,(D20-C20)/C20) -> -0.15578224
B21: RENUNCIAS (La victima se acoge a la dispensa a la obligacion de declarar como testigo) | C21: 820 | D21: 829 | E21: =IF(C21>0,(D21-C21)/C21) -> 0.01097561
B22: Renuncias por Española | C22: 541 | D22: 586 | E22: =IF(C22>0,(D22-C22)/C22) -> 0.083179298
B23: Renuncias por Extranjera | C23: 279 | D23: 243 | E23: =IF(C23>0,(D23-C23)/C23) -> -0.12903226
B24: % Extranjeras entre las Renuncias | C24: =C23/C21 -> 0.3402439 | D24: =D23/D21 -> 0.29312425 | E24: =IF(C24>0,(D24-C24)/C24) -> -0.13848788
B25: Víctimas de Violencia de Género cada 10.000 Mujeres | C25: 0.21710371 | D25: 0.22638621 | E25: =IF(C25>0,(D25-C25)/C25) -> 0.042756075
C33: 2º trimestre 2025 | D33: 2º trimestre 2026 | E33: Evolución
B34: Incoadas | C34: 2298 | D34: 2218 | E34: =IF(C34>0,(D34-C34)/C34) -> -0.034812881
B35: Inadmitidas | C35: 22 | D35: 15 | E35: =IF(C35>0,(D35-C35)/C35) -> -0.31818182
B36: Adoptadas | C36: 1714 | D36: 1725 | E36: =IF(C36>0,(D36-C36)/C36) -> 0.0064177363
B37: Denegadas | C37: 562 | D37: 478 | E37: =IF(C37>0,(D37-C37)/C37) -> -0.14946619
C43: 2º trimestre 2025 | D43: 2º trimestre 2026 | E43: Evolución
B44: Sentencias Condenatorias | C44: 1614 | D44: 1732 | E44: =IF(C44>0,(D44-C44)/C44) -> 0.073110285
B45: Sentencias Absolutorias | C45: 134 | D45: 164 | E45: =IF(C45>0,(D45-C45)/C45) -> 0.2238806
B46: Sobreseimientos libres | C46: 272 | D46: 265 | E46: =IF(C46>0,(D46-C46)/C46) -> -0.025735294
B47: Sobreseimientos provisionales | C47: 3982 | D47: 4098 | E47: =IF(C47>0,(D47-C47)/C47) -> 0.02913109
B48: Elevación | C48: 1720 | D48: 1558 | E48: =IF(C48>0,(D48-C48)/C48) -> -0.094186047
B49: Otras | C49: 1722 | D49: 2137 | E49: =IF(C49>0,(D49-C49)/C49) -> 0.24099884
B50: Porcentaje Sentencias Condenatorias | C50: =C44/(C44+C45) -> 0.92334096 | D50: =D44/(D44+D45) -> 0.91350211 | E50: =IF(C50>0,(D50-C50)/C50) -> -0.010655708
B51: Porcentaje Terminacion por SP | C51: =C47/(C46+C47) -> 0.93606018 | D51: =D47/(D46+D47) -> 0.93926198 | E51: =IF(C51>0,(D51-C51)/C51) -> 0.0034205034
C57: 2º trimestre 2025 | D57: 2º trimestre 2026 | E57: Evolución
B58: Personas enjuiciadas | C58: 1750 | D58: 1929 | E58: =IF(C58>0,(D58-C58)/C58) -> 0.10228571
B59: Condenado Español | C59: 1193 | D59: 1325 | E59: =IF(C59>0,(D59-C59)/C59) -> 0.11064543
B60: Condenado Extranjero | C60: 423 | D60: 440 | E60: =IF(C60>0,(D60-C60)/C60) -> 0.040189125
B61: % condenados entre los enjuiciados | C61: =(C59+C60)/C58 -> 0.92342857 | D61: =(D59+D60)/D58 -> 0.91498186 | E61: =IF(C61>0,(D61-C61)/C61) -> -0.0091471239
B62: % condenas entre los españoles enjuiciados | C62: 0.91769231 | D62: 0.90136054 | E62: =IF(C62>0,(D62-C62)/C62) -> -0.017796557
B63: % condenas entre los extranjeros enjuiciados | C63: 0.94 | D63: 0.95860566 | E63: =IF(C63>0,(D63-C63)/C63) -> 0.01979326
C69: 2º trimestre 2025 | D69: 2º trimestre 2026 | E69: Evolución
B70: ASUNTOS PENALES | C70: 11542 | D70: 12478 | E70: =IF(C70>0,(D70-C70)/C70) -> 0.081095131
B71: Diligencia Urgentes | C71: 3598 | D71: 3751 | E71: =IF(C71>0,(D71-C71)/C71) -> 0.042523624
B72: Sumarios | C72: 33 | D72: 17 | E72: =IF(C72>0,(D72-C72)/C72) -> -0.48484848
B73: Diligencia Previas | C73: 5698 | D73: 6624 | E73: =IF(C73>0,(D73-C73)/C73) -> 0.16251316
...

Sheet Aragón
B11: =Portada!B9 -> 2º Trimestre 2026
C13: 2º trimestre 2025 | D13: 2º trimestre 2026 | E13: Evolución
B14: DENUNCIAS RECIBIDAS - TOTAL | C14: 1200 | D14: 1254 | E14: =IF(C14>0,(D14-C14)/C14) -> 0.045
B15: VÍCTIMAS | C15: 1180 | D15: 1146 | E15: =IF(C15>0,(D15-C15)/C15) -> -0.028813559
B16: Víctimas Españolas | C16: 599 | D16: 602 | E16: =IF(C16>0,(D16-C16)/C16) -> 0.0050083472
B17: Víctimas Extranjeras | C17: 581 | D17: 544 | E17: =IF(C17>0,(D17-C17)/C17) -> -0.063683305
B18: Víctimas Españolas menores | C18: 3 | D18: 2 | E18: =IF(C18=0,"-",(D18-C18)/C18) -> -0.33333333
B19: Víctimas Extranjeras menores | C19: 0 | D19: 2 | E19: =IF(C19=0,"-",(D19-C19)/C19) -> -
B20: % Extranjeras entre las víctimas | C20: =C17/C15 -> 0.49237288 | D20: =D17/D15 -> 0.47469459 | E20: =IF(C20>0,(D20-C20)/C20) -> -0.035904275
B21: RENUNCIAS (La victima se acoge a la dispensa a la obligacion de declarar como testigo) | C21: 170 | D21: 254 | E21: =IF(C21>0,(D21-C21)/C21) -> 0.49411765
B22: Renuncias por Española | C22: 93 | D22: 100 | E22: =IF(C22>0,(D22-C22)/C22) -> 0.075268817
B23: Renuncias por Extranjera | C23: 77 | D23: 154 | E23: =IF(C23>0,(D23-C23)/C23) -> 1
B24: % Extranjeras entre las Renuncias | C24: =C23/C21 -> 0.45294118 | D24: =D23/D21 -> 0.60629921 | E24: =IF(C24>0,(D24-C24)/C24) -> 0.33858268
B25: Víctimas de Violencia de Género cada 10.000 Mujeres | C25: 0.17155302 | D25: 0.16660997 | E25: =IF(C25>0,(D25-C25)/C25) -> -0.028813559
C33: 2º trimestre 2025 | D33: 2º trimestre 2026 | E33: Evolución
B34: Incoadas | C34: 222 | D34: 320 | E34: =IF(C34>0,(D34-C34)/C34,"-") -> 0.44144144
B35: Inadmitidas | C35: 0 | D35: 1 | E35: =IF(C35>0,(D35-C35)/C35,"-") -> -
B36: Adoptadas | C36: 173 | D36: 231 | E36: =IF(C36>0,(D36-C36)/C36,"-") -> 0.33526012
B37: Denegadas | C37: 49 | D37: 88 | E37: =IF(C37>0,(D37-C37)/C37,"-") -> 0.79591837
C43: 2º trimestre 2025 | D43: 2º trimestre 2026 | E43: Evolución
B44: Sentencias Condenatorias | C44: 183 | D44: 210 | E44: =IF(C44>0,(D44-C44)/C44,"-") -> 0.14754098
B45: Sentencias Absolutorias | C45: 5 | D45: 7 | E45: =IF(C45>0,(D45-C45)/C45,"-") -> 0.4
B46: Sobreseimientos libres | C46: 15 | D46: 48 | E46: =IF(C46>0,(D46-C46)/C46,"-") -> 2.2
B47: Sobreseimientos provisionales | C47: 551 | D47: 445 | E47: =IF(C47>0,(D47-C47)/C47,"-") -> -0.1923775
B48: Elevación | C48: 195 | D48: 178 | E48: =IF(C48>0,(D48-C48)/C48,"-") -> -0.087179487
B49: Otras | C49: 306 | D49: 306 | E49: =IF(C49>0,(D49-C49)/C49,"-") -> 0
B50: Porcentaje Sentencias Condenatorias | C50: =C44/(C44+C45) -> 0.97340426 | D50: =D44/(D44+D45) -> 0.96774194 | E50: =IF(C50>0,(D50-C50)/C50,"-") -> -0.005817028
B51: Porcentaje Terminacion por SP | C51: =C47/(C46+C47) -> 0.97349823 | D51: =D47/(D46+D47) -> 0.90263692 | E51: =IF(C51>0,(D51-C51)/C51,"-") -> -0.07279039
C57: 2º trimestre 2025 | D57: 2º trimestre 2026 | E57: Evolución
B58: Personas enjuiciadas | C58: 188 | D58: 217 | E58: =IF(C58>0,(D58-C58)/C58,"-") -> 0.15425532
B59: Condenado Español | C59: 91 | D59: 101 | E59: =IF(C59>0,(D59-C59)/C59,"-") -> 0.10989011
B60: Condenado Extranjero | C60: 92 | D60: 109 | E60: =IF(C60>0,(D60-C60)/C60,"-") -> 0.18478261
B61: % condenados entre los enjuiciados | C61: =(C59+C60)/C58 -> 0.97340426 | D61: =(D59+D60)/D58 -> 0.96774194 | E61: =IF(C61>0,(D61-C61)/C61,"-") -> -0.005817028
B62: % condenas entre los españoles enjuiciados | C62: 0.97849462 | D62: 0.95283019 | E62: =IF(C62>0,(D62-C62)/C62,"-") -> -0.026228488
B63: % condenas entre los extranjeros enjuiciados | C63: 0.96842105 | D63: 0.98198198 | E63: =IF(C63>0,(D63-C63)/C63,"-") -> 0.014003134
C69: 2º trimestre 2025 | D69: 2º trimestre 2026 | E69: Evolución
B70: ASUNTOS PENALES | C70: 1098 | D70: 1617 | E70: =IF(C70>0,(D70-C70)/C70,"-") -> 0.4726776
B71: Diligencia Urgentes | C71: 372 | D71: 506 | E71: =IF(C71>0,(D71-C71)/C71,"-") -> 0.36021505
B72: Sumarios | C72: 6 | D72: 5 | E72: =IF(C72>0,(D72-C72)/C72,"-") -> -0.16666667
B73: Diligencia Previas | C73: 488 | D73: 835 | E73: =IF(C73>0,(D73-C73)/C73,"-") -> 0.71106557
...

Sheet Asturias
B11: =Portada!B9 -> 2º Trimestre 2026
C13: 2º trimestre 2025 | D13: 2º trimestre 2026 | E13: Evolución
B14: DENUNCIAS RECIBIDAS - TOTAL | C14: 885 | D14: 1194 | E14: =IF(C14>0,(D14-C14)/C14) -> 0.34915254
B15: VÍCTIMAS | C15: 769 | D15: 1066 | E15: =IF(C15>0,(D15-C15)/C15) -> 0.38621586
B16: Víctimas Españolas | C16: 525 | D16: 608 | E16: =IF(C16>0,(D16-C16)/C16) -> 0.15809524
B17: Víctimas Extranjeras | C17: 244 | D17: 458 | E17: =IF(C17>0,(D17-C17)/C17) -> 0.87704918
B18: Víctimas Españolas menores | C18: 14 | D18: 10 | E18: =IF(C18=0,"-",(D18-C18)/C18) -> -0.28571429
B19: Víctimas Extranjeras menores | C19: 2 | D19: 4 | E19: =IF(C19=0,"-",(D19-C19)/C19) -> 1
B20: % Extranjeras entre las víctimas | C20: =C17/C15 -> 0.31729519 | D20: =D17/D15 -> 0.42964353 | E20: =IF(C20>0,(D20-C20)/C20) -> 0.35408144
B21: RENUNCIAS (La victima se acoge a la dispensa a la obligacion de declarar como testigo) | C21: 112 | D21: 203 | E21: =IF(C21>0,(D21-C21)/C21) -> 0.8125
B22: Renuncias por Española | C22: 76 | D22: 95 | E22: =IF(C22>0,(D22-C22)/C22) -> 0.25
B23: Renuncias por Extranjera | C23: 36 | D23: 108 | E23: =IF(C23>0,(D23-C23)/C23) -> 2
B24: % Extranjeras entre las Renuncias | C24: =C23/C21 -> 0.32142857 | D24: =D23/D21 -> 0.5320197 | E24: =IF(C24>0,(D24-C24)/C24) -> 0.65517241
B25: Víctimas de Violencia de Género cada 10.000 Mujeres | C25: 0.14492562 | D25: 0.2008982 | E25: =IF(C25>0,(D25-C25)/C25) -> 0.38621586
C33: 2º trimestre 2025 | D33: 2º trimestre 2026 | E33: Evolución
B34: Incoadas | C34: 214 | D34: 142 | E34: =IF(C34>0,(D34-C34)/C34,"-") -> -0.3364486
B35: Inadmitidas | C35: 0 | D35: 2 | E35: =IF(C35>0,(D35-C35)/C35,"-") -> -
B36: Adoptadas | C36: 179 | D36: 91 | E36: =IF(C36>0,(D36-C36)/C36,"-") -> -0.49162011
B37: Denegadas | C37: 35 | D37: 49 | E37: =IF(C37>0,(D37-C37)/C37,"-") -> 0.4
C43: 2º trimestre 2025 | D43: 2º trimestre 2026 | E43: Evolución
B44: Sentencias Condenatorias | C44: 143 | D44: 174 | E44: =IF(C44>0,(D44-C44)/C44,"-") -> 0.21678322
B45: Sentencias Absolutorias | C45: 3 | D45: 8 | E45: =IF(C45>0,(D45-C45)/C45,"-") -> 1.6666667
B46: Sobreseimientos libres | C46: 6 | D46: 34 | E46: =IF(C46>0,(D46-C46)/C46,"-") -> 4.6666667
B47: Sobreseimientos provisionales | C47: 254 | D47: 322 | E47: =IF(C47>0,(D47-C47)/C47,"-") -> 0.26771654
B48: Elevación | C48: 262 | D48: 302 | E48: =IF(C48>0,(D48-C48)/C48,"-") -> 0.15267176
B49: Otras | C49: 170 | D49: 184 | E49: =IF(C49>0,(D49-C49)/C49,"-") -> 0.082352941
B50: Porcentaje Sentencias Condenatorias | C50: =C44/(C44+C45) -> 0.97945205 | D50: =D44/(D44+D45) -> 0.95604396 | E50: =IF(C50>0,(D50-C50)/C50,"-") -> -0.023899178
B51: Porcentaje Terminacion por SP | C51: =C47/(C46+C47) -> 0.97692308 | D51: =D47/(D46+D47) -> 0.90449438 | E51: =IF(C51>0,(D51-C51)/C51,"-") -> -0.074139609
C57: 2º trimestre 2025 | D57: 2º trimestre 2026 | E57: Evolución
B58: Personas enjuiciadas | C58: 146 | D58: 182 | E58: =IF(C58>0,(D58-C58)/C58,"-") -> 0.24657534
B59: Condenado Español | C59: 104 | D59: 137 | E59: =IF(C59>0,(D59-C59)/C59,"-") -> 0.31730769
B60: Condenado Extranjero | C60: 39 | D60: 37 | E60: =IF(C60>0,(D60-C60)/C60,"-") -> -0.051282051
B61: % condenados entre los enjuiciados | C61: =(C59+C60)/C58 -> 0.97945205 | D61: =(D59+D60)/D58 -> 0.95604396 | E61: =IF(C61>0,(D61-C61)/C61,"-") -> -0.023899178
B62: % condenas entre los españoles enjuiciados | C62: 0.97196262 | D62: 0.95804196 | E62: =IF(C62>0,(D62-C62)/C62,"-") -> -0.014322216
B63: % condenas entre los extranjeros enjuiciados | C63: 1 | D63: 0.94871795 | E63: =IF(C63>0,(D63-C63)/C63,"-") -> -0.051282051
C69: 2º trimestre 2025 | D69: 2º trimestre 2026 | E69: Evolución
B70: ASUNTOS PENALES | C70: 1088 | D70: 1229 | E70: =IF(C70>0,(D70-C70)/C70,"-") -> 0.12959559
B71: Diligencia Urgentes | C71: 336 | D71: 386 | E71: =IF(C71>0,(D71-C71)/C71,"-") -> 0.14880952
B72: Sumarios | C72: 5 | D72: 5 | E72: =IF(C72>0,(D72-C72)/C72,"-") -> 0
B73: Diligencia Previas | C73: 497 | D73: 528 | E73: =IF(C73>0,(D73-C73)/C73,"-") -> 0.062374245
...

Sheet Illes Balears
B11: =Portada!B9 -> 2º Trimestre 2026
C13: 2º trimestre 2025 | D13: 2º trimestre 2026 | E13: Evolución
B14: DENUNCIAS RECIBIDAS - TOTAL | C14: 1878 | D14: 2098 | E14: =IF(C14>0,(D14-C14)/C14) -> 0.1171459
B15: VÍCTIMAS | C15: 1707 | D15: 1846 | E15: =IF(C15>0,(D15-C15)/C15) -> 0.081429408
B16: Víctimas Españolas | C16: 910 | D16: 951 | E16: =IF(C16>0,(D16-C16)/C16) -> 0.045054945
B17: Víctimas Extranjeras | C17: 797 | D17: 895 | E17: =IF(C17>0,(D17-C17)/C17) -> 0.1229611
B18: Víctimas Españolas menores | C18: 0 | D18: 3 | E18: =IF(C18=0,"-",(D18-C18)/C18) -> -
B19: Víctimas Extranjeras menores | C19: 0 | D19: 1 | E19: =IF(C19=0,"-",(D19-C19)/C19) -> -
B20: % Extranjeras entre las víctimas | C20: =C17/C15 -> 0.466901 | D20: =D17/D15 -> 0.48483207 | E20: =IF(C20>0,(D20-C20)/C20) -> 0.038404445
B21: RENUNCIAS (La victima se acoge a la dispensa a la obligacion de declarar como testigo) | C21: 333 | D21: 273 | E21: =IF(C21>0,(D21-C21)/C21) -> -0.18018018
B22: Renuncias por Española | C22: 154 | D22: 161 | E22: =IF(C22>0,(D22-C22)/C22) -> 0.045454545
B23: Renuncias por Extranjera | C23: 179 | D23: 112 | E23: =IF(C23>0,(D23-C23)/C23) -> -0.37430168
B24: % Extranjeras entre las Renuncias | C24: =C23/C21 -> 0.53753754 | D24: =D23/D21 -> 0.41025641 | E24: =IF(C24>0,(D24-C24)/C24) -> -0.23678556
B25: Víctimas de Violencia de Género cada 10.000 Mujeres | C25: 0.27217457 | D25: 0.29433759 | E25: =IF(C25>0,(D25-C25)/C25) -> 0.081429408
C33: 2º trimestre 2025 | D33: 2º trimestre 2026 | E33: Evolución
B34: Incoadas | C34: 420 | D34: 408 | E34: =IF(C34>0,(D34-C34)/C34,"-") -> -0.028571429
B35: Inadmitidas | C35: 1 | D35: 0 | E35: =IF(C35>0,(D35-C35)/C35,"-") -> -1
B36: Adoptadas | C36: 335 | D36: 318 | E36: =IF(C36>0,(D36-C36)/C36,"-") -> -0.050746269
B37: Denegadas | C37: 84 | D37: 90 | E37: =IF(C37>0,(D37-C37)/C37,"-") -> 0.071428571
C43: 2º trimestre 2025 | D43: 2º trimestre 2026 | E43: Evolución
B44: Sentencias Condenatorias | C44: 279 | D44: 381 | E44: =IF(C44>0,(D44-C44)/C44,"-") -> 0.3655914
B45: Sentencias Absolutorias | C45: 18 | D45: 13 | E45: =IF(C45>0,(D45-C45)/C45,"-") -> -0.27777778
B46: Sobreseimientos libres | C46: 47 | D46: 25 | E46: =IF(C46>0,(D46-C46)/C46,"-") -> -0.46808511
B47: Sobreseimientos provisionales | C47: 926 | D47: 787 | E47: =IF(C47>0,(D47-C47)/C47,"-") -> -0.15010799
B48: Elevación | C48: 356 | D48: 222 | E48: =IF(C48>0,(D48-C48)/C48,"-") -> -0.37640449
B49: Otras | C49: 229 | D49: 551 | E49: =IF(C49>0,(D49-C49)/C49,"-") -> 1.4061135
B50: Porcentaje Sentencias Condenatorias | C50: =C44/(C44+C45) -> 0.93939394 | D50: =D44/(D44+D45) -> 0.96700508 | E50: =IF(C50>0,(D50-C50)/C50,"-") -> 0.0293925
B51: Porcentaje Terminacion por SP | C51: =C47/(C46+C47) -> 0.95169579 | D51: =D47/(D46+D47) -> 0.96921182 | E51: =IF(C51>0,(D51-C51)/C51,"-") -> 0.018405079
C57: 2º trimestre 2025 | D57: 2º trimestre 2026 | E57: Evolución
B58: Personas enjuiciadas | C58: 299 | D58: 394 | E58: =IF(C58>0,(D58-C58)/C58,"-") -> 0.31772575
B59: Condenado Español | C59: 130 | D59: 216 | E59: =IF(C59>0,(D59-C59)/C59,"-") -> 0.66153846
B60: Condenado Extranjero | C60: 151 | D60: 165 | E60: =IF(C60>0,(D60-C60)/C60,"-") -> 0.092715232
B61: % condenados entre los enjuiciados | C61: =(C59+C60)/C58 -> 0.93979933 | D61: =(D59+D60)/D58 -> 0.96700508 | E61: =IF(C61>0,(D61-C61)/C61,"-") -> 0.028948462
B62: % condenas entre los españoles enjuiciados | C62: 0.94202899 | D62: 0.96 | E62: =IF(C62>0,(D62-C62)/C62,"-") -> 0.019076923
B63: % condenas entre los extranjeros enjuiciados | C63: 0.9378882 | D63: 0.97633136 | E63: =IF(C63>0,(D63-C63)/C63,"-") -> 0.040989067
C69: 2º trimestre 2025 | D69: 2º trimestre 2026 | E69: Evolución
B70: ASUNTOS PENALES | C70: 1750 | D70: 2406 | E70: =IF(C70>0,(D70-C70)/C70,"-") -> 0.37485714
B71: Diligencia Urgentes | C71: 706 | D71: 1104 | E71: =IF(C71>0,(D71-C71)/C71,"-") -> 0.56373938
B72: Sumarios | C72: 2 | D72: 3 | E72: =IF(C72>0,(D72-C72)/C72,"-") -> 0.5
B73: Diligencia Previas | C73: 635 | D73: 980 | E73: =IF(C73>0,(D73-C73)/C73,"-") -> 0.54330709
...

Sheet Canarias
B11: =Portada!B9 -> 2º Trimestre 2026
C13: 2º trimestre 2025 | D13: 2º trimestre 2026 | E13: Evolución
B14: DENUNCIAS RECIBIDAS - TOTAL | C14: 2841 | D14: 2995 | E14: =IF(C14>0,(D14-C14)/C14) -> 0.054206265
B15: VÍCTIMAS | C15: 2657 | D15: 2714 | E15: =IF(C15>0,(D15-C15)/C15) -> 0.021452766
B16: Víctimas Españolas | C16: 1842 | D16: 2035 | E16: =IF(C16>0,(D16-C16)/C16) -> 0.10477742
B17: Víctimas Extranjeras | C17: 815 | D17: 679 | E17: =IF(C17>0,(D17-C17)/C17) -> -0.16687117
B18: Víctimas Españolas menores | C18: 0 | D18: 4 | E18: =IF(C18=0,"-",(D18-C18)/C18) -> -
B19: Víctimas Extranjeras menores | C19: 0 | D19: 0 | E19: =IF(C19=0,"-",(D19-C19)/C19) -> -
B20: % Extranjeras entre las víctimas | C20: =C17/C15 -> 0.30673692 | D20: =D17/D15 -> 0.25018423 | E20: =IF(C20>0,(D20-C20)/C20) -> -0.18436871
B21: RENUNCIAS (La victima se acoge a la dispensa a la obligacion de declarar como testigo) | C21: 412 | D21: 311 | E21: =IF(C21>0,(D21-C21)/C21) -> -0.24514563
B22: Renuncias por Española | C22: 203 | D22: 181 | E22: =IF(C22>0,(D22-C22)/C22) -> -0.10837438
B23: Renuncias por Extranjera | C23: 209 | D23: 130 | E23: =IF(C23>0,(D23-C23)/C23) -> -0.37799043
B24: % Extranjeras entre las Renuncias | C24: =C23/C21 -> 0.50728155 | D24: =D23/D21 -> 0.41800643 | E24: =IF(C24>0,(D24-C24)/C24) -> -0.17598732
B25: Víctimas de Violencia de Género cada 10.000 Mujeres | C25: 0.23224611 | D25: 0.23722843 | E25: =IF(C25>0,(D25-C25)/C25) -> 0.021452766
C33: 2º trimestre 2025 | D33: 2º trimestre 2026 | E33: Evolución
B34: Incoadas | C34: 567 | D34: 440 | E34: =IF(C34>0,(D34-C34)/C34,"-") -> -0.22398589
B35: Inadmitidas | C35: 10 | D35: 5 | E35: =IF(C35>0,(D35-C35)/C35,"-") -> -0.5
B36: Adoptadas | C36: 408 | D36: 297 | E36: =IF(C36>0,(D36-C36)/C36,"-") -> -0.27205882
B37: Denegadas | C37: 149 | D37: 138 | E37: =IF(C37>0,(D37-C37)/C37,"-") -> -0.073825503
C43: 2º trimestre 2025 | D43: 2º trimestre 2026 | E43: Evolución
B44: Sentencias Condenatorias | C44: 715 | D44: 649 | E44: =IF(C44>0,(D44-C44)/C44,"-") -> -0.092307692
B45: Sentencias Absolutorias | C45: 38 | D45: 11 | E45: =IF(C45>0,(D45-C45)/C45,"-") -> -0.71052632
B46: Sobreseimientos libres | C46: 99 | D46: 130 | E46: =IF(C46>0,(D46-C46)/C46,"-") -> 0.31313131
B47: Sobreseimientos provisionales | C47: 1121 | D47: 963 | E47: =IF(C47>0,(D47-C47)/C47,"-") -> -0.14094558
B48: Elevación | C48: 206 | D48: 220 | E48: =IF(C48>0,(D48-C48)/C48,"-") -> 0.067961165
B49: Otras | C49: 587 | D49: 1044 | E49: =IF(C49>0,(D49-C49)/C49,"-") -> 0.77853492
B50: Porcentaje Sentencias Condenatorias | C50: =C44/(C44+C45) -> 0.94953519 | D50: =D44/(D44+D45) -> 0.98333333 | E50: =IF(C50>0,(D50-C50)/C50,"-") -> 0.035594406
B51: Porcentaje Terminacion por SP | C51: =C47/(C46+C47) -> 0.91885246 | D51: =D47/(D46+D47) -> 0.8810613 | E51: =IF(C51>0,(D51-C51)/C51,"-") -> -0.041128649
C57: 2º trimestre 2025 | D57: 2º trimestre 2026 | E57: Evolución
B58: Personas enjuiciadas | C58: 754 | D58: 660 | E58: =IF(C58>0,(D58-C58)/C58,"-") -> -0.12466844
B59: Condenado Español | C59: 521 | D59: 469 | E59: =IF(C59>0,(D59-C59)/C59,"-") -> -0.099808061
B60: Condenado Extranjero | C60: 195 | D60: 180 | E60: =IF(C60>0,(D60-C60)/C60,"-") -> -0.076923077
B61: % condenados entre los enjuiciados | C61: =(C59+C60)/C58 -> 0.94960212 | D61: =(D59+D60)/D58 -> 0.98333333 | E61: =IF(C61>0,(D61-C61)/C61,"-") -> 0.035521415
B62: % condenas entre los españoles enjuiciados | C62: 0.94384058 | D62: 0.97912317 | E62: =IF(C62>0,(D62-C62)/C62,"-") -> 0.037381942
B63: % condenas entre los extranjeros enjuiciados | C63: 0.96534653 | D63: 0.99447514 | E63: =IF(C63>0,(D63-C63)/C63,"-") -> 0.030174246
C69: 2º trimestre 2025 | D69: 2º trimestre 2026 | E69: Evolución
B70: ASUNTOS PENALES | C70: 2702 | D70: 2854 | E70: =IF(C70>0,(D70-C70)/C70,"-") -> 0.056254626
B71: Diligencia Urgentes | C71: 1464 | D71: 1234 | E71: =IF(C71>0,(D71-C71)/C71,"-") -> -0.15710383
B72: Sumarios | C72: 3 | D72: 8 | E72: =IF(C72>0,(D72-C72)/C72,"-") -> 1.6666667
B73: Diligencia Previas | C73: 847 | D73: 1248 | E73: =IF(C73>0,(D73-C73)/C73,"-") -> 0.47343566
...

Sheet Cantabria
B11: =Portada!B9 -> 2º Trimestre 2026
C13: 2º trimestre 2025 | D13: 2º trimestre 2026 | E13: Evolución
B14: DENUNCIAS RECIBIDAS - TOTAL | C14: 545 | D14: 487 | E14: =IF(C14>0,(D14-C14)/C14) -> -0.10642202
B15: VÍCTIMAS | C15: 488 | D15: 449 | E15: =IF(C15>0,(D15-C15)/C15) -> -0.079918033
B16: Víctimas Españolas | C16: 315 | D16: 283 | E16: =IF(C16>0,(D16-C16)/C16) -> -0.1015873
B17: Víctimas Extranjeras | C17: 173 | D17: 166 | E17: =IF(C17>0,(D17-C17)/C17) -> -0.040462428
B18: Víctimas Españolas menores | C18: 0 | D18: 0 | E18: =IF(C18=0,"-",(D18-C18)/C18) -> -
B19: Víctimas Extranjeras menores | C19: 0 | D19: 1 | E19: =IF(C19=0,"-",(D19-C19)/C19) -> -
B20: % Extranjeras entre las víctimas | C20: =C17/C15 -> 0.3545082 | D20: =D17/D15 -> 0.36971047 | E20: =IF(C20>0,(D20-C20)/C20) -> 0.042882707
B21: RENUNCIAS (La victima se acoge a la dispensa a la obligacion de declarar como testigo) | C21: 73 | D21: 118 | E21: =IF(C21>0,(D21-C21)/C21) -> 0.61643836
B22: Renuncias por Española | C22: 44 | D22: 69 | E22: =IF(C22>0,(D22-C22)/C22) -> 0.56818182
B23: Renuncias por Extranjera | C23: 29 | D23: 49 | E23: =IF(C23>0,(D23-C23)/C23) -> 0.68965517
B24: % Extranjeras entre las Renuncias | C24: =C23/C21 -> 0.39726027 | D24: =D23/D21 -> 0.41525424 | E24: =IF(C24>0,(D24-C24)/C24) -> 0.045295149
B25: Víctimas de Violencia de Género cada 10.000 Mujeres | C25: 0.15939222 | D25: 0.14665391 | E25: =IF(C25>0,(D25-C25)/C25) -> -0.079918033
C33: 2º trimestre 2025 | D33: 2º trimestre 2026 | E33: Evolución
B34: Incoadas | C34: 114 | D34: 120 | E34: =IF(C34>0,(D34-C34)/C34,"-") -> 0.052631579
B35: Inadmitidas | C35: 0 | D35: 0 | E35: =IF(C35>0,(D35-C35)/C35,"-") -> -
B36: Adoptadas | C36: 76 | D36: 71 | E36: =IF(C36>0,(D36-C36)/C36,"-") -> -0.065789474
B37: Denegadas | C37: 38 | D37: 49 | E37: =IF(C37>0,(D37-C37)/C37,"-") -> 0.28947368
C43: 2º trimestre 2025 | D43: 2º trimestre 2026 | E43: Evolución
B44: Sentencias Condenatorias | C44: 98 | D44: 88 | E44: =IF(C44>0,(D44-C44)/C44,"-") -> -0.10204082
B45: Sentencias Absolutorias | C45: 4 | D45: 8 | E45: =IF(C45>0,(D45-C45)/C45,"-") -> 1
B46: Sobreseimientos libres | C46: 11 | D46: 6 | E46: =IF(C46>0,(D46-C46)/C46,"-") -> -0.45454545
B47: Sobreseimientos provisionales | C47: 168 | D47: 199 | E47: =IF(C47>0,(D47-C47)/C47,"-") -> 0.18452381
B48: Elevación | C48: 71 | D48: 47 | E48: =IF(C48>0,(D48-C48)/C48,"-") -> -0.33802817
B49: Otras | C49: 21 | D49: 53 | E49: =IF(C49>0,(D49-C49)/C49,"-") -> 1.5238095
B50: Porcentaje Sentencias Condenatorias | C50: =C44/(C44+C45) -> 0.96078431 | D50: =D44/(D44+D45) -> 0.91666667 | E50: =IF(C50>0,(D50-C50)/C50,"-") -> -0.045918367
B51: Porcentaje Terminacion por SP | C51: =C47/(C46+C47) -> 0.93854749 | D51: =D47/(D46+D47) -> 0.97073171 | E51: =IF(C51>0,(D51-C51)/C51,"-") -> 0.034291521
C57: 2º trimestre 2025 | D57: 2º trimestre 2026 | E57: Evolución
B58: Personas enjuiciadas | C58: 102 | D58: 96 | E58: =IF(C58>0,(D58-C58)/C58,"-") -> -0.058823529
B59: Condenado Español | C59: 64 | D59: 58 | E59: =IF(C59>0,(D59-C59)/C59,"-") -> -0.09375
B60: Condenado Extranjero | C60: 34 | D60: 30 | E60: =IF(C60>0,(D60-C60)/C60,"-") -> -0.11764706
B61: % condenados entre los enjuiciados | C61: =(C59+C60)/C58 -> 0.96078431 | D61: =(D59+D60)/D58 -> 0.91666667 | E61: =IF(C61>0,(D61-C61)/C61,"-") -> -0.045918367
B62: % condenas entre los españoles enjuiciados | C62: 0.95522388 | D62: 0.90625 | E62: =IF(C62>0,(D62-C62)/C62,"-") -> -0.051269531
B63: % condenas entre los extranjeros enjuiciados | C63: 0.97142857 | D63: 0.9375 | E63: =IF(C63>0,(D63-C63)/C63,"-") -> -0.034926471
C69: 2º trimestre 2025 | D69: 2º trimestre 2026 | E69: Evolución
B70: ASUNTOS PENALES | C70: 540 | D70: 522 | E70: =IF(C70>0,(D70-C70)/C70,"-") -> -0.033333333
B71: Diligencia Urgentes | C71: 203 | D71: 225 | E71: =IF(C71>0,(D71-C71)/C71,"-") -> 0.10837438
B72: Sumarios | C72: 0 | D72: 0 | E72: =IF(C72>0,(D72-C72)/C72,"-") -> -
B73: Diligencia Previas | C73: 245 | D73: 210 | E73: =IF(C73>0,(D73-C73)/C73,"-") -> -0.14285714
...

Sheet Castilla y León
B11: =Portada!B9 -> 2º Trimestre 2026
C13: 2º trimestre 2025 | D13: 2º trimestre 2026 | E13: Evolución
B14: DENUNCIAS RECIBIDAS - TOTAL | C14: 1542 | D14: 1660 | E14: =IF(C14>0,(D14-C14)/C14) -> 0.076523995
B15: VÍCTIMAS | C15: 1444 | D15: 1489 | E15: =IF(C15>0,(D15-C15)/C15) -> 0.031163435
B16: Víctimas Españolas | C16: 914 | D16: 913 | E16: =IF(C16>0,(D16-C16)/C16) -> -0.0010940919
B17: Víctimas Extranjeras | C17: 530 | D17: 576 | E17: =IF(C17>0,(D17-C17)/C17) -> 0.086792453
B18: Víctimas Españolas menores | C18: 11 | D18: 4 | E18: =IF(C18=0,"-",(D18-C18)/C18) -> -0.63636364
B19: Víctimas Extranjeras menores | C19: 0 | D19: 2 | E19: =IF(C19=0,"-",(D19-C19)/C19) -> -
B20: % Extranjeras entre las víctimas | C20: =C17/C15 -> 0.36703601 | D20: =D17/D15 -> 0.3868368 | E20: =IF(C20>0,(D20-C20)/C20) -> 0.053947819
B21: RENUNCIAS (La victima se acoge a la dispensa a la obligacion de declarar como testigo) | C21: 147 | D21: 183 | E21: =IF(C21>0,(D21-C21)/C21) -> 0.24489796
B22: Renuncias por Española | C22: 74 | D22: 80 | E22: =IF(C22>0,(D22-C22)/C22) -> 0.081081081
B23: Renuncias por Extranjera | C23: 73 | D23: 103 | E23: =IF(C23>0,(D23-C23)/C23) -> 0.4109589
B24: % Extranjeras entre las Renuncias | C24: =C23/C21 -> 0.49659864 | D24: =D23/D21 -> 0.56284153 | E24: =IF(C24>0,(D24-C24)/C24) -> 0.13339322
B25: Víctimas de Violencia de Género cada 10.000 Mujeres | C25: 0.11852358 | D25: 0.12221718 | E25: =IF(C25>0,(D25-C25)/C25) -> 0.031163435
C33: 2º trimestre 2025 | D33: 2º trimestre 2026 | E33: Evolución
B34: Incoadas | C34: 476 | D34: 499 | E34: =IF(C34>0,(D34-C34)/C34,"-") -> 0.048319328
B35: Inadmitidas | C35: 1 | D35: 1 | E35: =IF(C35>0,(D35-C35)/C35,"-") -> 0
B36: Adoptadas | C36: 334 | D36: 369 | E36: =IF(C36>0,(D36-C36)/C36,"-") -> 0.10479042
B37: Denegadas | C37: 141 | D37: 129 | E37: =IF(C37>0,(D37-C37)/C37,"-") -> -0.085106383
C43: 2º trimestre 2025 | D43: 2º trimestre 2026 | E43: Evolución
B44: Sentencias Condenatorias | C44: 267 | D44: 209 | E44: =IF(C44>0,(D44-C44)/C44,"-") -> -0.21722846
B45: Sentencias Absolutorias | C45: 22 | D45: 26 | E45: =IF(C45>0,(D45-C45)/C45,"-") -> 0.18181818
B46: Sobreseimientos libres | C46: 14 | D46: 20 | E46: =IF(C46>0,(D46-C46)/C46,"-") -> 0.42857143
B47: Sobreseimientos provisionales | C47: 624 | D47: 888 | E47: =IF(C47>0,(D47-C47)/C47,"-") -> 0.42307692
B48: Elevación | C48: 367 | D48: 317 | E48: =IF(C48>0,(D48-C48)/C48,"-") -> -0.13623978
B49: Otras | C49: 141 | D49: 196 | E49: =IF(C49>0,(D49-C49)/C49,"-") -> 0.39007092
B50: Porcentaje Sentencias Condenatorias | C50: =C44/(C44+C45) -> 0.92387543 | D50: =D44/(D44+D45) -> 0.8893617 | E50: =IF(C50>0,(D50-C50)/C50,"-") -> -0.037357558
B51: Porcentaje Terminacion por SP | C51: =C47/(C46+C47) -> 0.97805643 | D51: =D47/(D46+D47) -> 0.97797357 | E51: =IF(C51>0,(D51-C51)/C51,"-") -> -8.4717045e-05
C57: 2º trimestre 2025 | D57: 2º trimestre 2026 | E57: Evolución
B58: Personas enjuiciadas | C58: 289 | D58: 236 | E58: =IF(C58>0,(D58-C58)/C58,"-") -> -0.183391
B59: Condenado Español | C59: 181 | D59: 129 | E59: =IF(C59>0,(D59-C59)/C59,"-") -> -0.28729282
B60: Condenado Extranjero | C60: 86 | D60: 81 | E60: =IF(C60>0,(D60-C60)/C60,"-") -> -0.058139535
B61: % condenados entre los enjuiciados | C61: =(C59+C60)/C58 -> 0.92387543 | D61: =(D59+D60)/D58 -> 0.88983051 | E61: =IF(C61>0,(D61-C61)/C61,"-") -> -0.036850124
B62: % condenas entre los españoles enjuiciados | C62: 0.93298969 | D62: 0.84868421 | E62: =IF(C62>0,(D62-C62)/C62,"-") -> -0.09036057
B63: % condenas entre los extranjeros enjuiciados | C63: 0.90526316 | D63: 0.96428571 | E63: =IF(C63>0,(D63-C63)/C63,"-") -> 0.065199336
C69: 2º trimestre 2025 | D69: 2º trimestre 2026 | E69: Evolución
B70: ASUNTOS PENALES | C70: 1931 | D70: 1963 | E70: =IF(C70>0,(D70-C70)/C70,"-") -> 0.016571724
B71: Diligencia Urgentes | C71: 568 | D71: 622 | E71: =IF(C71>0,(D71-C71)/C71,"-") -> 0.095070423
B72: Sumarios | C72: 4 | D72: 7 | E72: =IF(C72>0,(D72-C72)/C72,"-") -> 0.75
B73: Diligencia Previas | C73: 989 | D73: 900 | E73: =IF(C73>0,(D73-C73)/C73,"-") -> -0.089989889
...

Sheet Castilla La Mancha
B11: =Portada!B9 -> 2º Trimestre 2026
C13: 2º trimestre 2025 | D13: 2º trimestre 2026 | E13: Evolución
B14: DENUNCIAS RECIBIDAS - TOTAL | C14: 1799 | D14: 2169 | E14: =IF(C14>0,(D14-C14)/C14) -> 0.20566982
B15: VÍCTIMAS | C15: 1562 | D15: 1922 | E15: =IF(C15>0,(D15-C15)/C15) -> 0.23047375
B16: Víctimas Españolas | C16: 974 | D16: 1207 | E16: =IF(C16>0,(D16-C16)/C16) -> 0.23921971
B17: Víctimas Extranjeras | C17: 588 | D17: 715 | E17: =IF(C17>0,(D17-C17)/C17) -> 0.21598639
B18: Víctimas Españolas menores | C18: 7 | D18: 1 | E18: =IF(C18=0,"-",(D18-C18)/C18) -> -0.85714286
B19: Víctimas Extranjeras menores | C19: 2 | D19: 3 | E19: =IF(C19=0,"-",(D19-C19)/C19) -> 0.5
B20: % Extranjeras entre las víctimas | C20: =C17/C15 -> 0.37644046 | D20: =D17/D15 -> 0.37200832 | E20: =IF(C20>0,(D20-C20)/C20) -> -0.011773804
B21: RENUNCIAS (La victima se acoge a la dispensa a la obligacion de declarar como testigo) | C21: 238 | D21: 185 | E21: =IF(C21>0,(D21-C21)/C21) -> -0.22268908
B22: Renuncias por Española | C22: 145 | D22: 106 | E22: =IF(C22>0,(D22-C22)/C22) -> -0.26896552
B23: Renuncias por Extranjera | C23: 93 | D23: 79 | E23: =IF(C23>0,(D23-C23)/C23) -> -0.15053763
B24: % Extranjeras entre las Renuncias | C24: =C23/C21 -> 0.3907563 | D24: =D23/D21 -> 0.42702703 | E24: =IF(C24>0,(D24-C24)/C24) -> 0.092821854
B25: Víctimas de Violencia de Género cada 10.000 Mujeres | C25: 0.14751463 | D25: 0.18151288 | E25: =IF(C25>0,(D25-C25)/C25) -> 0.23047375
C33: 2º trimestre 2025 | D33: 2º trimestre 2026 | E33: Evolución
B34: Incoadas | C34: 445 | D34: 493 | E34: =IF(C34>0,(D34-C34)/C34,"-") -> 0.10786517
B35: Inadmitidas | C35: 0 | D35: 6 | E35: =IF(C35>0,(D35-C35)/C35,"-") -> -
B36: Adoptadas | C36: 303 | D36: 361 | E36: =IF(C36>0,(D36-C36)/C36,"-") -> 0.19141914
B37: Denegadas | C37: 142 | D37: 126 | E37: =IF(C37>0,(D37-C37)/C37,"-") -> -0.11267606
C43: 2º trimestre 2025 | D43: 2º trimestre 2026 | E43: Evolución
B44: Sentencias Condenatorias | C44: 285 | D44: 282 | E44: =IF(C44>0,(D44-C44)/C44,"-") -> -0.010526316
B45: Sentencias Absolutorias | C45: 20 | D45: 26 | E45: =IF(C45>0,(D45-C45)/C45,"-") -> 0.3
B46: Sobreseimientos libres | C46: 11 | D46: 15 | E46: =IF(C46>0,(D46-C46)/C46,"-") -> 0.36363636
B47: Sobreseimientos provisionales | C47: 819 | D47: 791 | E47: =IF(C47>0,(D47-C47)/C47,"-") -> -0.034188034
B48: Elevación | C48: 380 | D48: 378 | E48: =IF(C48>0,(D48-C48)/C48,"-") -> -0.0052631579
B49: Otras | C49: 136 | D49: 298 | E49: =IF(C49>0,(D49-C49)/C49,"-") -> 1.1911765
B50: Porcentaje Sentencias Condenatorias | C50: =C44/(C44+C45) -> 0.93442623 | D50: =D44/(D44+D45) -> 0.91558442 | E50: =IF(C50>0,(D50-C50)/C50,"-") -> -0.020164046
B51: Porcentaje Terminacion por SP | C51: =C47/(C46+C47) -> 0.98674699 | D51: =D47/(D46+D47) -> 0.98138958 | E51: =IF(C51>0,(D51-C51)/C51,"-") -> -0.0054293652
C57: 2º trimestre 2025 | D57: 2º trimestre 2026 | E57: Evolución
B58: Personas enjuiciadas | C58: 305 | D58: 309 | E58: =IF(C58>0,(D58-C58)/C58,"-") -> 0.013114754
B59: Condenado Español | C59: 193 | D59: 183 | E59: =IF(C59>0,(D59-C59)/C59,"-") -> -0.051813472
B60: Condenado Extranjero | C60: 92 | D60: 100 | E60: =IF(C60>0,(D60-C60)/C60,"-") -> 0.086956522
B61: % condenados entre los enjuiciados | C61: =(C59+C60)/C58 -> 0.93442623 | D61: =(D59+D60)/D58 -> 0.91585761 | E61: =IF(C61>0,(D61-C61)/C61,"-") -> -0.019871686
B62: % condenas entre los españoles enjuiciados | C62: 0.93236715 | D62: 0.90594059 | E62: =IF(C62>0,(D62-C62)/C62,"-") -> -0.028343508
B63: % condenas entre los extranjeros enjuiciados | C63: 0.93877551 | D63: 0.93457944 | E63: =IF(C63>0,(D63-C63)/C63,"-") -> -0.0044697278
C69: 2º trimestre 2025 | D69: 2º trimestre 2026 | E69: Evolución
B70: ASUNTOS PENALES | C70: 2004 | D70: 2407 | E70: =IF(C70>0,(D70-C70)/C70,"-") -> 0.2010978
B71: Diligencia Urgentes | C71: 768 | D71: 820 | E71: =IF(C71>0,(D71-C71)/C71,"-") -> 0.067708333
B72: Sumarios | C72: 5 | D72: 6 | E72: =IF(C72>0,(D72-C72)/C72,"-") -> 0.2
B73: Diligencia Previas | C73: 837 | D73: 1054 | E73: =IF(C73>0,(D73-C73)/C73,"-") -> 0.25925926
...

Sheet Cataluña
B11: =Portada!B9 -> 2º Trimestre 2026
C13: 2º trimestre 2025 | D13: 2º trimestre 2026 | E13: Evolución
B14: DENUNCIAS RECIBIDAS - TOTAL | C14: 6382 | D14: 6765 | E14: =IF(C14>0,(D14-C14)/C14) -> 0.060012535
B15: VÍCTIMAS | C15: 6245 | D15: 6603 | E15: =IF(C15>0,(D15-C15)/C15) -> 0.057325861
B16: Víctimas Españolas | C16: 3396 | D16: 3503 | E16: =IF(C16>0,(D16-C16)/C16) -> 0.031507656
B17: Víctimas Extranjeras | C17: 2849 | D17: 3100 | E17: =IF(C17>0,(D17-C17)/C17) -> 0.088101088
B18: Víctimas Españolas menores | C18: 3 | D18: 10 | E18: =IF(C18=0,"-",(D18-C18)/C18) -> 2.3333333
B19: Víctimas Extranjeras menores | C19: 0 | D19: 3 | E19: =IF(C19=0,"-",(D19-C19)/C19) -> -
B20: % Extranjeras entre las víctimas | C20: =C17/C15 -> 0.45620496 | D20: =D17/D15 -> 0.46948357 | E20: =IF(C20>0,(D20-C20)/C20) -> 0.029106663
B21: RENUNCIAS (La victima se acoge a la dispensa a la obligacion de declarar como testigo) | C21: 753 | D21: 707 | E21: =IF(C21>0,(D21-C21)/C21) -> -0.061088977
B22: Renuncias por Española | C22: 381 | D22: 370 | E22: =IF(C22>0,(D22-C22)/C22) -> -0.028871391
B23: Renuncias por Extranjera | C23: 372 | D23: 337 | E23: =IF(C23>0,(D23-C23)/C23) -> -0.094086022
B24: % Extranjeras entre las Renuncias | C24: =C23/C21 -> 0.4940239 | D24: =D23/D21 -> 0.47666195 | E24: =IF(C24>0,(D24-C24)/C24) -> -0.035143952
B25: Víctimas de Violencia de Género cada 10.000 Mujeres | C25: 0.15167736 | D25: 0.1603724 | E25: =IF(C25>0,(D25-C25)/C25) -> 0.057325861
C33: 2º trimestre 2025 | D33: 2º trimestre 2026 | E33: Evolución
B34: Incoadas | C34: 1441 | D34: 1165 | E34: =IF(C34>0,(D34-C34)/C34,"-") -> -0.19153366
B35: Inadmitidas | C35: 43 | D35: 17 | E35: =IF(C35>0,(D35-C35)/C35,"-") -> -0.60465116
B36: Adoptadas | C36: 706 | D36: 595 | E36: =IF(C36>0,(D36-C36)/C36,"-") -> -0.1572238
B37: Denegadas | C37: 692 | D37: 553 | E37: =IF(C37>0,(D37-C37)/C37,"-") -> -0.20086705
C43: 2º trimestre 2025 | D43: 2º trimestre 2026 | E43: Evolución
B44: Sentencias Condenatorias | C44: 626 | D44: 738 | E44: =IF(C44>0,(D44-C44)/C44,"-") -> 0.17891374
B45: Sentencias Absolutorias | C45: 63 | D45: 51 | E45: =IF(C45>0,(D45-C45)/C45,"-") -> -0.19047619
B46: Sobreseimientos libres | C46: 159 | D46: 91 | E46: =IF(C46>0,(D46-C46)/C46,"-") -> -0.42767296
B47: Sobreseimientos provisionales | C47: 2471 | D47: 2330 | E47: =IF(C47>0,(D47-C47)/C47,"-") -> -0.057061918
B48: Elevación | C48: 1885 | D48: 1720 | E48: =IF(C48>0,(D48-C48)/C48,"-") -> -0.087533156
B49: Otras | C49: 878 | D49: 1707 | E49: =IF(C49>0,(D49-C49)/C49,"-") -> 0.94419134
B50: Porcentaje Sentencias Condenatorias | C50: =C44/(C44+C45) -> 0.90856313 | D50: =D44/(D44+D45) -> 0.93536122 | E50: =IF(C50>0,(D50-C50)/C50,"-") -> 0.029495013
B51: Porcentaje Terminacion por SP | C51: =C47/(C46+C47) -> 0.93954373 | D51: =D47/(D46+D47) -> 0.96241223 | E51: =IF(C51>0,(D51-C51)/C51,"-") -> 0.024340006
C57: 2º trimestre 2025 | D57: 2º trimestre 2026 | E57: Evolución
B58: Personas enjuiciadas | C58: 694 | D58: 795 | E58: =IF(C58>0,(D58-C58)/C58,"-") -> 0.14553314
B59: Condenado Español | C59: 317 | D59: 360 | E59: =IF(C59>0,(D59-C59)/C59,"-") -> 0.13564669
B60: Condenado Extranjero | C60: 313 | D60: 384 | E60: =IF(C60>0,(D60-C60)/C60,"-") -> 0.22683706
B61: % condenados entre los enjuiciados | C61: =(C59+C60)/C58 -> 0.90778098 | D61: =(D59+D60)/D58 -> 0.93584906 | E61: =IF(C61>0,(D61-C61)/C61,"-") -> 0.030919437
B62: % condenas entre los españoles enjuiciados | C62: 0.91884058 | D62: 0.92307692 | E62: =IF(C62>0,(D62-C62)/C62,"-") -> 0.0046105314
B63: % condenas entre los extranjeros enjuiciados | C63: 0.89684814 | D63: 0.94814815 | E63: =IF(C63>0,(D63-C63)/C63,"-") -> 0.057200331
C69: 2º trimestre 2025 | D69: 2º trimestre 2026 | E69: Evolución
B70: ASUNTOS PENALES | C70: 8370 | D70: 8276 | E70: =IF(C70>0,(D70-C70)/C70,"-") -> -0.011230585
B71: Diligencia Urgentes | C71: 2883 | D71: 2609 | E71: =IF(C71>0,(D71-C71)/C71,"-") -> -0.095039889
B72: Sumarios | C72: 73 | D72: 70 | E72: =IF(C72>0,(D72-C72)/C72,"-") -> -0.04109589
B73: Diligencia Previas | C73: 3308 | D73: 3805 | E73: =IF(C73>0,(D73-C73)/C73,"-") -> 0.15024184
...

Sheet Com. Valenciana
B11: =Portada!B9 -> 2º Trimestre 2026
C13: 2º trimestre 2025 | D13: 2º trimestre 2026 | E13: Evolución
B14: DENUNCIAS RECIBIDAS - TOTAL | C14: 6982 | D14: 7284 | E14: =IF(C14>0,(D14-C14)/C14) -> 0.043254082
B15: VÍCTIMAS | C15: 6497 | D15: 6576 | E15: =IF(C15>0,(D15-C15)/C15) -> 0.012159458
B16: Víctimas Españolas | C16: 3793 | D16: 3632 | E16: =IF(C16>0,(D16-C16)/C16) -> -0.042446612
B17: Víctimas Extranjeras | C17: 2704 | D17: 2944 | E17: =IF(C17>0,(D17-C17)/C17) -> 0.088757396
B18: Víctimas Españolas menores | C18: 6 | D18: 9 | E18: =IF(C18=0,"-",(D18-C18)/C18) -> 0.5
B19: Víctimas Extranjeras menores | C19: 5 | D19: 1 | E19: =IF(C19=0,"-",(D19-C19)/C19) -> -0.8
B20: % Extranjeras entre las víctimas | C20: =C17/C15 -> 0.41619209 | D20: =D17/D15 -> 0.44768856 | E20: =IF(C20>0,(D20-C20)/C20) -> 0.075677738
B21: RENUNCIAS (La victima se acoge a la dispensa a la obligacion de declarar como testigo) | C21: 1035 | D21: 888 | E21: =IF(C21>0,(D21-C21)/C21) -> -0.14202899
B22: Renuncias por Española | C22: 543 | D22: 456 | E22: =IF(C22>0,(D22-C22)/C22) -> -0.16022099
B23: Renuncias por Extranjera | C23: 492 | D23: 432 | E23: =IF(C23>0,(D23-C23)/C23) -> -0.12195122
B24: % Extranjeras entre las Renuncias | C24: =C23/C21 -> 0.47536232 | D24: =D23/D21 -> 0.48648649 | E24: =IF(C24>0,(D24-C24)/C24) -> 0.02340145
B25: Víctimas de Violencia de Género cada 10.000 Mujeres | C25: 0.23585788 | D25: 0.23872578 | E25: =IF(C25>0,(D25-C25)/C25) -> 0.012159458
C33: 2º trimestre 2025 | D33: 2º trimestre 2026 | E33: Evolución
B34: Incoadas | C34: 1250 | D34: 1347 | E34: =IF(C34>0,(D34-C34)/C34,"-") -> 0.0776
B35: Inadmitidas | C35: 2 | D35: 8 | E35: =IF(C35>0,(D35-C35)/C35,"-") -> 3
B36: Adoptadas | C36: 928 | D36: 1072 | E36: =IF(C36>0,(D36-C36)/C36,"-") -> 0.15517241
B37: Denegadas | C37: 320 | D37: 267 | E37: =IF(C37>0,(D37-C37)/C37,"-") -> -0.165625
C43: 2º trimestre 2025 | D43: 2º trimestre 2026 | E43: Evolución
B44: Sentencias Condenatorias | C44: 1209 | D44: 1215 | E44: =IF(C44>0,(D44-C44)/C44,"-") -> 0.0049627792
B45: Sentencias Absolutorias | C45: 88 | D45: 74 | E45: =IF(C45>0,(D45-C45)/C45,"-") -> -0.15909091
B46: Sobreseimientos libres | C46: 116 | D46: 113 | E46: =IF(C46>0,(D46-C46)/C46,"-") -> -0.025862069
B47: Sobreseimientos provisionales | C47: 1942 | D47: 2152 | E47: =IF(C47>0,(D47-C47)/C47,"-") -> 0.10813594
B48: Elevación | C48: 1153 | D48: 1138 | E48: =IF(C48>0,(D48-C48)/C48,"-") -> -0.01300954
B49: Otras | C49: 1543 | D49: 1711 | E49: =IF(C49>0,(D49-C49)/C49,"-") -> 0.10887881
B50: Porcentaje Sentencias Condenatorias | C50: =C44/(C44+C45) -> 0.93215112 | D50: =D44/(D44+D45) -> 0.94259116 | E50: =IF(C50>0,(D50-C50)/C50,"-") -> 0.011199941
B51: Porcentaje Terminacion por SP | C51: =C47/(C46+C47) -> 0.9436346 | D51: =D47/(D46+D47) -> 0.95011038 | E51: =IF(C51>0,(D51-C51)/C51,"-") -> 0.0068625913
C57: 2º trimestre 2025 | D57: 2º trimestre 2026 | E57: Evolución
B58: Personas enjuiciadas | C58: 1297 | D58: 1325 | E58: =IF(C58>0,(D58-C58)/C58,"-") -> 0.021588281
B59: Condenado Español | C59: 728 | D59: 683 | E59: =IF(C59>0,(D59-C59)/C59,"-") -> -0.061813187
B60: Condenado Extranjero | C60: 481 | D60: 568 | E60: =IF(C60>0,(D60-C60)/C60,"-") -> 0.18087318
B61: % condenados entre los enjuiciados | C61: =(C59+C60)/C58 -> 0.93215112 | D61: =(D59+D60)/D58 -> 0.94415094 | E61: =IF(C61>0,(D61-C61)/C61,"-") -> 0.012873262
B62: % condenas entre los españoles enjuiciados | C62: 0.93573265 | D62: 0.93051771 | E62: =IF(C62>0,(D62-C62)/C62,"-") -> -0.0055731054
B63: % condenas entre los extranjeros enjuiciados | C63: 0.92678227 | D63: 0.96108291 | E63: =IF(C63>0,(D63-C63)/C63,"-") -> 0.037010458
C69: 2º trimestre 2025 | D69: 2º trimestre 2026 | E69: Evolución
B70: ASUNTOS PENALES | C70: 7978 | D70: 8496 | E70: =IF(C70>0,(D70-C70)/C70,"-") -> 0.064928554
B71: Diligencia Urgentes | C71: 2244 | D71: 2440 | E71: =IF(C71>0,(D71-C71)/C71,"-") -> 0.087344029
B72: Sumarios | C72: 21 | D72: 16 | E72: =IF(C72>0,(D72-C72)/C72,"-") -> -0.23809524
B73: Diligencia Previas | C73: 4220 | D73: 4573 | E73: =IF(C73>0,(D73-C73)/C73,"-") -> 0.083649289
...

Sheet Extremadura
B11: =Portada!B9 -> 2º Trimestre 2026
C13: 2º trimestre 2025 | D13: 2º trimestre 2026 | E13: Evolución
B14: DENUNCIAS RECIBIDAS - TOTAL | C14: 797 | D14: 1019 | E14: =IF(C14>0,(D14-C14)/C14) -> 0.27854454
B15: VÍCTIMAS | C15: 749 | D15: 834 | E15: =IF(C15>0,(D15-C15)/C15) -> 0.11348465
B16: Víctimas Españolas | C16: 672 | D16: 748 | E16: =IF(C16>0,(D16-C16)/C16) -> 0.11309524
B17: Víctimas Extranjeras | C17: 77 | D17: 86 | E17: =IF(C17>0,(D17-C17)/C17) -> 0.11688312
B18: Víctimas Españolas menores | C18: 9 | D18: 0 | E18: =IF(C18=0,"-",(D18-C18)/C18) -> -1
B19: Víctimas Extranjeras menores | C19: 0 | D19: 0 | E19: =IF(C19=0,"-",(D19-C19)/C19) -> -
B20: % Extranjeras entre las víctimas | C20: =C17/C15 -> 0.10280374 | D20: =D17/D15 -> 0.10311751 | E20: =IF(C20>0,(D20-C20)/C20) -> 0.0030521038
B21: RENUNCIAS (La victima se acoge a la dispensa a la obligacion de declarar como testigo) | C21: 21 | D21: 67 | E21: =IF(C21>0,(D21-C21)/C21) -> 2.1904762
B22: Renuncias por Española | C22: 21 | D22: 58 | E22: =IF(C22>0,(D22-C22)/C22) -> 1.7619048
B23: Renuncias por Extranjera | C23: 0 | D23: 9 | E23: =IF(C23>0,(D23-C23)/C23) -> FALSE
B24: % Extranjeras entre las Renuncias | C24: =C23/C21 -> 0 | D24: =D23/D21 -> 0.13432836 | E24: =IF(C24>0,(D24-C24)/C24) -> FALSE
B25: Víctimas de Violencia de Género cada 10.000 Mujeres | C25: 0.14054827 | D25: 0.15649834 | E25: =IF(C25>0,(D25-C25)/C25) -> 0.11348465
C33: 2º trimestre 2025 | D33: 2º trimestre 2026 | E33: Evolución
B34: Incoadas | C34: 222 | D34: 164 | E34: =IF(C34>0,(D34-C34)/C34,"-") -> -0.26126126
B35: Inadmitidas | C35: 2 | D35: 0 | E35: =IF(C35>0,(D35-C35)/C35,"-") -> -1
B36: Adoptadas | C36: 154 | D36: 106 | E36: =IF(C36>0,(D36-C36)/C36,"-") -> -0.31168831
B37: Denegadas | C37: 66 | D37: 58 | E37: =IF(C37>0,(D37-C37)/C37,"-") -> -0.12121212
C43: 2º trimestre 2025 | D43: 2º trimestre 2026 | E43: Evolución
B44: Sentencias Condenatorias | C44: 172 | D44: 220 | E44: =IF(C44>0,(D44-C44)/C44,"-") -> 0.27906977
B45: Sentencias Absolutorias | C45: 6 | D45: 11 | E45: =IF(C45>0,(D45-C45)/C45,"-") -> 0.83333333
B46: Sobreseimientos libres | C46: 11 | D46: 16 | E46: =IF(C46>0,(D46-C46)/C46,"-") -> 0.45454545
B47: Sobreseimientos provisionales | C47: 267 | D47: 308 | E47: =IF(C47>0,(D47-C47)/C47,"-") -> 0.15355805
B48: Elevación | C48: 157 | D48: 139 | E48: =IF(C48>0,(D48-C48)/C48,"-") -> -0.11464968
B49: Otras | C49: 43 | D49: 210 | E49: =IF(C49>0,(D49-C49)/C49,"-") -> 3.8837209
B50: Porcentaje Sentencias Condenatorias | C50: =C44/(C44+C45) -> 0.96629213 | D50: =D44/(D44+D45) -> 0.95238095 | E50: =IF(C50>0,(D50-C50)/C50,"-") -> -0.014396456
B51: Porcentaje Terminacion por SP | C51: =C47/(C46+C47) -> 0.96043165 | D51: =D47/(D46+D47) -> 0.95061728 | E51: =IF(C51>0,(D51-C51)/C51,"-") -> -0.010218708
C57: 2º trimestre 2025 | D57: 2º trimestre 2026 | E57: Evolución
B58: Personas enjuiciadas | C58: 180 | D58: 231 | E58: =IF(C58>0,(D58-C58)/C58,"-") -> 0.28333333
B59: Condenado Español | C59: 150 | D59: 200 | E59: =IF(C59>0,(D59-C59)/C59,"-") -> 0.33333333
B60: Condenado Extranjero | C60: 24 | D60: 20 | E60: =IF(C60>0,(D60-C60)/C60,"-") -> -0.16666667
B61: % condenados entre los enjuiciados | C61: =(C59+C60)/C58 -> 0.96666667 | D61: =(D59+D60)/D58 -> 0.95238095 | E61: =IF(C61>0,(D61-C61)/C61,"-") -> -0.014778325
B62: % condenas entre los españoles enjuiciados | C62: 0.96153846 | D62: 0.9478673 | E62: =IF(C62>0,(D62-C62)/C62,"-") -> -0.014218009
B63: % condenas entre los extranjeros enjuiciados | C63: 1 | D63: 1 | E63: =IF(C63>0,(D63-C63)/C63,"-") -> 0
C69: 2º trimestre 2025 | D69: 2º trimestre 2026 | E69: Evolución
B70: ASUNTOS PENALES | C70: 884 | D70: 1081 | E70: =IF(C70>0,(D70-C70)/C70,"-") -> 0.22285068
B71: Diligencia Urgentes | C71: 271 | D71: 478 | E71: =IF(C71>0,(D71-C71)/C71,"-") -> 0.76383764
B72: Sumarios | C72: 1 | D72: 3 | E72: =IF(C72>0,(D72-C72)/C72,"-") -> 2
B73: Diligencia Previas | C73: 402 | D73: 437 | E73: =IF(C73>0,(D73-C73)/C73,"-") -> 0.087064677
...

Sheet Galicia
B11: =Portada!B9 -> 2º Trimestre 2026
C13: 2º trimestre 2025 | D13: 2º trimestre 2026 | E13: Evolución
B14: DENUNCIAS RECIBIDAS - TOTAL | C14: 2051 | D14: 2222 | E14: =IF(C14>0,(D14-C14)/C14) -> 0.083373964
B15: VÍCTIMAS | C15: 1862 | D15: 1946 | E15: =IF(C15>0,(D15-C15)/C15) -> 0.045112782
B16: Víctimas Españolas | C16: 1493 | D16: 1425 | E16: =IF(C16>0,(D16-C16)/C16) -> -0.045545881
B17: Víctimas Extranjeras | C17: 369 | D17: 521 | E17: =IF(C17>0,(D17-C17)/C17) -> 0.41192412
B18: Víctimas Españolas menores | C18: 3 | D18: 5 | E18: =IF(C18=0,"-",(D18-C18)/C18) -> 0.66666667
B19: Víctimas Extranjeras menores | C19: 0 | D19: 4 | E19: =IF(C19=0,"-",(D19-C19)/C19) -> -
B20: % Extranjeras entre las víctimas | C20: =C17/C15 -> 0.19817401 | D20: =D17/D15 -> 0.26772867 | E20: =IF(C20>0,(D20-C20)/C20) -> 0.35097775
B21: RENUNCIAS (La victima se acoge a la dispensa a la obligacion de declarar como testigo) | C21: 121 | D21: 117 | E21: =IF(C21>0,(D21-C21)/C21) -> -0.033057851
B22: Renuncias por Española | C22: 94 | D22: 86 | E22: =IF(C22>0,(D22-C22)/C22) -> -0.085106383
B23: Renuncias por Extranjera | C23: 27 | D23: 31 | E23: =IF(C23>0,(D23-C23)/C23) -> 0.14814815
B24: % Extranjeras entre las Renuncias | C24: =C23/C21 -> 0.2231405 | D24: =D23/D21 -> 0.26495726 | E24: =IF(C24>0,(D24-C24)/C24) -> 0.18740108
B25: Víctimas de Violencia de Género cada 10.000 Mujeres | C25: 0.1322524 | D25: 0.13821867 | E25: =IF(C25>0,(D25-C25)/C25) -> 0.045112782
C33: 2º trimestre 2025 | D33: 2º trimestre 2026 | E33: Evolución
B34: Incoadas | C34: 457 | D34: 413 | E34: =IF(C34>0,(D34-C34)/C34,"-") -> -0.096280088
B35: Inadmitidas | C35: 3 | D35: 0 | E35: =IF(C35>0,(D35-C35)/C35,"-") -> -1
B36: Adoptadas | C36: 312 | D36: 274 | E36: =IF(C36>0,(D36-C36)/C36,"-") -> -0.12179487
B37: Denegadas | C37: 142 | D37: 139 | E37: =IF(C37>0,(D37-C37)/C37,"-") -> -0.021126761
C43: 2º trimestre 2025 | D43: 2º trimestre 2026 | E43: Evolución
B44: Sentencias Condenatorias | C44: 333 | D44: 366 | E44: =IF(C44>0,(D44-C44)/C44,"-") -> 0.099099099
B45: Sentencias Absolutorias | C45: 22 | D45: 26 | E45: =IF(C45>0,(D45-C45)/C45,"-") -> 0.18181818
B46: Sobreseimientos libres | C46: 25 | D46: 16 | E46: =IF(C46>0,(D46-C46)/C46,"-") -> -0.36
B47: Sobreseimientos provisionales | C47: 716 | D47: 850 | E47: =IF(C47>0,(D47-C47)/C47,"-") -> 0.18715084
B48: Elevación | C48: 380 | D48: 340 | E48: =IF(C48>0,(D48-C48)/C48,"-") -> -0.10526316
B49: Otras | C49: 252 | D49: 350 | E49: =IF(C49>0,(D49-C49)/C49,"-") -> 0.38888889
B50: Porcentaje Sentencias Condenatorias | C50: =C44/(C44+C45) -> 0.93802817 | D50: =D44/(D44+D45) -> 0.93367347 | E50: =IF(C50>0,(D50-C50)/C50,"-") -> -0.0046423975
B51: Porcentaje Terminacion por SP | C51: =C47/(C46+C47) -> 0.96626181 | D51: =D47/(D46+D47) -> 0.98152425 | E51: =IF(C51>0,(D51-C51)/C51,"-") -> 0.015795348
C57: 2º trimestre 2025 | D57: 2º trimestre 2026 | E57: Evolución
B58: Personas enjuiciadas | C58: 356 | D58: 392 | E58: =IF(C58>0,(D58-C58)/C58,"-") -> 0.1011236
B59: Condenado Español | C59: 257 | D59: 273 | E59: =IF(C59>0,(D59-C59)/C59,"-") -> 0.062256809
B60: Condenado Extranjero | C60: 77 | D60: 93 | E60: =IF(C60>0,(D60-C60)/C60,"-") -> 0.20779221
B61: % condenados entre los enjuiciados | C61: =(C59+C60)/C58 -> 0.93820225 | D61: =(D59+D60)/D58 -> 0.93367347 | E61: =IF(C61>0,(D61-C61)/C61,"-") -> -0.0048270805
B62: % condenas entre los españoles enjuiciados | C62: 0.92446043 | D62: 0.91919192 | E62: =IF(C62>0,(D62-C62)/C62,"-") -> -0.0056990135
B63: % condenas entre los extranjeros enjuiciados | C63: 0.98717949 | D63: 0.97894737 | E63: =IF(C63>0,(D63-C63)/C63,"-") -> -0.0083390294
C69: 2º trimestre 2025 | D69: 2º trimestre 2026 | E69: Evolución
B70: ASUNTOS PENALES | C70: 2209 | D70: 2348 | E70: =IF(C70>0,(D70-C70)/C70,"-") -> 0.0629244
B71: Diligencia Urgentes | C71: 652 | D71: 825 | E71: =IF(C71>0,(D71-C71)/C71,"-") -> 0.26533742
B72: Sumarios | C72: 6 | D72: 6 | E72: =IF(C72>0,(D72-C72)/C72,"-") -> 0
B73: Diligencia Previas | C73: 1113 | D73: 1059 | E73: =IF(C73>0,(D73-C73)/C73,"-") -> -0.04851752
...

Sheet Com. Madrid
B11: =Portada!B9 -> 2º Trimestre 2026
C13: 2º trimestre 2025 | D13: 2º trimestre 2026 | E13: Evolución
B14: DENUNCIAS RECIBIDAS - TOTAL | C14: 7996 | D14: 9988 | E14: =IF(C14>0,(D14-C14)/C14) -> 0.24912456
B15: VÍCTIMAS | C15: 7011 | D15: 8818 | E15: =IF(C15>0,(D15-C15)/C15) -> 0.25773784
B16: Víctimas Españolas | C16: 3820 | D16: 4940 | E16: =IF(C16>0,(D16-C16)/C16) -> 0.29319372
B17: Víctimas Extranjeras | C17: 3191 | D17: 3878 | E17: =IF(C17>0,(D17-C17)/C17) -> 0.21529301
B18: Víctimas Españolas menores | C18: 4 | D18: 8 | E18: =IF(C18=0,"-",(D18-C18)/C18) -> 1
B19: Víctimas Extranjeras menores | C19: 1 | D19: 10 | E19: =IF(C19=0,"-",(D19-C19)/C19) -> 9
B20: % Extranjeras entre las víctimas | C20: =C17/C15 -> 0.45514192 | D20: =D17/D15 -> 0.43978226 | E20: =IF(C20>0,(D20-C20)/C20) -> -0.03374696
B21: RENUNCIAS (La victima se acoge a la dispensa a la obligacion de declarar como testigo) | C21: 888 | D21: 1146 | E21: =IF(C21>0,(D21-C21)/C21) -> 0.29054054
B22: Renuncias por Española | C22: 422 | D22: 548 | E22: =IF(C22>0,(D22-C22)/C22) -> 0.2985782
B23: Renuncias por Extranjera | C23: 466 | D23: 598 | E23: =IF(C23>0,(D23-C23)/C23) -> 0.2832618
B24: % Extranjeras entre las Renuncias | C24: =C23/C21 -> 0.52477477 | D24: =D23/D21 -> 0.52181501 | E24: =IF(C24>0,(D24-C24)/C24) -> -0.0056400692
B25: Víctimas de Violencia de Género cada 10.000 Mujeres | C25: 0.18915541 | D25: 0.23790792 | E25: =IF(C25>0,(D25-C25)/C25) -> 0.25773784
C33: 2º trimestre 2025 | D33: 2º trimestre 2026 | E33: Evolución
B34: Incoadas | C34: 1532 | D34: 1636 | E34: =IF(C34>0,(D34-C34)/C34,"-") -> 0.067885117
B35: Inadmitidas | C35: 13 | D35: 3 | E35: =IF(C35>0,(D35-C35)/C35,"-") -> -0.76923077
B36: Adoptadas | C36: 694 | D36: 772 | E36: =IF(C36>0,(D36-C36)/C36,"-") -> 0.11239193
B37: Denegadas | C37: 825 | D37: 861 | E37: =IF(C37>0,(D37-C37)/C37,"-") -> 0.043636364
C43: 2º trimestre 2025 | D43: 2º trimestre 2026 | E43: Evolución
B44: Sentencias Condenatorias | C44: 277 | D44: 303 | E44: =IF(C44>0,(D44-C44)/C44,"-") -> 0.093862816
B45: Sentencias Absolutorias | C45: 57 | D45: 50 | E45: =IF(C45>0,(D45-C45)/C45,"-") -> -0.12280702
B46: Sobreseimientos libres | C46: 111 | D46: 107 | E46: =IF(C46>0,(D46-C46)/C46,"-") -> -0.036036036
B47: Sobreseimientos provisionales | C47: 3081 | D47: 3746 | E47: =IF(C47>0,(D47-C47)/C47,"-") -> 0.21583901
B48: Elevación | C48: 1592 | D48: 1214 | E48: =IF(C48>0,(D48-C48)/C48,"-") -> -0.23743719
B49: Otras | C49: 2107 | D49: 2878 | E49: =IF(C49>0,(D49-C49)/C49,"-") -> 0.36592311
B50: Porcentaje Sentencias Condenatorias | C50: =C44/(C44+C45) -> 0.82934132 | D50: =D44/(D44+D45) -> 0.85835694 | E50: =IF(C50>0,(D50-C50)/C50,"-") -> 0.034986347
B51: Porcentaje Terminacion por SP | C51: =C47/(C46+C47) -> 0.96522556 | D51: =D47/(D46+D47) -> 0.97222943 | E51: =IF(C51>0,(D51-C51)/C51,"-") -> 0.0072561979
C57: 2º trimestre 2025 | D57: 2º trimestre 2026 | E57: Evolución
B58: Personas enjuiciadas | C58: 338 | D58: 357 | E58: =IF(C58>0,(D58-C58)/C58,"-") -> 0.056213018
B59: Condenado Español | C59: 155 | D59: 152 | E59: =IF(C59>0,(D59-C59)/C59,"-") -> -0.019354839
B60: Condenado Extranjero | C60: 126 | D60: 154 | E60: =IF(C60>0,(D60-C60)/C60,"-") -> 0.22222222
B61: % condenados entre los enjuiciados | C61: =(C59+C60)/C58 -> 0.83136095 | D61: =(D59+D60)/D58 -> 0.85714286 | E61: =IF(C61>0,(D61-C61)/C61,"-") -> 0.031011693
B62: % condenas entre los españoles enjuiciados | C62: 0.79896907 | D62: 0.84444444 | E62: =IF(C62>0,(D62-C62)/C62,"-") -> 0.056917563
B63: % condenas entre los extranjeros enjuiciados | C63: 0.875 | D63: 0.8700565 | E63: =IF(C63>0,(D63-C63)/C63,"-") -> -0.0056497175
C69: 2º trimestre 2025 | D69: 2º trimestre 2026 | E69: Evolución
B70: ASUNTOS PENALES | C70: 8879 | D70: 10685 | E70: =IF(C70>0,(D70-C70)/C70,"-") -> 0.20340128
B71: Diligencia Urgentes | C71: 1690 | D71: 1829 | E71: =IF(C71>0,(D71-C71)/C71,"-") -> 0.082248521
B72: Sumarios | C72: 25 | D72: 17 | E72: =IF(C72>0,(D72-C72)/C72,"-") -> -0.32
B73: Diligencia Previas | C73: 5556 | D73: 7183 | E73: =IF(C73>0,(D73-C73)/C73,"-") -> 0.29283657
...

Sheet Región de Murcia
B11: =Portada!B9 -> 2º Trimestre 2026
C13: 2º trimestre 2025 | D13: 2º trimestre 2026 | E13: Evolución
B14: DENUNCIAS RECIBIDAS - TOTAL | C14: 1985 | D14: 1802 | E14: =IF(C14>0,(D14-C14)/C14) -> -0.092191436
B15: VÍCTIMAS | C15: 1845 | D15: 1627 | E15: =IF(C15>0,(D15-C15)/C15) -> -0.11815718
B16: Víctimas Españolas | C16: 1206 | D16: 945 | E16: =IF(C16>0,(D16-C16)/C16) -> -0.21641791
B17: Víctimas Extranjeras | C17: 639 | D17: 682 | E17: =IF(C17>0,(D17-C17)/C17) -> 0.067292645
B18: Víctimas Españolas menores | C18: 4 | D18: 4 | E18: =IF(C18=0,"-",(D18-C18)/C18) -> 0
B19: Víctimas Extranjeras menores | C19: 0 | D19: 0 | E19: =IF(C19=0,"-",(D19-C19)/C19) -> -
B20: % Extranjeras entre las víctimas | C20: =C17/C15 -> 0.34634146 | D20: =D17/D15 -> 0.4191764 | E20: =IF(C20>0,(D20-C20)/C20) -> 0.21029805
B21: RENUNCIAS (La victima se acoge a la dispensa a la obligacion de declarar como testigo) | C21: 150 | D21: 156 | E21: =IF(C21>0,(D21-C21)/C21) -> 0.04
B22: Renuncias por Española | C22: 85 | D22: 109 | E22: =IF(C22>0,(D22-C22)/C22) -> 0.28235294
B23: Renuncias por Extranjera | C23: 65 | D23: 47 | E23: =IF(C23>0,(D23-C23)/C23) -> -0.27692308
B24: % Extranjeras entre las Renuncias | C24: =C23/C21 -> 0.43333333 | D24: =D23/D21 -> 0.30128205 | E24: =IF(C24>0,(D24-C24)/C24) -> -0.30473373
B25: Víctimas de Violencia de Género cada 10.000 Mujeres | C25: 0.23292984 | D25: 0.20540751 | E25: =IF(C25>0,(D25-C25)/C25) -> -0.11815718
C33: 2º trimestre 2025 | D33: 2º trimestre 2026 | E33: Evolución
B34: Incoadas | C34: 420 | D34: 394 | E34: =IF(C34>0,(D34-C34)/C34,"-") -> -0.061904762
B35: Inadmitidas | C35: 1 | D35: 2 | E35: =IF(C35>0,(D35-C35)/C35,"-") -> 1
B36: Adoptadas | C36: 330 | D36: 312 | E36: =IF(C36>0,(D36-C36)/C36,"-") -> -0.054545455
B37: Denegadas | C37: 89 | D37: 80 | E37: =IF(C37>0,(D37-C37)/C37,"-") -> -0.1011236
C43: 2º trimestre 2025 | D43: 2º trimestre 2026 | E43: Evolución
B44: Sentencias Condenatorias | C44: 511 | D44: 492 | E44: =IF(C44>0,(D44-C44)/C44,"-") -> -0.037181996
B45: Sentencias Absolutorias | C45: 15 | D45: 10 | E45: =IF(C45>0,(D45-C45)/C45,"-") -> -0.33333333
B46: Sobreseimientos libres | C46: 43 | D46: 29 | E46: =IF(C46>0,(D46-C46)/C46,"-") -> -0.3255814
B47: Sobreseimientos provisionales | C47: 729 | D47: 824 | E47: =IF(C47>0,(D47-C47)/C47,"-") -> 0.1303155
B48: Elevación | C48: 270 | D48: 294 | E48: =IF(C48>0,(D48-C48)/C48,"-") -> 0.088888889
B49: Otras | C49: 243 | D49: 290 | E49: =IF(C49>0,(D49-C49)/C49,"-") -> 0.19341564
B50: Porcentaje Sentencias Condenatorias | C50: =C44/(C44+C45) -> 0.97148289 | D50: =D44/(D44+D45) -> 0.98007968 | E50: =IF(C50>0,(D50-C50)/C50,"-") -> 0.0088491435
B51: Porcentaje Terminacion por SP | C51: =C47/(C46+C47) -> 0.94430052 | D51: =D47/(D46+D47) -> 0.96600234 | E51: =IF(C51>0,(D51-C51)/C51,"-") -> 0.022981907
C57: 2º trimestre 2025 | D57: 2º trimestre 2026 | E57: Evolución
B58: Personas enjuiciadas | C58: 537 | D58: 504 | E58: =IF(C58>0,(D58-C58)/C58,"-") -> -0.061452514
B59: Condenado Español | C59: 329 | D59: 296 | E59: =IF(C59>0,(D59-C59)/C59,"-") -> -0.10030395
B60: Condenado Extranjero | C60: 193 | D60: 198 | E60: =IF(C60>0,(D60-C60)/C60,"-") -> 0.025906736
B61: % condenados entre los enjuiciados | C61: =(C59+C60)/C58 -> 0.97206704 | D61: =(D59+D60)/D58 -> 0.98015873 | E61: =IF(C61>0,(D61-C61)/C61,"-") -> 0.0083242109
B62: % condenas entre los españoles enjuiciados | C62: 0.97050147 | D62: 0.97689769 | E62: =IF(C62>0,(D62-C62)/C62,"-") -> 0.0065906287
B63: % condenas entre los extranjeros enjuiciados | C63: 0.97474747 | D63: 0.98507463 | E63: =IF(C63>0,(D63-C63)/C63,"-") -> 0.010594695
C69: 2º trimestre 2025 | D69: 2º trimestre 2026 | E69: Evolución
B70: ASUNTOS PENALES | C70: 1993 | D70: 1808 | E70: =IF(C70>0,(D70-C70)/C70,"-") -> -0.092824887
B71: Diligencia Urgentes | C71: 820 | D71: 797 | E71: =IF(C71>0,(D71-C71)/C71,"-") -> -0.02804878
B72: Sumarios | C72: 11 | D72: 6 | E72: =IF(C72>0,(D72-C72)/C72,"-") -> -0.45454545
B73: Diligencia Previas | C73: 786 | D73: 624 | E73: =IF(C73>0,(D73-C73)/C73,"-") -> -0.20610687
...

Sheet Navarra
B11: =Portada!B9 -> 2º Trimestre 2026
C13: 2º trimestre 2025 | D13: 2º trimestre 2026 | E13: Evolución
B14: DENUNCIAS RECIBIDAS - TOTAL | C14: 949 | D14: 871 | E14: =IF(C14>0,(D14-C14)/C14) -> -0.082191781
B15: VÍCTIMAS | C15: 805 | D15: 813 | E15: =IF(C15>0,(D15-C15)/C15) -> 0.0099378882
B16: Víctimas Españolas | C16: 389 | D16: 339 | E16: =IF(C16>0,(D16-C16)/C16) -> -0.1285347
B17: Víctimas Extranjeras | C17: 416 | D17: 474 | E17: =IF(C17>0,(D17-C17)/C17) -> 0.13942308
B18: Víctimas Españolas menores | C18: 1 | D18: 1 | E18: =IF(C18=0,"-",(D18-C18)/C18) -> 0
B19: Víctimas Extranjeras menores | C19: 2 | D19: 0 | E19: =IF(C19=0,"-",(D19-C19)/C19) -> -1
B20: % Extranjeras entre las víctimas | C20: =C17/C15 -> 0.51677019 | D20: =D17/D15 -> 0.58302583 | E20: =IF(C20>0,(D20-C20)/C20) -> 0.12821104
B21: RENUNCIAS (La victima se acoge a la dispensa a la obligacion de declarar como testigo) | C21: 37 | D21: 52 | E21: =IF(C21>0,(D21-C21)/C21) -> 0.40540541
B22: Renuncias por Española | C22: 19 | D22: 21 | E22: =IF(C22>0,(D22-C22)/C22) -> 0.10526316
B23: Renuncias por Extranjera | C23: 18 | D23: 31 | E23: =IF(C23>0,(D23-C23)/C23) -> 0.72222222
B24: % Extranjeras entre las Renuncias | C24: =C23/C21 -> 0.48648649 | D24: =D23/D21 -> 0.59615385 | E24: =IF(C24>0,(D24-C24)/C24) -> 0.22542735
B25: Víctimas de Violencia de Género cada 10.000 Mujeres | C25: 0.23332048 | D25: 0.2356392 | E25: =IF(C25>0,(D25-C25)/C25) -> 0.0099378882
C33: 2º trimestre 2025 | D33: 2º trimestre 2026 | E33: Evolución
B34: Incoadas | C34: 67 | D34: 176 | E34: =IF(C34>0,(D34-C34)/C34,"-") -> 1.6268657
B35: Inadmitidas | C35: 0 | D35: 0 | E35: =IF(C35>0,(D35-C35)/C35,"-") -> -
B36: Adoptadas | C36: 45 | D36: 144 | E36: =IF(C36>0,(D36-C36)/C36,"-") -> 2.2
B37: Denegadas | C37: 22 | D37: 32 | E37: =IF(C37>0,(D37-C37)/C37,"-") -> 0.45454545
C43: 2º trimestre 2025 | D43: 2º trimestre 2026 | E43: Evolución
B44: Sentencias Condenatorias | C44: 97 | D44: 127 | E44: =IF(C44>0,(D44-C44)/C44,"-") -> 0.30927835
B45: Sentencias Absolutorias | C45: 5 | D45: 3 | E45: =IF(C45>0,(D45-C45)/C45,"-") -> -0.4
B46: Sobreseimientos libres | C46: 14 | D46: 22 | E46: =IF(C46>0,(D46-C46)/C46,"-") -> 0.57142857
B47: Sobreseimientos provisionales | C47: 436 | D47: 308 | E47: =IF(C47>0,(D47-C47)/C47,"-") -> -0.29357798
B48: Elevación | C48: 155 | D48: 146 | E48: =IF(C48>0,(D48-C48)/C48,"-") -> -0.058064516
B49: Otras | C49: 263 | D49: 259 | E49: =IF(C49>0,(D49-C49)/C49,"-") -> -0.015209125
B50: Porcentaje Sentencias Condenatorias | C50: =C44/(C44+C45) -> 0.95098039 | D50: =D44/(D44+D45) -> 0.97692308 | E50: =IF(C50>0,(D50-C50)/C50,"-") -> 0.027279937
