Workbook

Sheet Portada
B9: 2º Trimestre 2026
C14: Andalucía | L14: Com. Valenciana
C16: Aragón | L16: Extremadura
C18: Principado de Asturias | L18: Galicia
C20: Balears, Illes | L20: Madrid, Comunidad de
C22: Canarias | L22: Murcia, Región de
C24: Cantabria | L24: Navarra, Comunidad Foral de
C26: Castilla y León | L26: País Vasco
C28: Castilla - La Mancha | L28: Rioja, La
C30: Cataluña

Sheet Andalucía
B11: =Portada!B9 -> 2º Trimestre 2026
C13: 2º trimestre 2025 | D13: 2º trimestre 2026 | E13: Evolución
B14: DENUNCIAS RECIBIDAS - TOTAL | C14: 10811 | D14: 11607 | E14: =IF(C14>0,(D14-C14)/C14) -> 0.073628711
B15: VÍCTIMAS | C15: 9753 | D15: 10170 | E15: =IF(C15>0,(D15-C15)/C15) -> 0.042756075
B16: Víctimas Españolas | C16: 7071 | D16: 7809 | E16: =IF(C16>0,(D16-C16)/C16) -> 0.10436996
B17: Víctimas Extranjeras | C17: 2682 | D17: 2361 | E17: =IF(C17>0,(D17-C17)/C17) -> -0.1196868
B18: Víctimas Españolas menores | C18: 16 | D18: 10 | E18: =IF(C18=0,"-",(D18-C18)/C18) -> -0.375
B19: Víctimas Extranjeras menores | C19: 0 | D19: 0 | E19: =IF(C19=0,"-",(D19-C19)/C19) -> -
B20: % Extranjeras entre las víctimas | C20: =C17/C15 -> 0.27499231 | D20: =D17/D15 -> 0.23215339 | E20: =IF(C20>0,(D20-C20)/C20) -> -0.15578224
B21: RENUNCIAS (La victima se acoge a la dispensa a la obligacion de declarar como testigo) | C21: 820 | D21: 829 | E21: =IF(C21>0,(D21-C21)/C21) -> 0.01097561
B22: Renuncias por Española | C22: 541 | D22: 586 | E22: =IF(C22>0,(D22-C22)/C22) -> 0.083179298
B23: Renuncias por Extranjera | C23: 279 | D23: 243 | E23: =IF(C23>0,(D23-C23)/C23) -> -0.12903226
B24: % Extranjeras entre las Renuncias | C24: =C23/C21 -> 0.3402439 | D24: =D23/D21 -> 0.29312425 | E24: =IF(C24>0,(D24-C24)/C24) -> -0.13848788
B25: Víctimas de Violencia de Género cada 10.000 Mujeres | C25: 0.21710371 | D25: 0.22638621 | E25: =IF(C25>0,(D25-C25)/C25) -> 0.042756075
C33: 2º trimestre 2025 | D33: 2º trimestre 2026 | E33: Evolución
B34: Incoadas | C34: 2298 | D34: 2218 | E34: =IF(C34>0,(D34-C34)/C34) -> -0.034812881
B35: Inadmitidas | C35: 22 | D35: 15 | E35: =IF(C35>0,(D35-C35)/C35) -> -0.31818182
B36: Adoptadas | C36: 1714 | D36: 1725 | E36: =IF(C36>0,(D36-C36)/C36) -> 0.0064177363
B37: Denegadas | C37: 562 | D37: 478 | E37: =IF(C37>0,(D37-C37)/C37) -> -0.14946619
C43: 2º trimestre 2025 | D43: 2º trimestre 2026 | E43: Evolución
B44: Sentencias Condenatorias | C44: 1614 | D44: 1732 | E44: =IF(C44>0,(D44-C44)/C44) -> 0.073110285
B45: Sentencias Absolutorias | C45: 134 | D45: 164 | E45: =IF(C45>0,(D45-C45)/C45) -> 0.2238806
B46: Sobreseimientos libres | C46: 272 | D46: 265 | E46: =IF(C46>0,(D46-C46)/C46) -> -0.025735294
B47: Sobreseimientos provisionales | C47: 3982 | D47: 4098 | E47: =IF(C47>0,(D47-C47)/C47) -> 0.02913109
B48: Elevación | C48: 1720 | D48: 1558 | E48: =IF(C48>0,(D48-C48)/C48) -> -0.094186047
B49: Otras | C49: 1722 | D49: 2137 | E49: =IF(C49>0,(D49-C49)/C49) -> 0.24099884
B50: Porcentaje Sentencias Condenatorias | C50: =C44/(C44+C45) -> 0.92334096 | D50: =D44/(D44+D45) -> 0.91350211 | E50: =IF(C50>0,(D50-C50)/C50) -> -0.010655708
B51: Porcentaje Terminacion por SP | C51: =C47/(C46+C47) -> 0.93606018 | D51: =D47/(D46+D47) -> 0.93926198 | E51: =IF(C51>0,(D51-C51)/C51) -> 0.0034205034
C57: 2º trimestre 2025 | D57: 2º trimestre 2026 | E57: Evolución
B58: Personas enjuiciadas | C58: 1750 | D58: 1929 | E58: =IF(C58>0,(D58-C58)/C58) -> 0.10228571
B59: Condenado Español | C59: 1193 | D59: 1325 | E59: =IF(C59>0,(D59-C59)/C59) -> 0.11064543
B60: Condenado Extranjero | C60: 423 | D60: 440 | E60: =IF(C60>0,(D60-C60)/C60) -> 0.040189125
B61: % condenados entre los enjuiciados | C61: =(C59+C60)/C58 -> 0.92342857 | D61: =(D59+D60)/D58 -> 0.91498186 | E61: =IF(C61>0,(D61-C61)/C61) -> -0.0091471239
B62: % condenas entre los españoles enjuiciados | C62: 0.91769231 | D62: 0.90136054 | E62: =IF(C62>0,(D62-C62)/C62) -> -0.017796557
B63: % condenas entre los extranjeros enjuiciados | C63: 0.94 | D63: 0.95860566 | E63: =IF(C63>0,(D63-C63)/C63) -> 0.01979326
C69: 2º trimestre 2025 | D69: 2º trimestre 2026 | E69: Evolución
B70: ASUNTOS PENALES | C70: 11542 | D70: 12478 | E70: =IF(C70>0,(D70-C70)/C70) -> 0.081095131
B71: Diligencia Urgentes | C71: 3598 | D71: 3751 | E71: =IF(C71>0,(D71-C71)/C71) -> 0.042523624
B72: Sumarios | C72: 33 | D72: 17 | E72: =IF(C72>0,(D72-C72)/C72) -> -0.48484848
B73: Diligencia Previas | C73: 5698 | D73: 6624 | E73: =IF(C73>0,(D73-C73)/C73) -> 0.16251316
B74: Procedimientos abreviados | C74: 1712 | D74: 1570 | E74: =IF(C74>0,(D74-C74)/C74) -> -0.082943925
B75: Juicios sobre delitos leves | C75: 497 | D75: 509 | E75: =IF(C75>0,(D75-C75)/C75) -> 0.024144869
B76: Procesos por aceptacion de decreto | C76: 0 | D76: 0 | E76: =IF(C76>0,(D76-C76)/C76,"-") -> -
B77: Ley Orgánica 5/95 Jurado | C77: 4 | D77: 7 | E77: =IF(C77>0,(D77-C77)/C77,"-") -> 0.75
C89: 2º trimestre 2025 | D89: 2º trimestre 2026 | E89: Evolución
B90: Por Sententencia Condenatoria con conformidad | C90: 809 | D90: 685 | E90: =IF(C90>0,(D90-C90)/C90,"-") -> -0.15327565
B91: Por Sententencia Condenatoria sin conformidad | C91: 365 | D91: 347 | E91: =IF(C91>0,(D91-C91)/C91,"-") -> -0.049315068
B92: Sentencia Absolutoria | C92: 524 | D92: 596 | E92: =IF(C92>0,(D92-C92)/C92,"-") -> 0.13740458
B93: Porcentaje de Sentencias condenatorias | C93: =(C90+C91)/(C90+C91+C92) -> 0.69140165 | D93: =(D90+D91)/(D90+D91+D92) -> 0.63390663 | E93: =IF(C93>0,(D93-C93)/C93,"-") -> -0.083157185
C99: 2º trimestre 2025 | D99: 2º trimestre 2026 | E99: Evolución
B100: Personas enjuiciadas | C100: 1699 | D100: 1630 | E100: =IF(C100>0,(D100-C100)/C100,"-") -> -0.040612125
B101: Condenado Español | C101: 904 | D101: 775 | E101: =IF(C101>0,(D101-C101)/C101,"-") -> -0.14269912
B102: Condenado Extranjero | C102: 270 | D102: 257 | E102: =IF(C102>0,(D102-C102)/C102,"-") -> -0.048148148
B103: % condenados entre los enjuiciados | C103: =(C101+C102)/C100 -> 0.6909947 | D103: =(D101+D102)/D100 -> 0.63312883 | E103: =IF(C103>0,(D103-C103)/C103,"-") -> -0.083742854
B104: % condenas entre los españoles enjuiciados | C104: 0.67918858 | D104: 0.61023622 | E104: =IF(C104>0,(D104-C104)/C104,"-") -> -0.10152167
B105: % condenas entre los extranjeros enjuiciados | C105: 0.73369565 | D105: 0.71388889 | E105: =IF(C105>0,(D105-C105)/C105,"-") -> -0.026995885
C111: 2º trimestre 2025 | D111: 2º trimestre 2026 | E111: Evolución
B112: Asuntos Total | C112: 1878 | D112: 1752 | E112: =IF(C112>0,(D112-C112)/C112,"-") -> -0.067092652
B113: Procedimientos Abreviados | C113: 1045 | D113: 1011 | E113: =IF(C113>0,(D113-C113)/C113,"-") -> -0.032535885
B114: Diligencias Urgentes | C114: 833 | D114: 741 | E114: =IF(C114>0,(D114-C114)/C114,"-") -> -0.11044418
C126: 2º trimestre 2025 | G126: 2º trimestre 2026 | K126: EVOLUCIÓN
C127: Sumario | D127: Proc.Abrev. | E127: Proc.Jurado | F127: TOTAL | G127: Sumario | H127: Proc.Abrev. | I127: Proc.Jurado | J127: TOTAL | K127: Sumario | L127: Proc.Abrev. | M127: Proc.Jurado | N127: TOTAL
B128: Condenatorias | C128: 14 | D128: 8 | E128: 2 | F128: 24 | G128: 21 | H128: 6 | I128: 2 | J128: 29 | K128: =IF(C128=0,"-",(G128-C128)/C128) -> 0.5 | L128: =IF(D128=0,"-",(H128-D128)/D128) -> -0.25 | M128: =IF(E128=0,"-",(I128-E128)/E128) -> 0 | N128: =IF(F128=0,"-",(J128-F128)/F128) -> 0.20833333
B129: Absolutorias | C129: 3 | D129: 0 | E129: 0 | F129: 3 | G129: 4 | H129: 0 | I129: 0 | J129: 4 | K129: =IF(C129=0,"-",(G129-C129)/C129) -> 0.33333333 | L129: =IF(D129=0,"-",(H129-D129)/D129) -> - | M129: =IF(E129=0,"-",(I129-E129)/E129) -> - | N129: =IF(F129=0,"-",(J129-F129)/F129) -> 0.33333333
B130: Sobreseimiento Libre | C130: 0 | D130: 0 | E130: 0 | F130: 0 | G130: 0 | H130: 0 | I130: 0 | J130: 0 | K130: =IF(C130=0,"-",(G130-C130)/C130) -> - | L130: =IF(D130=0,"-",(H130-D130)/D130) -> - | M130: =IF(E130=0,"-",(I130-E130)/E130) -> - | N130: =IF(F130=0,"-",(J130-F130)/F130) -> -
B131: Sobreseimiento Provisional | C131: 0 | D131: 0 | E131: 0 | F131: 0 | G131: 0 | H131: 0 | I131: 0 | J131: 0 | K131: =IF(C131=0,"-",(G131-C131)/C131) -> - | L131: =IF(D131=0,"-",(H131-D131)/D131) -> - | M131: =IF(E131=0,"-",(I131-E131)/E131) -> - | N131: =IF(F131=0,"-",(J131-F131)/F131) -> -
B132: Otras | C132: 3 | D132: 0 | E132: 0 | F132: 3 | G132: 2 | H132: 0 | I132: 0 | J132: 2 | K132: =IF(C132=0,"-",(G132-C132)/C132) -> -0.33333333 | L132: =IF(D132=0,"-",(H132-D132)/D132) -> - | M132: =IF(E132=0,"-",(I132-E132)/E132) -> - | N132: =IF(F132=0,"-",(J132-F132)/F132) -> -0.33333333
B133: Total | C133: 20 | D133: 8 | E133: 2 | F133: 30 | G133: 27 | H133: 6 | I133: 2 | J133: 35 | K133: =IF(C133=0,"-",(G133-C133)/C133) -> 0.35 | L133: =IF(D133=0,"-",(H133-D133)/D133) -> -0.25 | M133: =IF(E133=0,"-",(I133-E133)/E133) -> 0 | N133: =IF(F133=0,"-",(J133-F133)/F133) -> 0.16666667
B134: Porcentaje Sentencias Condenatorias | C134: =IF(C128=0,"-",C128/(C128+C129)) -> 0.82352941 | D134: =IF(D128=0,"-",D128/(D128+D129)) -> 1 | E134: =IF(E128=0,"-",E128/(E128+E129)) -> 1 | F134: =IF(F128=0,"-",F128/(F128+F129)) -> 0.88888889 | G134: =IF(G128=0,"-",G128/(G128+G129)) -> 0.84 | H134: =IF(H128=0,"-",H128/(H128+H129)) -> 1 | I134: =IF(I128=0,"-",I128/(I128+I129)) -> 1 | J134: =IF(J128=0,"-",J128/(J128+J129)) -> 0.87878788 | K134: =IF(OR(C134="-",G134="-"),"-",(G134-C134)/C134) -> 0.02 | L134: =IF(OR(D134="-",H134="-"),"-",(H134-D134)/D134) -> 0 | M134: =IF(OR(E134="-",I134="-"),"-",(I134-E134)/E134) -> 0 | N134: =IF(OR(F134="-",J134="-"),"-",(J134-F134)/F134) -> -0.011363636
B135: Porcentaje Terminacion por SP | C135: =IF(C131=0,"-",C131/(C130+C131)) -> - | D135: =IF(D131=0,"-",D131/(D130+D131)) -> - | E135: =IF(E131=0,"-",E131/(E130+E131)) -> - | F135: =IF(F131=0,"-",F131/(F130+F131)) -> - | G135: =IF(G131=0,"-",G131/(G130+G131)) -> - | H135: =IF(H131=0,"-",H131/(H130+H131)) -> - | I135: =IF(I131=0,"-",I131/(I130+I131)) -> - | J135: =IF(J131=0,"-",J131/(J130+J131)) -> - | K135: =IF(OR(C135="-",G135="-"),"-",(G135-C135)/C135) -> - | L135: =IF(OR(D135="-",H135="-"),"-",(H135-D135)/D135) -> - | M135: =IF(OR(E135="-",I135="-"),"-",(I135-E135)/E135) -> - | N135: =IF(OR(F135="-",J135="-"),"-",(J135-F135)/F135) -> -
C141: 2º trimestre 2025 | G141: 2º trimestre 2026 | K141: EVOLUCIÓN
C142: Proc.Abrev. | D142: Juicios de Faltas | E142: Juicios sobre Delitos Leves | F142: TOTAL | G142: Proc.Abrev. | H142: Juicios de Faltas | I142: Juicios sobre Delitos Leves | J142: TOTAL | K142: Proc.Abrev. | L142: Juicios de Faltas | M142: Juicios sobre Delitos Leves | N142: TOTAL
B143: Estimatorios Sentencias Condenatorias | C143: 77 | D143: 0 | E143: 9 | F143: 86 | G143: 76 | H143: 0 | I143: 6 | J143: 82 | K143: =IF(C143=0,"-",(G143-C143)/C143) -> -0.012987013 | L143: =IF(D143=0,"-",(H143-D143)/D143) -> - | M143: =IF(E143=0,"-",(I143-E143)/E143) -> -0.33333333 | N143: =IF(F143=0,"-",(J143-F143)/F143) -> -0.046511628
B144: Estimatorios Sentencias Absolutorias | C144: 4 | D144: 0 | E144: 1 | F144: 5 | G144: 0 | H144: 0 | I144: 0 | J144: 0 | K144: =IF(C144=0,"-",(G144-C144)/C144) -> -1 | L144: =IF(D144=0,"-",(H144-D144)/D144) -> - | M144: =IF(E144=0,"-",(I144-E144)/E144) -> -1 | N144: =IF(F144=0,"-",(J144-F144)/F144) -> -1
B145: Desestimatorios Sentencias Condenatorias | C145: 268 | D145: 0 | E145: 44 | F145: 312 | G145: 263 | H145: 0 | I145: 28 | J145: 291 | K145: =IF(C145=0,"-",(G145-C145)/C145) -> -0.018656716 | L145: =IF(D145=0,"-",(H145-D145)/D145) -> - | M145: =IF(E145=0,"-",(I145-E145)/E145) -> -0.36363636 | N145: =IF(F145=0,"-",(J145-F145)/F145) -> -0.067307692
B146: Desestimatorios Sentencias Absolutorias | C146: 8 | D146: 0 | E146: 0 | F146: 8 | G146: 6 | H146: 0 | I146: 0 | J146: 6 | K146: =IF(C146=0,"-",(G146-C146)/C146) -> -0.25 | L146: =IF(D146=0,"-",(H146-D146)/D146) -> - | M146: =IF(E146=0,"-",(I146-E146)/E146) -> - | N146: =IF(F146=0,"-",(J146-F146)/F146) -> -0.25
B147: Por Otras Causas | C147: 0 | D147: 0 | E147: 0 | F147: 0 | G147: 1 | H147: 0 | I147: 0 | J147: 1 | K147: =IF(C147=0,"-",(G147-C147)/C147) -> - | L147: =IF(D147=0,"-",(H147-D147)/D147) -> - | M147: =IF(E147=0,"-",(I147-E147)/E147) -> - | N147: =IF(F147=0,"-",(J147-F147)/F147) -> -
B148: Total | C148: 357 | D148: 0 | E148: 54 | F148: 411 | G148: 346 | H148: 0 | I148: 34 | J148: 380 | K148: =IF(C148=0,"-",(G148-C148)/C148) -> -0.030812325 | L148: =IF(D148=0,"-",(H148-D148)/D148) -> - | M148: =IF(E148=0,"-",(I148-E148)/E148) -> -0.37037037 | N148: =IF(F148=0,"-",(J148-F148)/F148) -> -0.075425791
B149: Porcentaje Estimación Recursos contra Sentencias Condenatorias | C149: =IF(C143=0,"-",(C143/(C143+C145))) -> 0.22318841 | D149: =IF(D143=0,"-",(D143/(D143+D145))) -> - | E149: =IF(E143=0,"-",(E143/(E143+E145))) -> 0.16981132 | F149: =IF(F143=0,"-",(F143/(F143+F145))) -> 0.2160804 | G149: =IF(G143=0,"-",(G143/(G143+G145))) -> 0.22418879 | H149: =IF(H143=0,"-",(H143/(H143+H145))) -> - | I149: =IF(I143=0,"-",(I143/(I143+I145))) -> 0.17647059 | J149: =IF(J143=0,"-",(J143/(J143+J145))) -> 0.21983914 | K149: =IF(OR(C149="-",G149="-"),"-",(G149-C149)/C149) -> 0.0044822434 | L149: =IF(OR(D149="-",H149="-"),"-",(H149-D149)/D149) -> - | M149: =IF(OR(E149="-",I149="-"),"-",(I149-E149)/E149) -> 0.039215686 | N149: =IF(OR(F149="-",J149="-"),"-",(J149-F149)/F149) -> 0.017395099
B150: Porcentaje Estimación Recursos contra Sentencias Absolutorias | C150: =IF(C144=0,"-",(C144/(C144+C146))) -> 0.33333333 | D150: =IF(D144=0,"-",(D144/(D144+D146))) -> - | E150: =IF(E144=0,"-",(E144/(E144+E146))) -> 1 | F150: =IF(F144=0,"-",(F144/(F144+F146))) -> 0.38461538 | G150: =IF(G144=0,"-",(G144/(G144+G146))) -> - | H150: =IF(H144=0,"-",(H144/(H144+H146))) -> - | I150: =IF(I144=0,"-",(I144/(I144+I146))) -> - | J150: =IF(J144=0,"-",(J144/(J144+J146))) -> - | K150: =IF(OR(C150="-",G150="-"),"-",(G150-C150)/C150) -> - | L150: =IF(OR(D150="-",H150="-"),"-",(H150-D150)/D150) -> - | M150: =IF(OR(E150="-",I150="-"),"-",(I150-E150)/E150) -> - | N150: =IF(OR(F150="-",J150="-"),"-",(J150-F150)/F150) -> -
C156: 2º trimestre 2025 | D156: 2º trimestre 2026 | E156: Evolución
B157: Confirmaciones en Apelación P.Delito | C157: 299 | D157: 289 | E157: =IF(C157=0,"-",(D157-C157)/C157) -> -0.033444816
B158: Revocaciones en Apelación P.Delito | C158: 55 | D158: 56 | E158: =IF(C158=0,"-",(D158-C158)/C158) -> 0.018181818
B159: Anulaciones en Apelación P.Delito | C159: 0 | D159: 0 | E159: =IF(C159=0,"-",(D159-C159)/C159) -> -
B160: Porcentaje Confirmaciones P.Delitos | C160: =IF(C157=0,"-",C157/(C157+C158+C159)) -> 0.84463277 | D160: =IF(D157=0,"-",D157/(D157+D158+D159)) -> 0.83768116 | E160: =IF(OR(C160="-",D160="-"),"-",(D160-C160)/C160) -> -0.008230333
C165: 2º trimestre 2025 | D165: 2º trimestre 2026 | E165: Evolución
B166: Personas enjuiciadas | C166: 27 | D166: 33 | E166: =IF(C166=0,"-",(D166-C166)/C166) -> 0.22222222
B167: Condenado Español | C167: 16 | D167: 27 | E167: =IF(C167=0,"-",(D167-C167)/C167) -> 0.6875
B168: Condenado Extranjero | C168: 8 | D168: 2 | E168: =IF(C168=0,"-",(D168-C168)/C168) -> -0.75
B169: % condenados entre los enjuiciados | C169: =IF(C166=0,"-",(C167+C168)/C166) -> 0.88888889 | D169: =IF(D166=0,"-",(D167+D168)/D166) -> 0.87878788 | E169: =IF(OR(C169="-",D169="-"),"-",(D169-C169)/C169) -> -0.011363636
B170: % condenas entre los españoles enjuiciados | C170: 0.88888889 | D170: 0.87096774 | E170: =IF(OR(C170="-",D170="-"),"-",(D170-C170)/C170) -> -0.02016129
B171: % condenas entre los extranjeros enjuiciados | C171: 0.88888889 | D171: 1 | E171: =IF(OR(C171="-",D171="-"),"-",(D171-C171)/C171) -> 0.125
C177: 2º trimestre 2025 | D177: 2º trimestre 2026 | E177: Evolución
B178: PROCESOS PRIMERA INSTANCIA Total | C178: 27 | D178: 29 | E178: =IF(C178=0,"-",(D178-C178)/C178) -> 0.074074074
B179: Sumarios | C179: 16 | D179: 20 | E179: =IF(C179=0,"-",(D179-C179)/C179) -> 0.25
B180: Procedimientos abreviados | C180: 8 | D180: 8 | E180: =IF(C180=0,"-",(D180-C180)/C180) -> 0
B181: Procedimientos Jurado | C181: 3 | D181: 1 | E181: =IF(C181=0,"-",(D181-C181)/C181) -> -0.66666667
B182: RECURSOS (APELACIONES DE SENTENCIAS) | C182: 465 | D182: 325 | E182: =IF(C182=0,"-",(D182-C182)/C182) -> -0.30107527
B183: Procedimientos abreviados | C183: 409 | D183: 300 | E183: =IF(C183=0,"-",(D183-C183)/C183) -> -0.26650367
B184: Juicios de Faltas | C184: 0 | D184: 0 | E184: =IF(C184=0,"-",(D184-C184)/C184) -> -
...

Sheet Aragón
B11: =Portada!B9 -> 2º Trimestre 2026
C13: 2º trimestre 2025 | D13: 2º trimestre 2026 | E13: Evolución
B14: DENUNCIAS RECIBIDAS - TOTAL | C14: 1200 | D14: 1254 | E14: =IF(C14>0,(D14-C14)/C14) -> 0.045
B15: VÍCTIMAS | C15: 1180 | D15: 1146 | E15: =IF(C15>0,(D15-C15)/C15) -> -0.028813559
B16: Víctimas Españolas | C16: 599 | D16: 602 | E16: =IF(C16>0,(D16-C16)/C16) -> 0.0050083472
B17: Víctimas Extranjeras | C17: 581 | D17: 544 | E17: =IF(C17>0,(D17-C17)/C17) -> -0.063683305
B18: Víctimas Españolas menores | C18: 3 | D18: 2 | E18: =IF(C18=0,"-",(D18-C18)/C18) -> -0.33333333
B19: Víctimas Extranjeras menores | C19: 0 | D19: 2 | E19: =IF(C19=0,"-",(D19-C19)/C19) -> -
B20: % Extranjeras entre las víctimas | C20: =C17/C15 -> 0.49237288 | D20: =D17/D15 -> 0.47469459 | E20: =IF(C20>0,(D20-C20)/C20) -> -0.035904275
B21: RENUNCIAS (La victima se acoge a la dispensa a la obligacion de declarar como testigo) | C21: 170 | D21: 254 | E21: =IF(C21>0,(D21-C21)/C21) -> 0.49411765
B22: Renuncias por Española | C22: 93 | D22: 100 | E22: =IF(C22>0,(D22-C22)/C22) -> 0.075268817
B23: Renuncias por Extranjera | C23: 77 | D23: 154 | E23: =IF(C23>0,(D23-C23)/C23) -> 1
B24: % Extranjeras entre las Renuncias | C24: =C23/C21 -> 0.45294118 | D24: =D23/D21 -> 0.60629921 | E24: =IF(C24>0,(D24-C24)/C24) -> 0.33858268
B25: Víctimas de Violencia de Género cada 10.000 Mujeres | C25: 0.17155302 | D25: 0.16660997 | E25: =IF(C25>0,(D25-C25)/C25) -> -0.028813559
C33: 2º trimestre 2025 | D33: 2º trimestre 2026 | E33: Evolución
B34: Incoadas | C34: 222 | D34: 320 | E34: =IF(C34>0,(D34-C34)/C34,"-") -> 0.44144144
B35: Inadmitidas | C35: 0 | D35: 1 | E35: =IF(C35>0,(D35-C35)/C35,"-") -> -
B36: Adoptadas | C36: 173 | D36: 231 | E36: =IF(C36>0,(D36-C36)/C36,"-") -> 0.33526012
B37: Denegadas | C37: 49 | D37: 88 | E37: =IF(C37>0,(D37-C37)/C37,"-") -> 0.79591837
C43: 2º trimestre 2025 | D43: 2º trimestre 2026 | E43: Evolución
B44: Sentencias Condenatorias | C44: 183 | D44: 210 | E44: =IF(C44>0,(D44-C44)/C44,"-") -> 0.14754098
B45: Sentencias Absolutorias | C45: 5 | D45: 7 | E45: =IF(C45>0,(D45-C45)/C45,"-") -> 0.4
B46: Sobreseimientos libres | C46: 15 | D46: 48 | E46: =IF(C46>0,(D46-C46)/C46,"-") -> 2.2
B47: Sobreseimientos provisionales | C47: 551 | D47: 445 | E47: =IF(C47>0,(D47-C47)/C47,"-") -> -0.1923775
B48: Elevación | C48: 195 | D48: 178 | E48: =IF(C48>0,(D48-C48)/C48,"-") -> -0.087179487
B49: Otras | C49: 306 | D49: 306 | E49: =IF(C49>0,(D49-C49)/C49,"-") -> 0
B50: Porcentaje Sentencias Condenatorias | C50: =C44/(C44+C45) -> 0.97340426 | D50: =D44/(D44+D45) -> 0.96774194 | E50: =IF(C50>0,(D50-C50)/C50,"-") -> -0.005817028
B51: Porcentaje Terminacion por SP | C51: =C47/(C46+C47) -> 0.97349823 | D51: =D47/(D46+D47) -> 0.90263692 | E51: =IF(C51>0,(D51-C51)/C51,"-") -> -0.07279039
C57: 2º trimestre 2025 | D57: 2º trimestre 2026 | E57: Evolución
B58: Personas enjuiciadas | C58: 188 | D58: 217 | E58: =IF(C58>0,(D58-C58)/C58,"-") -> 0.15425532
B59: Condenado Español | C59: 91 | D59: 101 | E59: =IF(C59>0,(D59-C59)/C59,"-") -> 0.10989011
B60: Condenado Extranjero | C60: 92 | D60: 109 | E60: =IF(C60>0,(D60-C60)/C60,"-") -> 0.18478261
B61: % condenados entre los enjuiciados | C61: =(C59+C60)/C58 -> 0.97340426 | D61: =(D59+D60)/D58 -> 0.96774194 | E61: =IF(C61>0,(D61-C61)/C61,"-") -> -0.005817028
B62: % condenas entre los españoles enjuiciados | C62: 0.97849462 | D62: 0.95283019 | E62: =IF(C62>0,(D62-C62)/C62,"-") -> -0.026228488
B63: % condenas entre los extranjeros enjuiciados | C63: 0.96842105 | D63: 0.98198198 | E63: =IF(C63>0,(D63-C63)/C63,"-") -> 0.014003134
C69: 2º trimestre 2025 | D69: 2º trimestre 2026 | E69: Evolución
B70: ASUNTOS PENALES | C70: 1098 | D70: 1617 | E70: =IF(C70>0,(D70-C70)/C70,"-") -> 0.4726776
B71: Diligencia Urgentes | C71: 372 | D71: 506 | E71: =IF(C71>0,(D71-C71)/C71,"-") -> 0.36021505
B72: Sumarios | C72: 6 | D72: 5 | E72: =IF(C72>0,(D72-C72)/C72,"-") -> -0.16666667
B73: Diligencia Previas | C73: 488 | D73: 835 | E73: =IF(C73>0,(D73-C73)/C73,"-") -> 0.71106557
B74: Procedimientos abreviados | C74: 176 | D74: 216 | E74: =IF(C74>0,(D74-C74)/C74,"-") -> 0.22727273
B75: Juicios sobre delitos leves | C75: 56 | D75: 55 | E75: =IF(C75>0,(D75-C75)/C75,"-") -> -0.017857143
B76: Procesos por aceptacion de decreto | C76: 0 | D76: 0 | E76: =IF(C76>0,(D76-C76)/C76,"-") -> -
B77: Ley Orgánica 5/95 Jurado | C77: 0 | D77: 0 | E77: =IF(C77>0,(D77-C77)/C77,"-") -> -
C89: 2º trimestre 2025 | D89: 2º trimestre 2026 | E89: Evolución
B90: Por Sententencia Condenatoria con conformidad | C90: 123 | D90: 143 | E90: =IF(C90>0,(D90-C90)/C90,"-") -> 0.16260163
B91: Por Sententencia Condenatoria sin conformidad | C91: 66 | D91: 48 | E91: =IF(C91>0,(D91-C91)/C91,"-") -> -0.27272727
B92: Sentencia Absolutoria | C92: 50 | D92: 49 | E92: =IF(C92>0,(D92-C92)/C92,"-") -> -0.02
B93: Porcentaje de Sentencias condenatorias | C93: =(C90+C91)/(C90+C91+C92) -> 0.79079498 | D93: =(D90+D91)/(D90+D91+D92) -> 0.79583333 | E93: =IF(C93>0,(D93-C93)/C93,"-") -> 0.0063712522
C99: 2º trimestre 2025 | D99: 2º trimestre 2026 | E99: Evolución
B100: Personas enjuiciadas | C100: 239 | D100: 240 | E100: =IF(C100>0,(D100-C100)/C100,"-") -> 0.0041841004
B101: Condenado Español | C101: 111 | D101: 112 | E101: =IF(C101>0,(D101-C101)/C101,"-") -> 0.009009009
B102: Condenado Extranjero | C102: 78 | D102: 79 | E102: =IF(C102>0,(D102-C102)/C102,"-") -> 0.012820513
B103: % condenados entre los enjuiciados | C103: =(C101+C102)/C100 -> 0.79079498 | D103: =(D101+D102)/D100 -> 0.79583333 | E103: =IF(C103>0,(D103-C103)/C103,"-") -> 0.0063712522
B104: % condenas entre los españoles enjuiciados | C104: 0.78169014 | D104: 0.75675676 | E104: =IF(C104>0,(D104-C104)/C104,"-") -> -0.031896762
B105: % condenas entre los extranjeros enjuiciados | C105: 0.80412371 | D105: 0.85869565 | E105: =IF(C105>0,(D105-C105)/C105,"-") -> 0.067865106
C111: 2º trimestre 2025 | D111: 2º trimestre 2026 | E111: Evolución
B112: Asuntos Total | C112: 206 | D112: 286 | E112: =IF(C112>0,(D112-C112)/C112,"-") -> 0.38834951
B113: Procedimientos Abreviados | C113: 145 | D113: 182 | E113: =IF(C113>0,(D113-C113)/C113,"-") -> 0.25517241
B114: Diligencias Urgentes | C114: 61 | D114: 104 | E114: =IF(C114>0,(D114-C114)/C114,"-") -> 0.70491803
C126: 2º trimestre 2025 | G126: 2º trimestre 2026 | K126: EVOLUCIÓN
C127: Sumario | D127: Proc.Abrev. | E127: Proc.Jurado | F127: TOTAL | G127: Sumario | H127: Proc.Abrev. | I127: Proc.Jurado | J127: TOTAL | K127: Sumario | L127: Proc.Abrev. | M127: Proc.Jurado | N127: TOTAL
B128: Condenatorias | C128: 3 | D128: 2 | E128: 1 | F128: 6 | G128: 6 | H128: 2 | I128: 0 | J128: 8 | K128: =IF(C128=0,"-",(G128-C128)/C128) -> 1 | L128: =IF(D128=0,"-",(H128-D128)/D128) -> 0 | M128: =IF(E128=0,"-",(I128-E128)/E128) -> -1 | N128: =IF(F128=0,"-",(J128-F128)/F128) -> 0.33333333
B129: Absolutorias | C129: 1 | D129: 0 | E129: 0 | F129: 1 | G129: 2 | H129: 0 | I129: 0 | J129: 2 | K129: =IF(C129=0,"-",(G129-C129)/C129) -> 1 | L129: =IF(D129=0,"-",(H129-D129)/D129) -> - | M129: =IF(E129=0,"-",(I129-E129)/E129) -> - | N129: =IF(F129=0,"-",(J129-F129)/F129) -> 1
B130: Sobreseimiento Libre | C130: 0 | D130: 0 | E130: 0 | F130: 0 | G130: 0 | H130: 0 | I130: 0 | J130: 0 | K130: =IF(C130=0,"-",(G130-C130)/C130) -> - | L130: =IF(D130=0,"-",(H130-D130)/D130) -> - | M130: =IF(E130=0,"-",(I130-E130)/E130) -> - | N130: =IF(F130=0,"-",(J130-F130)/F130) -> -
B131: Sobreseimiento Provisional | C131: 1 | D131: 0 | E131: 0 | F131: 1 | G131: 0 | H131: 0 | I131: 0 | J131: 0 | K131: =IF(C131=0,"-",(G131-C131)/C131) -> -1 | L131: =IF(D131=0,"-",(H131-D131)/D131) -> - | M131: =IF(E131=0,"-",(I131-E131)/E131) -> - | N131: =IF(F131=0,"-",(J131-F131)/F131) -> -1
B132: Otras | C132: 1 | D132: 0 | E132: 0 | F132: 1 | G132: 0 | H132: 0 | I132: 0 | J132: 0 | K132: =IF(C132=0,"-",(G132-C132)/C132) -> -1 | L132: =IF(D132=0,"-",(H132-D132)/D132) -> - | M132: =IF(E132=0,"-",(I132-E132)/E132) -> - | N132: =IF(F132=0,"-",(J132-F132)/F132) -> -1
B133: Total | C133: 6 | D133: 2 | E133: 1 | F133: 9 | G133: 8 | H133: 2 | I133: 0 | J133: 10 | K133: =IF(C133=0,"-",(G133-C133)/C133) -> 0.33333333 | L133: =IF(D133=0,"-",(H133-D133)/D133) -> 0 | M133: =IF(E133=0,"-",(I133-E133)/E133) -> -1 | N133: =IF(F133=0,"-",(J133-F133)/F133) -> 0.11111111
B134: Porcentaje Sentencias Condenatorias | C134: =IF(C128=0,"-",C128/(C128+C129)) -> 0.75 | D134: =IF(D128=0,"-",D128/(D128+D129)) -> 1 | E134: =IF(E128=0,"-",E128/(E128+E129)) -> 1 | F134: =IF(F128=0,"-",F128/(F128+F129)) -> 0.85714286 | G134: =IF(G128=0,"-",G128/(G128+G129)) -> 0.75 | H134: =IF(H128=0,"-",H128/(H128+H129)) -> 1 | I134: =IF(I128=0,"-",I128/(I128+I129)) -> - | J134: =IF(J128=0,"-",J128/(J128+J129)) -> 0.8 | K134: =IF(OR(C134="-",G134="-"),"-",(G134-C134)/C134) -> 0 | L134: =IF(OR(D134="-",H134="-"),"-",(H134-D134)/D134) -> 0 | M134: =IF(OR(E134="-",I134="-"),"-",(I134-E134)/E134) -> - | N134: =IF(OR(F134="-",J134="-"),"-",(J134-F134)/F134) -> -0.066666667
B135: Porcentaje Terminacion por SP | C135: =IF(C131=0,"-",C131/(C130+C131)) -> 1 | D135: =IF(D131=0,"-",D131/(D130+D131)) -> - | E135: =IF(E131=0,"-",E131/(E130+E131)) -> - | F135: =IF(F131=0,"-",F131/(F130+F131)) -> 1 | G135: =IF(G131=0,"-",G131/(G130+G131)) -> - | H135: =IF(H131=0,"-",H131/(H130+H131)) -> - | I135: =IF(I131=0,"-",I131/(I130+I131)) -> - | J135: =IF(J131=0,"-",J131/(J130+J131)) -> - | K135: =IF(OR(C135="-",G135="-"),"-",(G135-C135)/C135) -> - | L135: =IF(OR(D135="-",H135="-"),"-",(H135-D135)/D135) -> - | M135: =IF(OR(E135="-",I135="-"),"-",(I135-E135)/E135) -> - | N135: =IF(OR(F135="-",J135="-"),"-",(J135-F135)/F135) -> -
C141: 2º trimestre 2025 | G141: 2º trimestre 2026 | K141: EVOLUCIÓN
C142: Proc.Abrev. | D142: Juicios de Faltas | E142: Juicios sobre Delitos Leves | F142: TOTAL | G142: Proc.Abrev. | H142: Juicios de Faltas | I142: Juicios sobre Delitos Leves | J142: TOTAL | K142: Proc.Abrev. | L142: Juicios de Faltas | M142: Juicios sobre Delitos Leves | N142: TOTAL
B143: Estimatorios Sentencias Condenatorias | C143: 5 | D143: 0 | E143: 1 | F143: 6 | G143: 2 | H143: 0 | I143: 0 | J143: 2 | K143: =IF(C143=0,"-",(G143-C143)/C143) -> -0.6 | L143: =IF(D143=0,"-",(H143-D143)/D143) -> - | M143: =IF(E143=0,"-",(I143-E143)/E143) -> -1 | N143: =IF(F143=0,"-",(J143-F143)/F143) -> -0.66666667
B144: Estimatorios Sentencias Absolutorias | C144: 0 | D144: 0 | E144: 0 | F144: 0 | G144: 0 | H144: 0 | I144: 0 | J144: 0 | K144: =IF(C144=0,"-",(G144-C144)/C144) -> - | L144: =IF(D144=0,"-",(H144-D144)/D144) -> - | M144: =IF(E144=0,"-",(I144-E144)/E144) -> - | N144: =IF(F144=0,"-",(J144-F144)/F144) -> -
B145: Desestimatorios Sentencias Condenatorias | C145: 9 | D145: 0 | E145: 1 | F145: 10 | G145: 20 | H145: 0 | I145: 0 | J145: 20 | K145: =IF(C145=0,"-",(G145-C145)/C145) -> 1.2222222 | L145: =IF(D145=0,"-",(H145-D145)/D145) -> - | M145: =IF(E145=0,"-",(I145-E145)/E145) -> -1 | N145: =IF(F145=0,"-",(J145-F145)/F145) -> 1
B146: Desestimatorios Sentencias Absolutorias | C146: 7 | D146: 0 | E146: 2 | F146: 9 | G146: 3 | H146: 0 | I146: 0 | J146: 3 | K146: =IF(C146=0,"-",(G146-C146)/C146) -> -0.57142857 | L146: =IF(D146=0,"-",(H146-D146)/D146) -> - | M146: =IF(E146=0,"-",(I146-E146)/E146) -> -1 | N146: =IF(F146=0,"-",(J146-F146)/F146) -> -0.66666667
B147: Por Otras Causas | C147: 0 | D147: 0 | E147: 0 | F147: 0 | G147: 0 | H147: 0 | I147: 0 | J147: 0 | K147: =IF(C147=0,"-",(G147-C147)/C147) -> - | L147: =IF(D147=0,"-",(H147-D147)/D147) -> - | M147: =IF(E147=0,"-",(I147-E147)/E147) -> - | N147: =IF(F147=0,"-",(J147-F147)/F147) -> -
B148: Total | C148: 21 | D148: 0 | E148: 4 | F148: 25 | G148: 25 | H148: 0 | I148: 0 | J148: 25 | K148: =IF(C148=0,"-",(G148-C148)/C148) -> 0.19047619 | L148: =IF(D148=0,"-",(H148-D148)/D148) -> - | M148: =IF(E148=0,"-",(I148-E148)/E148) -> -1 | N148: =IF(F148=0,"-",(J148-F148)/F148) -> 0
B149: Porcentaje Estimación Recursos contra Sentencias Condenatorias | C149: =IF(C143=0,"-",(C143/(C143+C145))) -> 0.35714286 | D149: =IF(D143=0,"-",(D143/(D143+D145))) -> - | E149: =IF(E143=0,"-",(E143/(E143+E145))) -> 0.5 | F149: =IF(F143=0,"-",(F143/(F143+F145))) -> 0.375 | G149: =IF(G143=0,"-",(G143/(G143+G145))) -> 0.090909091 | H149: =IF(H143=0,"-",(H143/(H143+H145))) -> - | I149: =IF(I143=0,"-",(I143/(I143+I145))) -> - | J149: =IF(J143=0,"-",(J143/(J143+J145))) -> 0.090909091 | K149: =IF(OR(C149="-",G149="-"),"-",(G149-C149)/C149) -> -0.74545455 | L149: =IF(OR(D149="-",H149="-"),"-",(H149-D149)/D149) -> - | M149: =IF(OR(E149="-",I149="-"),"-",(I149-E149)/E149) -> - | N149: =IF(OR(F149="-",J149="-"),"-",(J149-F149)/F149) -> -0.75757576
B150: Porcentaje Estimación Recursos contra Sentencias Absolutorias | C150: =IF(C144=0,"-",(C144/(C144+C146))) -> - | D150: =IF(D144=0,"-",(D144/(D144+D146))) -> - | E150: =IF(E144=0,"-",(E144/(E144+E146))) -> - | F150: =IF(F144=0,"-",(F144/(F144+F146))) -> - | G150: =IF(G144=0,"-",(G144/(G144+G146))) -> - | H150: =IF(H144=0,"-",(H144/(H144+H146))) -> - | I150: =IF(I144=0,"-",(I144/(I144+I146))) -> - | J150: =IF(J144=0,"-",(J144/(J144+J146))) -> - | K150: =IF(OR(C150="-",G150="-"),"-",(G150-C150)/C150) -> - | L150: =IF(OR(D150="-",H150="-"),"-",(H150-D150)/D150) -> - | M150: =IF(OR(E150="-",I150="-"),"-",(I150-E150)/E150) -> - | N150: =IF(OR(F150="-",J150="-"),"-",(J150-F150)/F150) -> -
C156: 2º trimestre 2025 | D156: 2º trimestre 2026 | E156: Evolución
B157: Confirmaciones en Apelación P.Delito | C157: 16 | D157: 23 | E157: =IF(C157=0,"-",(D157-C157)/C157) -> 0.4375
B158: Revocaciones en Apelación P.Delito | C158: 5 | D158: 2 | E158: =IF(C158=0,"-",(D158-C158)/C158) -> -0.6
B159: Anulaciones en Apelación P.Delito | C159: 0 | D159: 0 | E159: =IF(C159=0,"-",(D159-C159)/C159) -> -
B160: Porcentaje Confirmaciones P.Delitos | C160: =IF(C157=0,"-",C157/(C157+C158+C159)) -> 0.76190476 | D160: =IF(D157=0,"-",D157/(D157+D158+D159)) -> 0.92 | E160: =IF(OR(C160="-",D160="-"),"-",(D160-C160)/C160) -> 0.2075
C165: 2º trimestre 2025 | D165: 2º trimestre 2026 | E165: Evolución
B166: Personas enjuiciadas | C166: 7 | D166: 11 | E166: =IF(C166=0,"-",(D166-C166)/C166) -> 0.57142857
B167: Condenado Español | C167: 4 | D167: 3 | E167: =IF(C167=0,"-",(D167-C167)/C167) -> -0.25
B168: Condenado Extranjero | C168: 2 | D168: 6 | E168: =IF(C168=0,"-",(D168-C168)/C168) -> 2
B169: % condenados entre los enjuiciados | C169: =IF(C166=0,"-",(C167+C168)/C166) -> 0.85714286 | D169: =IF(D166=0,"-",(D167+D168)/D166) -> 0.81818182 | E169: =IF(OR(C169="-",D169="-"),"-",(D169-C169)/C169) -> -0.045454545
B170: % condenas entre los españoles enjuiciados | C170: 0.8 | D170: 0.6 | E170: =IF(OR(C170="-",D170="-"),"-",(D170-C170)/C170) -> -0.25
B171: % condenas entre los extranjeros enjuiciados | C171: 1 | D171: 1 | E171: =IF(OR(C171="-",D171="-"),"-",(D171-C171)/C171) -> 0
C177: 2º trimestre 2025 | D177: 2º trimestre 2026 | E177: Evolución
B178: PROCESOS PRIMERA INSTANCIA Total | C178: 5 | D178: 8 | E178: =IF(C178=0,"-",(D178-C178)/C178) -> 0.6
B179: Sumarios | C179: 3 | D179: 5 | E179: =IF(C179=0,"-",(D179-C179)/C179) -> 0.66666667
B180: Procedimientos abreviados | C180: 2 | D180: 2 | E180: =IF(C180=0,"-",(D180-C180)/C180) -> 0
B181: Procedimientos Jurado | C181: 0 | D181: 1 | E181: =IF(C181=0,"-",(D181-C181)/C181) -> -
B182: RECURSOS (APELACIONES DE SENTENCIAS) | C182: 24 | D182: 27 | E182: =IF(C182=0,"-",(D182-C182)/C182) -> 0.125
B183: Procedimientos abreviados | C183: 20 | D183: 27 | E183: =IF(C183=0,"-",(D183-C183)/C183) -> 0.35
B184: Juicios de Faltas | C184: 0 | D184: 0 | E184: =IF(C184=0,"-",(D184-C184)/C184) -> -
...

Sheet Asturias
B11: =Portada!B9 -> 2º Trimestre 2026
C13: 2º trimestre 2025 | D13: 2º trimestre 2026 | E13: Evolución
B14: DENUNCIAS RECIBIDAS - TOTAL | C14: 885 | D14: 1194 | E14: =IF(C14>0,(D14-C14)/C14) -> 0.34915254
B15: VÍCTIMAS | C15: 769 | D15: 1066 | E15: =IF(C15>0,(D15-C15)/C15) -> 0.38621586
B16: Víctimas Españolas | C16: 525 | D16: 608 | E16: =IF(C16>0,(D16-C16)/C16) -> 0.15809524
B17: Víctimas Extranjeras | C17: 244 | D17: 458 | E17: =IF(C17>0,(D17-C17)/C17) -> 0.87704918
B18: Víctimas Españolas menores | C18: 14 | D18: 10 | E18: =IF(C18=0,"-",(D18-C18)/C18) -> -0.28571429
B19: Víctimas Extranjeras menores | C19: 2 | D19: 4 | E19: =IF(C19=0,"-",(D19-C19)/C19) -> 1
B20: % Extranjeras entre las víctimas | C20: =C17/C15 -> 0.31729519 | D20: =D17/D15 -> 0.42964353 | E20: =IF(C20>0,(D20-C20)/C20) -> 0.35408144
B21: RENUNCIAS (La victima se acoge a la dispensa a la obligacion de declarar como testigo) | C21: 112 | D21: 203 | E21: =IF(C21>0,(D21-C21)/C21) -> 0.8125
B22: Renuncias por Española | C22: 76 | D22: 95 | E22: =IF(C22>0,(D22-C22)/C22) -> 0.25
B23: Renuncias por Extranjera | C23: 36 | D23: 108 | E23: =IF(C23>0,(D23-C23)/C23) -> 2
B24: % Extranjeras entre las Renuncias | C24: =C23/C21 -> 0.32142857 | D24: =D23/D21 -> 0.5320197 | E24: =IF(C24>0,(D24-C24)/C24) -> 0.65517241
B25: Víctimas de Violencia de Género cada 10.000 Mujeres | C25: 0.14492562 | D25: 0.2008982 | E25: =IF(C25>0,(D25-C25)/C25) -> 0.38621586
C33: 2º trimestre 2025 | D33: 2º trimestre 2026 | E33: Evolución
B34: Incoadas | C34: 214 | D34: 142 | E34: =IF(C34>0,(D34-C34)/C34,"-") -> -0.3364486
B35: Inadmitidas | C35: 0 | D35: 2 | E35: =IF(C35>0,(D35-C35)/C35,"-") -> -
B36: Adoptadas | C36: 179 | D36: 91 | E36: =IF(C36>0,(D36-C36)/C36,"-") -> -0.49162011
B37: Denegadas | C37: 35 | D37: 49 | E37: =IF(C37>0,(D37-C37)/C37,"-") -> 0.4
C43: 2º trimestre 2025 | D43: 2º trimestre 2026 | E43: Evolución
B44: Sentencias Condenatorias | C44: 143 | D44: 174 | E44: =IF(C44>0,(D44-C44)/C44,"-") -> 0.21678322
B45: Sentencias Absolutorias | C45: 3 | D45: 8 | E45: =IF(C45>0,(D45-C45)/C45,"-") -> 1.6666667
B46: Sobreseimientos libres | C46: 6 | D46: 34 | E46: =IF(C46>0,(D46-C46)/C46,"-") -> 4.6666667
B47: Sobreseimientos provisionales | C47: 254 | D47: 322 | E47: =IF(C47>0,(D47-C47)/C47,"-") -> 0.26771654
B48: Elevación | C48: 262 | D48: 302 | E48: =IF(C48>0,(D48-C48)/C48,"-") -> 0.15267176
B49: Otras | C49: 170 | D49: 184 | E49: =IF(C49>0,(D49-C49)/C49,"-") -> 0.082352941
B50: Porcentaje Sentencias Condenatorias | C50: =C44/(C44+C45) -> 0.97945205 | D50: =D44/(D44+D45) -> 0.95604396 | E50: =IF(C50>0,(D50-C50)/C50,"-") -> -0.023899178
B51: Porcentaje Terminacion por SP | C51: =C47/(C46+C47) -> 0.97692308 | D51: =D47/(D46+D47) -> 0.90449438 | E51: =IF(C51>0,(D51-C51)/C51,"-") -> -0.074139609
C57: 2º trimestre 2025 | D57: 2º trimestre 2026 | E57: Evolución
B58: Personas enjuiciadas | C58: 146 | D58: 182 | E58: =IF(C58>0,(D58-C58)/C58,"-") -> 0.24657534
B59: Condenado Español | C59: 104 | D59: 137 | E59: =IF(C59>0,(D59-C59)/C59,"-") -> 0.31730769
B60: Condenado Extranjero | C60: 39 | D60: 37 | E60: =IF(C60>0,(D60-C60)/C60,"-") -> -0.051282051
B61: % condenados entre los enjuiciados | C61: =(C59+C60)/C58 -> 0.97945205 | D61: =(D59+D60)/D58 -> 0.95604396 | E61: =IF(C61>0,(D61-C61)/C61,"-") -> -0.023899178
B62: % condenas entre los españoles enjuiciados | C62: 0.97196262 | D62: 0.95804196 | E62: =IF(C62>0,(D62-C62)/C62,"-") -> -0.014322216
B63: % condenas entre los extranjeros enjuiciados | C63: 1 | D63: 0.94871795 | E63: =IF(C63>0,(D63-C63)/C63,"-") -> -0.051282051
C69: 2º trimestre 2025 | D69: 2º trimestre 2026 | E69: Evolución
B70: ASUNTOS PENALES | C70: 1088 | D70: 1229 | E70: =IF(C70>0,(D70-C70)/C70,"-") -> 0.12959559
B71: Diligencia Urgentes | C71: 336 | D71: 386 | E71: =IF(C71>0,(D71-C71)/C71,"-") -> 0.14880952
B72: Sumarios | C72: 5 | D72: 5 | E72: =IF(C72>0,(D72-C72)/C72,"-") -> 0
B73: Diligencia Previas | C73: 497 | D73: 528 | E73: =IF(C73>0,(D73-C73)/C73,"-") -> 0.062374245
B74: Procedimientos abreviados | C74: 231 | D74: 278 | E74: =IF(C74>0,(D74-C74)/C74,"-") -> 0.2034632
B75: Juicios sobre delitos leves | C75: 19 | D75: 32 | E75: =IF(C75>0,(D75-C75)/C75,"-") -> 0.68421053
B76: Procesos por aceptacion de decreto | C76: 0 | D76: 0 | E76: =IF(C76>0,(D76-C76)/C76,"-") -> -
B77: Ley Orgánica 5/95 Jurado | C77: 0 | D77: 0 | E77: =IF(C77>0,(D77-C77)/C77,"-") -> -
C89: 2º trimestre 2025 | D89: 2º trimestre 2026 | E89: Evolución
B90: Por Sententencia Condenatoria con conformidad | C90: 89 | D90: 109 | E90: =IF(C90>0,(D90-C90)/C90,"-") -> 0.2247191
B91: Por Sententencia Condenatoria sin conformidad | C91: 58 | D91: 69 | E91: =IF(C91>0,(D91-C91)/C91,"-") -> 0.18965517
B92: Sentencia Absolutoria | C92: 48 | D92: 46 | E92: =IF(C92>0,(D92-C92)/C92,"-") -> -0.041666667
B93: Porcentaje de Sentencias condenatorias | C93: =(C90+C91)/(C90+C91+C92) -> 0.75384615 | D93: =(D90+D91)/(D90+D91+D92) -> 0.79464286 | E93: =IF(C93>0,(D93-C93)/C93,"-") -> 0.054118076
C99: 2º trimestre 2025 | D99: 2º trimestre 2026 | E99: Evolución
B100: Personas enjuiciadas | C100: 196 | D100: 225 | E100: =IF(C100>0,(D100-C100)/C100,"-") -> 0.14795918
B101: Condenado Español | C101: 126 | D101: 152 | E101: =IF(C101>0,(D101-C101)/C101,"-") -> 0.20634921
B102: Condenado Extranjero | C102: 21 | D102: 27 | E102: =IF(C102>0,(D102-C102)/C102,"-") -> 0.28571429
B103: % condenados entre los enjuiciados | C103: =(C101+C102)/C100 -> 0.75 | D103: =(D101+D102)/D100 -> 0.79555556 | E103: =IF(C103>0,(D103-C103)/C103,"-") -> 0.060740741
B104: % condenas entre los españoles enjuiciados | C104: 0.76829268 | D104: 0.79166667 | E104: =IF(C104>0,(D104-C104)/C104,"-") -> 0.03042328
B105: % condenas entre los extranjeros enjuiciados | C105: 0.65625 | D105: 0.81818182 | E105: =IF(C105>0,(D105-C105)/C105,"-") -> 0.24675325
C111: 2º trimestre 2025 | D111: 2º trimestre 2026 | E111: Evolución
B112: Asuntos Total | C112: 257 | D112: 330 | E112: =IF(C112>0,(D112-C112)/C112,"-") -> 0.28404669
B113: Procedimientos Abreviados | C113: 158 | D113: 237 | E113: =IF(C113>0,(D113-C113)/C113,"-") -> 0.5
B114: Diligencias Urgentes | C114: 99 | D114: 93 | E114: =IF(C114>0,(D114-C114)/C114,"-") -> -0.060606061
C126: 2º trimestre 2025 | G126: 2º trimestre 2026 | K126: EVOLUCIÓN
C127: Sumario | D127: Proc.Abrev. | E127: Proc.Jurado | F127: TOTAL | G127: Sumario | H127: Proc.Abrev. | I127: Proc.Jurado | J127: TOTAL | K127: Sumario | L127: Proc.Abrev. | M127: Proc.Jurado | N127: TOTAL
B128: Condenatorias | C128: 2 | D128: 1 | E128: 0 | F128: 3 | G128: 3 | H128: 3 | I128: 0 | J128: 6 | K128: =IF(C128=0,"-",(G128-C128)/C128) -> 0.5 | L128: =IF(D128=0,"-",(H128-D128)/D128) -> 2 | M128: =IF(E128=0,"-",(I128-E128)/E128) -> - | N128: =IF(F128=0,"-",(J128-F128)/F128) -> 1
B129: Absolutorias | C129: 1 | D129: 0 | E129: 0 | F129: 1 | G129: 1 | H129: 0 | I129: 0 | J129: 1 | K129: =IF(C129=0,"-",(G129-C129)/C129) -> 0 | L129: =IF(D129=0,"-",(H129-D129)/D129) -> - | M129: =IF(E129=0,"-",(I129-E129)/E129) -> - | N129: =IF(F129=0,"-",(J129-F129)/F129) -> 0
B130: Sobreseimiento Libre | C130: 0 | D130: 0 | E130: 0 | F130: 0 | G130: 0 | H130: 0 | I130: 0 | J130: 0 | K130: =IF(C130=0,"-",(G130-C130)/C130) -> - | L130: =IF(D130=0,"-",(H130-D130)/D130) -> - | M130: =IF(E130=0,"-",(I130-E130)/E130) -> - | N130: =IF(F130=0,"-",(J130-F130)/F130) -> -
B131: Sobreseimiento Provisional | C131: 0 | D131: 0 | E131: 0 | F131: 0 | G131: 0 | H131: 0 | I131: 0 | J131: 0 | K131: =IF(C131=0,"-",(G131-C131)/C131) -> - | L131: =IF(D131=0,"-",(H131-D131)/D131) -> - | M131: =IF(E131=0,"-",(I131-E131)/E131) -> - | N131: =IF(F131=0,"-",(J131-F131)/F131) -> -
B132: Otras | C132: 0 | D132: 0 | E132: 0 | F132: 0 | G132: 0 | H132: 0 | I132: 0 | J132: 0 | K132: =IF(C132=0,"-",(G132-C132)/C132) -> - | L132: =IF(D132=0,"-",(H132-D132)/D132) -> - | M132: =IF(E132=0,"-",(I132-E132)/E132) -> - | N132: =IF(F132=0,"-",(J132-F132)/F132) -> -
B133: Total | C133: 3 | D133: 1 | E133: 0 | F133: 4 | G133: 4 | H133: 3 | I133: 0 | J133: 7 | K133: =IF(C133=0,"-",(G133-C133)/C133) -> 0.33333333 | L133: =IF(D133=0,"-",(H133-D133)/D133) -> 2 | M133: =IF(E133=0,"-",(I133-E133)/E133) -> - | N133: =IF(F133=0,"-",(J133-F133)/F133) -> 0.75
B134: Porcentaje Sentencias Condenatorias | C134: =IF(C128=0,"-",C128/(C128+C129)) -> 0.66666667 | D134: =IF(D128=0,"-",D128/(D128+D129)) -> 1 | E134: =IF(E128=0,"-",E128/(E128+E129)) -> - | F134: =IF(F128=0,"-",F128/(F128+F129)) -> 0.75 | G134: =IF(G128=0,"-",G128/(G128+G129)) -> 0.75 | H134: =IF(H128=0,"-",H128/(H128+H129)) -> 1 | I134: =IF(I128=0,"-",I128/(I128+I129)) -> - | J134: =IF(J128=0,"-",J128/(J128+J129)) -> 0.85714286 | K134: =IF(OR(C134="-",G134="-"),"-",(G134-C134)/C134) -> 0.125 | L134: =IF(OR(D134="-",H134="-"),"-",(H134-D134)/D134) -> 0 | M134: =IF(OR(E134="-",I134="-"),"-",(I134-E134)/E134) -> - | N134: =IF(OR(F134="-",J134="-"),"-",(J134-F134)/F134) -> 0.14285714
B135: Porcentaje Terminacion por SP | C135: =IF(C131=0,"-",C131/(C130+C131)) -> - | D135: =IF(D131=0,"-",D131/(D130+D131)) -> - | E135: =IF(E131=0,"-",E131/(E130+E131)) -> - | F135: =IF(F131=0,"-",F131/(F130+F131)) -> - | G135: =IF(G131=0,"-",G131/(G130+G131)) -> - | H135: =IF(H131=0,"-",H131/(H130+H131)) -> - | I135: =IF(I131=0,"-",I131/(I130+I131)) -> - | J135: =IF(J131=0,"-",J131/(J130+J131)) -> - | K135: =IF(OR(C135="-",G135="-"),"-",(G135-C135)/C135) -> - | L135: =IF(OR(D135="-",H135="-"),"-",(H135-D135)/D135) -> - | M135: =IF(OR(E135="-",I135="-"),"-",(I135-E135)/E135) -> - | N135: =IF(OR(F135="-",J135="-"),"-",(J135-F135)/F135) -> -
C141: 2º trimestre 2025 | G141: 2º trimestre 2026 | K141: EVOLUCIÓN
C142: Proc.Abrev. | D142: Juicios de Faltas | E142: Juicios sobre Delitos Leves | F142: TOTAL | G142: Proc.Abrev. | H142: Juicios de Faltas | I142: Juicios sobre Delitos Leves | J142: TOTAL | K142: Proc.Abrev. | L142: Juicios de Faltas | M142: Juicios sobre Delitos Leves | N142: TOTAL
B143: Estimatorios Sentencias Condenatorias | C143: 6 | D143: 0 | E143: 4 | F143: 10 | G143: 8 | H143: 0 | I143: 0 | J143: 8 | K143: =IF(C143=0,"-",(G143-C143)/C143) -> 0.33333333 | L143: =IF(D143=0,"-",(H143-D143)/D143) -> - | M143: =IF(E143=0,"-",(I143-E143)/E143) -> -1 | N143: =IF(F143=0,"-",(J143-F143)/F143) -> -0.2
B144: Estimatorios Sentencias Absolutorias | C144: 0 | D144: 0 | E144: 0 | F144: 0 | G144: 2 | H144: 0 | I144: 0 | J144: 2 | K144: =IF(C144=0,"-",(G144-C144)/C144) -> - | L144: =IF(D144=0,"-",(H144-D144)/D144) -> - | M144: =IF(E144=0,"-",(I144-E144)/E144) -> - | N144: =IF(F144=0,"-",(J144-F144)/F144) -> -
B145: Desestimatorios Sentencias Condenatorias | C145: 25 | D145: 0 | E145: 5 | F145: 30 | G145: 16 | H145: 0 | I145: 1 | J145: 17 | K145: =IF(C145=0,"-",(G145-C145)/C145) -> -0.36 | L145: =IF(D145=0,"-",(H145-D145)/D145) -> - | M145: =IF(E145=0,"-",(I145-E145)/E145) -> -0.8 | N145: =IF(F145=0,"-",(J145-F145)/F145) -> -0.43333333
B146: Desestimatorios Sentencias Absolutorias | C146: 3 | D146: 0 | E146: 2 | F146: 5 | G146: 2 | H146: 0 | I146: 2 | J146: 4 | K146: =IF(C146=0,"-",(G146-C146)/C146) -> -0.33333333 | L146: =IF(D146=0,"-",(H146-D146)/D146) -> - | M146: =IF(E146=0,"-",(I146-E146)/E146) -> 0 | N146: =IF(F146=0,"-",(J146-F146)/F146) -> -0.2
B147: Por Otras Causas | C147: 1 | D147: 0 | E147: 0 | F147: 1 | G147: 4 | H147: 0 | I147: 0 | J147: 4 | K147: =IF(C147=0,"-",(G147-C147)/C147) -> 3 | L147: =IF(D147=0,"-",(H147-D147)/D147) -> - | M147: =IF(E147=0,"-",(I147-E147)/E147) -> - | N147: =IF(F147=0,"-",(J147-F147)/F147) -> 3
B148: Total | C148: 35 | D148: 0 | E148: 11 | F148: 46 | G148: 32 | H148: 0 | I148: 3 | J148: 35 | K148: =IF(C148=0,"-",(G148-C148)/C148) -> -0.085714286 | L148: =IF(D148=0,"-",(H148-D148)/D148) -> - | M148: =IF(E148=0,"-",(I148-E148)/E148) -> -0.72727273 | N148: =IF(F148=0,"-",(J148-F148)/F148) -> -0.23913043
B149: Porcentaje Estimación Recursos contra Sentencias Condenatorias | C149: =IF(C143=0,"-",(C143/(C143+C145))) -> 0.19354839 | D149: =IF(D143=0,"-",(D143/(D143+D145))) -> - | E149: =IF(E143=0,"-",(E143/(E143+E145))) -> 0.44444444 | F149: =IF(F143=0,"-",(F143/(F143+F145))) -> 0.25 | G149: =IF(G143=0,"-",(G143/(G143+G145))) -> 0.33333333 | H149: =IF(H143=0,"-",(H143/(H143+H145))) -> - | I149: =IF(I143=0,"-",(I143/(I143+I145))) -> - | J149: =IF(J143=0,"-",(J143/(J143+J145))) -> 0.32 | K149: =IF(OR(C149="-",G149="-"),"-",(G149-C149)/C149) -> 0.72222222 | L149: =IF(OR(D149="-",H149="-"),"-",(H149-D149)/D149) -> - | M149: =IF(OR(E149="-",I149="-"),"-",(I149-E149)/E149) -> - | N149: =IF(OR(F149="-",J149="-"),"-",(J149-F149)/F149) -> 0.28
B150: Porcentaje Estimación Recursos contra Sentencias Absolutorias | C150: =IF(C144=0,"-",(C144/(C144+C146))) -> - | D150: =IF(D144=0,"-",(D144/(D144+D146))) -> - | E150: =IF(E144=0,"-",(E144/(E144+E146))) -> - | F150: =IF(F144=0,"-",(F144/(F144+F146))) -> - | G150: =IF(G144=0,"-",(G144/(G144+G146))) -> 0.5 | H150: =IF(H144=0,"-",(H144/(H144+H146))) -> - | I150: =IF(I144=0,"-",(I144/(I144+I146))) -> - | J150: =IF(J144=0,"-",(J144/(J144+J146))) -> 0.33333333 | K150: =IF(OR(C150="-",G150="-"),"-",(G150-C150)/C150) -> - | L150: =IF(OR(D150="-",H150="-"),"-",(H150-D150)/D150) -> - | M150: =IF(OR(E150="-",I150="-"),"-",(I150-E150)/E150) -> - | N150: =IF(OR(F150="-",J150="-"),"-",(J150-F150)/F150) -> -
C156: 2º trimestre 2025 | D156: 2º trimestre 2026 | E156: Evolución
B157: Confirmaciones en Apelación P.Delito | C157: 27 | D157: 18 | E157: =IF(C157=0,"-",(D157-C157)/C157) -> -0.33333333
B158: Revocaciones en Apelación P.Delito | C158: 7 | D158: 10 | E158: =IF(C158=0,"-",(D158-C158)/C158) -> 0.42857143
B159: Anulaciones en Apelación P.Delito | C159: 1 | D159: 4 | E159: =IF(C159=0,"-",(D159-C159)/C159) -> 3
B160: Porcentaje Confirmaciones P.Delitos | C160: =IF(C157=0,"-",C157/(C157+C158+C159)) -> 0.77142857 | D160: =IF(D157=0,"-",D157/(D157+D158+D159)) -> 0.5625 | E160: =IF(OR(C160="-",D160="-"),"-",(D160-C160)/C160) -> -0.27083333
C165: 2º trimestre 2025 | D165: 2º trimestre 2026 | E165: Evolución
B166: Personas enjuiciadas | C166: 4 | D166: 7 | E166: =IF(C166=0,"-",(D166-C166)/C166) -> 0.75
B167: Condenado Español | C167: 2 | D167: 3 | E167: =IF(C167=0,"-",(D167-C167)/C167) -> 0.5
B168: Condenado Extranjero | C168: 1 | D168: 3 | E168: =IF(C168=0,"-",(D168-C168)/C168) -> 2
B169: % condenados entre los enjuiciados | C169: =IF(C166=0,"-",(C167+C168)/C166) -> 0.75 | D169: =IF(D166=0,"-",(D167+D168)/D166) -> 0.85714286 | E169: =IF(OR(C169="-",D169="-"),"-",(D169-C169)/C169) -> 0.14285714
B170: % condenas entre los españoles enjuiciados | C170: 0.66666667 | D170: 1 | E170: =IF(OR(C170="-",D170="-"),"-",(D170-C170)/C170) -> 0.5
B171: % condenas entre los extranjeros enjuiciados | C171: 1 | D171: 0.75 | E171: =IF(OR(C171="-",D171="-"),"-",(D171-C171)/C171) -> -0.25
C177: 2º trimestre 2025 | D177: 2º trimestre 2026 | E177: Evolución
B178: PROCESOS PRIMERA INSTANCIA Total | C178: 11 | D178: 6 | E178: =IF(C178=0,"-",(D178-C178)/C178) -> -0.45454545
B179: Sumarios | C179: 8 | D179: 3 | E179: =IF(C179=0,"-",(D179-C179)/C179) -> -0.625
B180: Procedimientos abreviados | C180: 3 | D180: 3 | E180: =IF(C180=0,"-",(D180-C180)/C180) -> 0
B181: Procedimientos Jurado | C181: 0 | D181: 0 | E181: =IF(C181=0,"-",(D181-C181)/C181) -> -
B182: RECURSOS (APELACIONES DE SENTENCIAS) | C182: 44 | D182: 25 | E182: =IF(C182=0,"-",(D182-C182)/C182) -> -0.43181818
B183: Procedimientos abreviados | C183: 32 | D183: 25 | E183: =IF(C183=0,"-",(D183-C183)/C183) -> -0.21875
B184: Juicios de Faltas | C184: 0 | D184: 0 | E184: =IF(C184=0,"-",(D184-C184)/C184) -> -
...

Sheet Illes Balears
B11: =Portada!B9 -> 2º Trimestre 2026
C13: 2º trimestre 2025 | D13: 2º trimestre 2026 | E13: Evolución
B14: DENUNCIAS RECIBIDAS - TOTAL | C14: 1878 | D14: 2098 | E14: =IF(C14>0,(D14-C14)/C14) -> 0.1171459
B15: VÍCTIMAS | C15: 1707 | D15: 1846 | E15: =IF(C15>0,(D15-C15)/C15) -> 0.081429408
B16: Víctimas Españolas | C16: 910 | D16: 951 | E16: =IF(C16>0,(D16-C16)/C16) -> 0.045054945
B17: Víctimas Extranjeras | C17: 797 | D17: 895 | E17: =IF(C17>0,(D17-C17)/C17) -> 0.1229611
B18: Víctimas Españolas menores | C18: 0 | D18: 3 | E18: =IF(C18=0,"-",(D18-C18)/C18) -> -
B19: Víctimas Extranjeras menores | C19: 0 | D19: 1 | E19: =IF(C19=0,"-",(D19-C19)/C19) -> -
B20: % Extranjeras entre las víctimas | C20: =C17/C15 -> 0.466901 | D20: =D17/D15 -> 0.48483207 | E20: =IF(C20>0,(D20-C20)/C20) -> 0.038404445
B21: RENUNCIAS (La victima se acoge a la dispensa a la obligacion de declarar como testigo) | C21: 333 | D21: 273 | E21: =IF(C21>0,(D21-C21)/C21) -> -0.18018018
B22: Renuncias por Española | C22: 154 | D22: 161 | E22: =IF(C22>0,(D22-C22)/C22) -> 0.045454545
B23: Renuncias por Extranjera | C23: 179 | D23: 112 | E23: =IF(C23>0,(D23-C23)/C23) -> -0.37430168
B24: % Extranjeras entre las Renuncias | C24: =C23/C21 -> 0.53753754 | D24: =D23/D21 -> 0.41025641 | E24: =IF(C24>0,(D24-C24)/C24) -> -0.23678556
B25: Víctimas de Violencia de Género cada 10.000 Mujeres | C25: 0.27217457 | D25: 0.29433759 | E25: =IF(C25>0,(D25-C25)/C25) -> 0.081429408
C33: 2º trimestre 2025 | D33: 2º trimestre 2026 | E33: Evolución
B34: Incoadas | C34: 420 | D34: 408 | E34: =IF(C34>0,(D34-C34)/C34,"-") -> -0.028571429
B35: Inadmitidas | C35: 1 | D35: 0 | E35: =IF(C35>0,(D35-C35)/C35,"-") -> -1
B36: Adoptadas | C36: 335 | D36: 318 | E36: =IF(C36>0,(D36-C36)/C36,"-") -> -0.050746269
B37: Denegadas | C37: 84 | D37: 90 | E37: =IF(C37>0,(D37-C37)/C37,"-") -> 0.071428571
C43: 2º trimestre 2025 | D43: 2º trimestre 2026 | E43: Evolución
B44: Sentencias Condenatorias | C44: 279 | D44: 381 | E44: =IF(C44>0,(D44-C44)/C44,"-") -> 0.3655914
B45: Sentencias Absolutorias | C45: 18 | D45: 13 | E45: =IF(C45>0,(D45-C45)/C45,"-") -> -0.27777778
B46: Sobreseimientos libres | C46: 47 | D46: 25 | E46: =IF(C46>0,(D46-C46)/C46,"-") -> -0.46808511
B47: Sobreseimientos provisionales | C47: 926 | D47: 787 | E47: =IF(C47>0,(D47-C47)/C47,"-") -> -0.15010799
B48: Elevación | C48: 356 | D48: 222 | E48: =IF(C48>0,(D48-C48)/C48,"-") -> -0.37640449
B49: Otras | C49: 229 | D49: 551 | E49: =IF(C49>0,(D49-C49)/C49,"-") -> 1.4061135
B50: Porcentaje Sentencias Condenatorias | C50: =C44/(C44+C45) -> 0.93939394 | D50: =D44/(D44+D45) -> 0.96700508 | E50: =IF(C50>0,(D50-C50)/C50,"-") -> 0.0293925
B51: Porcentaje Terminacion por SP | C51: =C47/(C46+C47) -> 0.95169579 | D51: =D47/(D46+D47) -> 0.96921182 | E51: =IF(C51>0,(D51-C51)/C51,"-") -> 0.018405079
C57: 2º trimestre 2025 | D57: 2º trimestre 2026 | E57: Evolución
B58: Personas enjuiciadas | C58: 299 | D58: 394 | E58: =IF(C58>0,(D58-C58)/C58,"-") -> 0.31772575
B59: Condenado Español | C59: 130 | D59: 216 | E59: =IF(C59>0,(D59-C59)/C59,"-") -> 0.66153846
B60: Condenado Extranjero | C60: 151 | D60: 165 | E60: =IF(C60>0,(D60-C60)/C60,"-") -> 0.092715232
B61: % condenados entre los enjuiciados | C61: =(C59+C60)/C58 -> 0.93979933 | D61: =(D59+D60)/D58 -> 0.96700508 | E61: =IF(C61>0,(D61-C61)/C61,"-") -> 0.028948462
B62: % condenas entre los españoles enjuiciados | C62: 0.94202899 | D62: 0.96 | E62: =IF(C62>0,(D62-C62)/C62,"-") -> 0.019076923
B63: % condenas entre los extranjeros enjuiciados | C63: 0.9378882 | D63: 0.97633136 | E63: =IF(C63>0,(D63-C63)/C63,"-") -> 0.040989067
C69: 2º trimestre 2025 | D69: 2º trimestre 2026 | E69: Evolución
B70: ASUNTOS PENALES | C70: 1750 | D70: 2406 | E70: =IF(C70>0,(D70-C70)/C70,"-") -> 0.37485714
B71: Diligencia Urgentes | C71: 706 | D71: 1104 | E71: =IF(C71>0,(D71-C71)/C71,"-") -> 0.56373938
B72: Sumarios | C72: 2 | D72: 3 | E72: =IF(C72>0,(D72-C72)/C72,"-") -> 0.5
B73: Diligencia Previas | C73: 635 | D73: 980 | E73: =IF(C73>0,(D73-C73)/C73,"-") -> 0.54330709
B74: Procedimientos abreviados | C74: 354 | D74: 265 | E74: =IF(C74>0,(D74-C74)/C74,"-") -> -0.25141243
B75: Juicios sobre delitos leves | C75: 52 | D75: 54 | E75: =IF(C75>0,(D75-C75)/C75,"-") -> 0.038461538
B76: Procesos por aceptacion de decreto | C76: 0 | D76: 0 | E76: =IF(C76>0,(D76-C76)/C76,"-") -> -
B77: Ley Orgánica 5/95 Jurado | C77: 1 | D77: 0 | E77: =IF(C77>0,(D77-C77)/C77,"-") -> -1
C89: 2º trimestre 2025 | D89: 2º trimestre 2026 | E89: Evolución
B90: Por Sententencia Condenatoria con conformidad | C90: 178 | D90: 127 | E90: =IF(C90>0,(D90-C90)/C90,"-") -> -0.28651685
B91: Por Sententencia Condenatoria sin conformidad | C91: 44 | D91: 40 | E91: =IF(C91>0,(D91-C91)/C91,"-") -> -0.090909091
B92: Sentencia Absolutoria | C92: 57 | D92: 47 | E92: =IF(C92>0,(D92-C92)/C92,"-") -> -0.1754386
B93: Porcentaje de Sentencias condenatorias | C93: =(C90+C91)/(C90+C91+C92) -> 0.79569892 | D93: =(D90+D91)/(D90+D91+D92) -> 0.78037383 | E93: =IF(C93>0,(D93-C93)/C93,"-") -> -0.019259914
C99: 2º trimestre 2025 | D99: 2º trimestre 2026 | E99: Evolución
B100: Personas enjuiciadas | C100: 280 | D100: 215 | E100: =IF(C100>0,(D100-C100)/C100,"-") -> -0.23214286
B101: Condenado Español | C101: 125 | D101: 98 | E101: =IF(C101>0,(D101-C101)/C101,"-") -> -0.216
B102: Condenado Extranjero | C102: 97 | D102: 70 | E102: =IF(C102>0,(D102-C102)/C102,"-") -> -0.27835052
B103: % condenados entre los enjuiciados | C103: =(C101+C102)/C100 -> 0.79285714 | D103: =(D101+D102)/D100 -> 0.78139535 | E103: =IF(C103>0,(D103-C103)/C103,"-") -> -0.014456317
B104: % condenas entre los españoles enjuiciados | C104: 0.76219512 | D104: 0.83050847 | E104: =IF(C104>0,(D104-C104)/C104,"-") -> 0.089627119
B105: % condenas entre los extranjeros enjuiciados | C105: 0.8362069 | D105: 0.72164948 | E105: =IF(C105>0,(D105-C105)/C105,"-") -> -0.13699649
C111: 2º trimestre 2025 | D111: 2º trimestre 2026 | E111: Evolución
B112: Asuntos Total | C112: 281 | D112: 214 | E112: =IF(C112>0,(D112-C112)/C112,"-") -> -0.23843416
B113: Procedimientos Abreviados | C113: 235 | D113: 152 | E113: =IF(C113>0,(D113-C113)/C113,"-") -> -0.35319149
B114: Diligencias Urgentes | C114: 46 | D114: 62 | E114: =IF(C114>0,(D114-C114)/C114,"-") -> 0.34782609
C126: 2º trimestre 2025 | G126: 2º trimestre 2026 | K126: EVOLUCIÓN
C127: Sumario | D127: Proc.Abrev. | E127: Proc.Jurado | F127: TOTAL | G127: Sumario | H127: Proc.Abrev. | I127: Proc.Jurado | J127: TOTAL | K127: Sumario | L127: Proc.Abrev. | M127: Proc.Jurado | N127: TOTAL
B128: Condenatorias | C128: 1 | D128: 0 | E128: 0 | F128: 1 | G128: 2 | H128: 2 | I128: 0 | J128: 4 | K128: =IF(C128=0,"-",(G128-C128)/C128) -> 1 | L128: =IF(D128=0,"-",(H128-D128)/D128) -> - | M128: =IF(E128=0,"-",(I128-E128)/E128) -> - | N128: =IF(F128=0,"-",(J128-F128)/F128) -> 3
B129: Absolutorias | C129: 0 | D129: 0 | E129: 0 | F129: 0 | G129: 0 | H129: 0 | I129: 0 | J129: 0 | K129: =IF(C129=0,"-",(G129-C129)/C129) -> - | L129: =IF(D129=0,"-",(H129-D129)/D129) -> - | M129: =IF(E129=0,"-",(I129-E129)/E129) -> - | N129: =IF(F129=0,"-",(J129-F129)/F129) -> -
B130: Sobreseimiento Libre | C130: 0 | D130: 0 | E130: 0 | F130: 0 | G130: 0 | H130: 0 | I130: 0 | J130: 0 | K130: =IF(C130=0,"-",(G130-C130)/C130) -> - | L130: =IF(D130=0,"-",(H130-D130)/D130) -> - | M130: =IF(E130=0,"-",(I130-E130)/E130) -> - | N130: =IF(F130=0,"-",(J130-F130)/F130) -> -
B131: Sobreseimiento Provisional | C131: 0 | D131: 0 | E131: 0 | F131: 0 | G131: 0 | H131: 0 | I131: 0 | J131: 0 | K131: =IF(C131=0,"-",(G131-C131)/C131) -> - | L131: =IF(D131=0,"-",(H131-D131)/D131) -> - | M131: =IF(E131=0,"-",(I131-E131)/E131) -> - | N131: =IF(F131=0,"-",(J131-F131)/F131) -> -
B132: Otras | C132: 0 | D132: 0 | E132: 0 | F132: 0 | G132: 0 | H132: 0 | I132: 0 | J132: 0 | K132: =IF(C132=0,"-",(G132-C132)/C132) -> - | L132: =IF(D132=0,"-",(H132-D132)/D132) -> - | M132: =IF(E132=0,"-",(I132-E132)/E132) -> - | N132: =IF(F132=0,"-",(J132-F132)/F132) -> -
B133: Total | C133: 1 | D133: 0 | E133: 0 | F133: 1 | G133: 2 | H133: 2 | I133: 0 | J133: 4 | K133: =IF(C133=0,"-",(G133-C133)/C133) -> 1 | L133: =IF(D133=0,"-",(H133-D133)/D133) -> - | M133: =IF(E133=0,"-",(I133-E133)/E133) -> - | N133: =IF(F133=0,"-",(J133-F133)/F133) -> 3
B134: Porcentaje Sentencias Condenatorias | C134: =IF(C128=0,"-",C128/(C128+C129)) -> 1 | D134: =IF(D128=0,"-",D128/(D128+D129)) -> - | E134: =IF(E128=0,"-",E128/(E128+E129)) -> - | F134: =IF(F128=0,"-",F128/(F128+F129)) -> 1 | G134: =IF(G128=0,"-",G128/(G128+G129)) -> 1 | H134: =IF(H128=0,"-",H128/(H128+H129)) -> 1 | I134: =IF(I128=0,"-",I128/(I128+I129)) -> - | J134: =IF(J128=0,"-",J128/(J128+J129)) -> 1 | K134: =IF(OR(C134="-",G134="-"),"-",(G134-C134)/C134) -> 0 | L134: =IF(OR(D134="-",H134="-"),"-",(H134-D134)/D134) -> - | M134: =IF(OR(E134="-",I134="-"),"-",(I134-E134)/E134) -> - | N134: =IF(OR(F134="-",J134="-"),"-",(J134-F134)/F134) -> 0
B135: Porcentaje Terminacion por SP | C135: =IF(C131=0,"-",C131/(C130+C131)) -> - | D135: =IF(D131=0,"-",D131/(D130+D131)) -> - | E135: =IF(E131=0,"-",E131/(E130+E131)) -> - | F135: =IF(F131=0,"-",F131/(F130+F131)) -> - | G135: =IF(G131=0,"-",G131/(G130+G131)) -> - | H135: =IF(H131=0,"-",H131/(H130+H131)) -> - | I135: =IF(I131=0,"-",I131/(I130+I131)) -> - | J135: =IF(J131=0,"-",J131/(J130+J131)) -> - | K135: =IF(OR(C135="-",G135="-"),"-",(G135-C135)/C135) -> - | L135: =IF(OR(D135="-",H135="-"),"-",(H135-D135)/D135) -> - | M135: =IF(OR(E135="-",I135="-"),"-",(I135-E135)/E135) -> - | N135: =IF(OR(F135="-",J135="-"),"-",(J135-F135)/F135) -> -
C141: 2º trimestre 2025 | G141: 2º trimestre 2026 | K141: EVOLUCIÓN
C142: Proc.Abrev. | D142: Juicios de Faltas | E142: Juicios sobre Delitos Leves | F142: TOTAL | G142: Proc.Abrev. | H142: Juicios de Faltas | I142: Juicios sobre Delitos Leves | J142: TOTAL | K142: Proc.Abrev. | L142: Juicios de Faltas | M142: Juicios sobre Delitos Leves | N142: TOTAL
B143: Estimatorios Sentencias Condenatorias | C143: 2 | D143: 0 | E143: 0 | F143: 2 | G143: 23 | H143: 0 | I143: 0 | J143: 23 | K143: =IF(C143=0,"-",(G143-C143)/C143) -> 10.5 | L143: =IF(D143=0,"-",(H143-D143)/D143) -> - | M143: =IF(E143=0,"-",(I143-E143)/E143) -> - | N143: =IF(F143=0,"-",(J143-F143)/F143) -> 10.5
B144: Estimatorios Sentencias Absolutorias | C144: 0 | D144: 0 | E144: 0 | F144: 0 | G144: 0 | H144: 0 | I144: 0 | J144: 0 | K144: =IF(C144=0,"-",(G144-C144)/C144) -> - | L144: =IF(D144=0,"-",(H144-D144)/D144) -> - | M144: =IF(E144=0,"-",(I144-E144)/E144) -> - | N144: =IF(F144=0,"-",(J144-F144)/F144) -> -
B145: Desestimatorios Sentencias Condenatorias | C145: 12 | D145: 0 | E145: 1 | F145: 13 | G145: 5 | H145: 0 | I145: 1 | J145: 6 | K145: =IF(C145=0,"-",(G145-C145)/C145) -> -0.58333333 | L145: =IF(D145=0,"-",(H145-D145)/D145) -> - | M145: =IF(E145=0,"-",(I145-E145)/E145) -> 0 | N145: =IF(F145=0,"-",(J145-F145)/F145) -> -0.53846154
B146: Desestimatorios Sentencias Absolutorias | C146: 0 | D146: 0 | E146: 0 | F146: 0 | G146: 0 | H146: 0 | I146: 0 | J146: 0 | K146: =IF(C146=0,"-",(G146-C146)/C146) -> - | L146: =IF(D146=0,"-",(H146-D146)/D146) -> - | M146: =IF(E146=0,"-",(I146-E146)/E146) -> - | N146: =IF(F146=0,"-",(J146-F146)/F146) -> -
B147: Por Otras Causas | C147: 0 | D147: 0 | E147: 0 | F147: 0 | G147: 0 | H147: 0 | I147: 0 | J147: 0 | K147: =IF(C147=0,"-",(G147-C147)/C147) -> - | L147: =IF(D147=0,"-",(H147-D147)/D147) -> - | M147: =IF(E147=0,"-",(I147-E147)/E147) -> - | N147: =IF(F147=0,"-",(J147-F147)/F147) -> -
B148: Total | C148: 14 | D148: 0 | E148: 1 | F148: 15 | G148: 28 | H148: 0 | I148: 1 | J148: 29 | K148: =IF(C148=0,"-",(G148-C148)/C148) -> 1 | L148: =IF(D148=0,"-",(H148-D148)/D148) -> - | M148: =IF(E148=0,"-",(I148-E148)/E148) -> 0 | N148: =IF(F148=0,"-",(J148-F148)/F148) -> 0.93333333
B149: Porcentaje Estimación Recursos contra Sentencias Condenatorias | C149: =IF(C143=0,"-",(C143/(C143+C145))) -> 0.14285714 | D149: =IF(D143=0,"-",(D143/(D143+D145))) -> - | E149: =IF(E143=0,"-",(E143/(E143+E145))) -> - | F149: =IF(F143=0,"-",(F143/(F143+F145))) -> 0.13333333 | G149: =IF(G143=0,"-",(G143/(G143+G145))) -> 0.82142857 | H149: =IF(H143=0,"-",(H143/(H143+H145))) -> - | I149: =IF(I143=0,"-",(I143/(I143+I145))) -> - | J149: =IF(J143=0,"-",(J143/(J143+J145))) -> 0.79310345 | K149: =IF(OR(C149="-",G149="-"),"-",(G149-C149)/C149) -> 4.75 | L149: =IF(OR(D149="-",H149="-"),"-",(H149-D149)/D149) -> - | M149: =IF(OR(E149="-",I149="-"),"-",(I149-E149)/E149) -> - | N149: =IF(OR(F149="-",J149="-"),"-",(J149-F149)/F149) -> 4.9482759
B150: Porcentaje Estimación Recursos contra Sentencias Absolutorias | C150: =IF(C144=0,"-",(C144/(C144+C146))) -> - | D150: =IF(D144=0,"-",(D144/(D144+D146))) -> - | E150: =IF(E144=0,"-",(E144/(E144+E146))) -> - | F150: =IF(F144=0,"-",(F144/(F144+F146))) -> - | G150: =IF(G144=0,"-",(G144/(G144+G146))) -> - | H150: =IF(H144=0,"-",(H144/(H144+H146))) -> - | I150: =IF(I144=0,"-",(I144/(I144+I146))) -> - | J150: =IF(J144=0,"-",(J144/(J144+J146))) -> - | K150: =IF(OR(C150="-",G150="-"),"-",(G150-C150)/C150) -> - | L150: =IF(OR(D150="-",H150="-"),"-",(H150-D150)/D150) -> - | M150: =IF(OR(E150="-",I150="-"),"-",(I150-E150)/E150) -> - | N150: =IF(OR(F150="-",J150="-"),"-",(J150-F150)/F150) -> -
C156: 2º trimestre 2025 | D156: 2º trimestre 2026 | E156: Evolución
B157: Confirmaciones en Apelación P.Delito | C157: 12 | D157: 23 | E157: =IF(C157=0,"-",(D157-C157)/C157) -> 0.91666667
B158: Revocaciones en Apelación P.Delito | C158: 2 | D158: 5 | E158: =IF(C158=0,"-",(D158-C158)/C158) -> 1.5
B159: Anulaciones en Apelación P.Delito | C159: 0 | D159: 0 | E159: =IF(C159=0,"-",(D159-C159)/C159) -> -
B160: Porcentaje Confirmaciones P.Delitos | C160: =IF(C157=0,"-",C157/(C157+C158+C159)) -> 0.85714286 | D160: =IF(D157=0,"-",D157/(D157+D158+D159)) -> 0.82142857 | E160: =IF(OR(C160="-",D160="-"),"-",(D160-C160)/C160) -> -0.041666667
C165: 2º trimestre 2025 | D165: 2º trimestre 2026 | E165: Evolución
B166: Personas enjuiciadas | C166: 1 | D166: 4 | E166: =IF(C166=0,"-",(D166-C166)/C166) -> 3
B167: Condenado Español | C167: 1 | D167: 2 | E167: =IF(C167=0,"-",(D167-C167)/C167) -> 1
B168: Condenado Extranjero | C168: 0 | D168: 2 | E168: =IF(C168=0,"-",(D168-C168)/C168) -> -
B169: % condenados entre los enjuiciados | C169: =IF(C166=0,"-",(C167+C168)/C166) -> 1 | D169: =IF(D166=0,"-",(D167+D168)/D166) -> 1 | E169: =IF(OR(C169="-",D169="-"),"-",(D169-C169)/C169) -> 0
B170: % condenas entre los españoles enjuiciados | C170: 1 | D170: 1 | E170: =IF(OR(C170="-",D170="-"),"-",(D170-C170)/C170) -> 0
B171: % condenas entre los extranjeros enjuiciados | C171: - | D171: 1 | E171: =IF(OR(C171="-",D171="-"),"-",(D171-C171)/C171) -> -
C177: 2º trimestre 2025 | D177: 2º trimestre 2026 | E177: Evolución
B178: PROCESOS PRIMERA INSTANCIA Total | C178: 3 | D178: 7 | E178: =IF(C178=0,"-",(D178-C178)/C178) -> 1.3333333
B179: Sumarios | C179: 3 | D179: 5 | E179: =IF(C179=0,"-",(D179-C179)/C179) -> 0.66666667
B180: Procedimientos abreviados | C180: 0 | D180: 2 | E180: =IF(C180=0,"-",(D180-C180)/C180) -> -
B181: Procedimientos Jurado | C181: 0 | D181: 0 | E181: =IF(C181=0,"-",(D181-C181)/C181) -> -
B182: RECURSOS (APELACIONES DE SENTENCIAS) | C182: 17 | D182: 45 | E182: =IF(C182=0,"-",(D182-C182)/C182) -> 1.6470588
B183: Procedimientos abreviados | C183: 15 | D183: 35 | E183: =IF(C183=0,"-",(D183-C183)/C183) -> 1.3333333
B184: Juicios de Faltas | C184: 0 | D184: 0 | E184: =IF(C184=0,"-",(D184-C184)/C184) -> -
...

Sheet Canarias
B11: =Portada!B9 -> 2º Trimestre 2026
C13: 2º trimestre 2025 | D13: 2º trimestre 2026 | E13: Evolución
B14: DENUNCIAS RECIBIDAS - TOTAL | C14: 2841 | D14: 2995 | E14: =IF(C14>0,(D14-C14)/C14) -> 0.054206265
B15: VÍCTIMAS | C15: 2657 | D15: 2714 | E15: =IF(C15>0,(D15-C15)/C15) -> 0.021452766
B16: Víctimas Españolas | C16: 1842 | D16: 2035 | E16: =IF(C16>0,(D16-C16)/C16) -> 0.10477742
B17: Víctimas Extranjeras | C17: 815 | D17: 679 | E17: =IF(C17>0,(D17-C17)/C17) -> -0.16687117
B18: Víctimas Españolas menores | C18: 0 | D18: 4 | E18: =IF(C18=0,"-",(D18-C18)/C18) -> -
B19: Víctimas Extranjeras menores | C19: 0 | D19: 0 | E19: =IF(C19=0,"-",(D19-C19)/C19) -> -
B20: % Extranjeras entre las víctimas | C20: =C17/C15 -> 0.30673692 | D20: =D17/D15 -> 0.25018423 | E20: =IF(C20>0,(D20-C20)/C20) -> -0.18436871
B21: RENUNCIAS (La victima se acoge a la dispensa a la obligacion de declarar como testigo) | C21: 412 | D21: 311 | E21: =IF(C21>0,(D21-C21)/C21) -> -0.24514563
B22: Renuncias por Española | C22: 203 | D22: 181 | E22: =IF(C22>0,(D22-C22)/C22) -> -0.10837438
B23: Renuncias por Extranjera | C23: 209 | D23: 130 | E23: =IF(C23>0,(D23-C23)/C23) -> -0.37799043
B24: % Extranjeras entre las Renuncias | C24: =C23/C21 -> 0.50728155 | D24: =D23/D21 -> 0.41800643 | E24: =IF(C24>0,(D24-C24)/C24) -> -0.17598732
B25: Víctimas de Violencia de Género cada 10.000 Mujeres | C25: 0.23224611 | D25: 0.23722843 | E25: =IF(C25>0,(D25-C25)/C25) -> 0.021452766
C33: 2º trimestre 2025 | D33: 2º trimestre 2026 | E33: Evolución
B34: Incoadas | C34: 567 | D34: 440 | E34: =IF(C34>0,(D34-C34)/C34,"-") -> -0.22398589
B35: Inadmitidas | C35: 10 | D35: 5 | E35: =IF(C35>0,(D35-C35)/C35,"-") -> -0.5
B36: Adoptadas | C36: 408 | D36: 297 | E36: =IF(C36>0,(D36-C36)/C36,"-") -> -0.27205882
B37: Denegadas | C37: 149 | D37: 138 | E37: =IF(C37>0,(D37-C37)/C37,"-") -> -0.073825503
C43: 2º trimestre 2025 | D43: 2º trimestre 2026 | E43: Evolución
B44: Sentencias Condenatorias | C44: 715 | D44: 649 | E44: =IF(C44>0,(D44-C44)/C44,"-") -> -0.092307692
B45: Sentencias Absolutorias | C45: 38 | D45: 11 | E45: =IF(C45>0,(D45-C45)/C45,"-") -> -0.71052632
B46: Sobreseimientos libres | C46: 99 | D46: 130 | E46: =IF(C46>0,(D46-C46)/C46,"-") -> 0.31313131
B47: Sobreseimientos provisionales | C47: 1121 | D47: 963 | E47: =IF(C47>0,(D47-C47)/C47,"-") -> -0.14094558
B48: Elevación | C48: 206 | D48: 220 | E48: =IF(C48>0,(D48-C48)/C48,"-") -> 0.067961165
B49: Otras | C49: 587 | D49: 1044 | E49: =IF(C49>0,(D49-C49)/C49,"-") -> 0.77853492
B50: Porcentaje Sentencias Condenatorias | C50: =C44/(C44+C45) -> 0.94953519 | D50: =D44/(D44+D45) -> 0.98333333 | E50: =IF(C50>0,(D50-C50)/C50,"-") -> 0.035594406
B51: Porcentaje Terminacion por SP | C51: =C47/(C46+C47) -> 0.91885246 | D51: =D47/(D46+D47) -> 0.8810613 | E51: =IF(C51>0,(D51-C51)/C51,"-") -> -0.041128649
C57: 2º trimestre 2025 | D57: 2º trimestre 2026 | E57: Evolución
B58: Personas enjuiciadas | C58: 754 | D58: 660 | E58: =IF(C58>0,(D58-C58)/C58,"-") -> -0.12466844
B59: Condenado Español | C59: 521 | D59: 469 | E59: =IF(C59>0,(D59-C59)/C59,"-") -> -0.099808061
B60: Condenado Extranjero | C60: 195 | D60: 180 | E60: =IF(C60>0,(D60-C60)/C60,"-") -> -0.076923077
B61: % condenados entre los enjuiciados | C61: =(C59+C60)/C58 -> 0.94960212 | D61: =(D59+D60)/D58 -> 0.98333333 | E61: =IF(C61>0,(D61-C61)/C61,"-") -> 0.035521415
B62: % condenas entre los españoles enjuiciados | C62: 0.94384058 | D62: 0.97912317 | E62: =IF(C62>0,(D62-C62)/C62,"-") -> 0.037381942
B63: % condenas entre los extranjeros enjuiciados | C63: 0.96534653 | D63: 0.99447514 | E63: =IF(C63>0,(D63-C63)/C63,"-") -> 0.030174246
C69: 2º trimestre 2025 | D69: 2º trimestre 2026 | E69: Evolución
B70: ASUNTOS PENALES | C70: 2702 | D70: 2854 | E70: =IF(C70>0,(D70-C70)/C70,"-") -> 0.056254626
B71: Diligencia Urgentes | C71: 1464 | D71: 1234 | E71: =IF(C71>0,(D71-C71)/C71,"-") -> -0.15710383
B72: Sumarios | C72: 3 | D72: 8 | E72: =IF(C72>0,(D72-C72)/C72,"-") -> 1.6666667
B73: Diligencia Previas | C73: 847 | D73: 1248 | E73: =IF(C73>0,(D73-C73)/C73,"-") -> 0.47343566
B74: Procedimientos abreviados | C74: 208 | D74: 209 | E74: =IF(C74>0,(D74-C74)/C74,"-") -> 0.0048076923
B75: Juicios sobre delitos leves | C75: 178 | D75: 153 | E75: =IF(C75>0,(D75-C75)/C75,"-") -> -0.14044944
B76: Procesos por aceptacion de decreto | C76: 0 | D76: 0 | E76: =IF(C76>0,(D76-C76)/C76,"-") -> -
B77: Ley Orgánica 5/95 Jurado | C77: 2 | D77: 2 | E77: =IF(C77>0,(D77-C77)/C77,"-") -> 0
C89: 2º trimestre 2025 | D89: 2º trimestre 2026 | E89: Evolución
B90: Por Sententencia Condenatoria con conformidad | C90: 87 | D90: 71 | E90: =IF(C90>0,(D90-C90)/C90,"-") -> -0.18390805
B91: Por Sententencia Condenatoria sin conformidad | C91: 58 | D91: 82 | E91: =IF(C91>0,(D91-C91)/C91,"-") -> 0.4137931
B92: Sentencia Absolutoria | C92: 82 | D92: 67 | E92: =IF(C92>0,(D92-C92)/C92,"-") -> -0.18292683
B93: Porcentaje de Sentencias condenatorias | C93: =(C90+C91)/(C90+C91+C92) -> 0.63876652 | D93: =(D90+D91)/(D90+D91+D92) -> 0.69545455 | E93: =IF(C93>0,(D93-C93)/C93,"-") -> 0.088746082
C99: 2º trimestre 2025 | D99: 2º trimestre 2026 | E99: Evolución
B100: Personas enjuiciadas | C100: 227 | D100: 220 | E100: =IF(C100>0,(D100-C100)/C100,"-") -> -0.030837004
B101: Condenado Español | C101: 106 | D101: 108 | E101: =IF(C101>0,(D101-C101)/C101,"-") -> 0.018867925
B102: Condenado Extranjero | C102: 39 | D102: 45 | E102: =IF(C102>0,(D102-C102)/C102,"-") -> 0.15384615
B103: % condenados entre los enjuiciados | C103: =(C101+C102)/C100 -> 0.63876652 | D103: =(D101+D102)/D100 -> 0.69545455 | E103: =IF(C103>0,(D103-C103)/C103,"-") -> 0.088746082
B104: % condenas entre los españoles enjuiciados | C104: 0.61988304 | D104: 0.63157895 | E104: =IF(C104>0,(D104-C104)/C104,"-") -> 0.018867925
B105: % condenas entre los extranjeros enjuiciados | C105: 0.69642857 | D105: 0.91836735 | E105: =IF(C105>0,(D105-C105)/C105,"-") -> 0.31868132
C111: 2º trimestre 2025 | D111: 2º trimestre 2026 | E111: Evolución
B112: Asuntos Total | C112: 191 | D112: 170 | E112: =IF(C112>0,(D112-C112)/C112,"-") -> -0.10994764
B113: Procedimientos Abreviados | C113: 105 | D113: 70 | E113: =IF(C113>0,(D113-C113)/C113,"-") -> -0.33333333
B114: Diligencias Urgentes | C114: 86 | D114: 100 | E114: =IF(C114>0,(D114-C114)/C114,"-") -> 0.1627907
C126: 2º trimestre 2025 | G126: 2º trimestre 2026 | K126: EVOLUCIÓN
C127: Sumario | D127: Proc.Abrev. | E127: Proc.Jurado | F127: TOTAL | G127: Sumario | H127: Proc.Abrev. | I127: Proc.Jurado | J127: TOTAL | K127: Sumario | L127: Proc.Abrev. | M127: Proc.Jurado | N127: TOTAL
B128: Condenatorias | C128: 1 | D128: 2 | E128: 0 | F128: 3 | G128: 2 | H128: 0 | I128: 0 | J128: 2 | K128: =IF(C128=0,"-",(G128-C128)/C128) -> 1 | L128: =IF(D128=0,"-",(H128-D128)/D128) -> -1 | M128: =IF(E128=0,"-",(I128-E128)/E128) -> - | N128: =IF(F128=0,"-",(J128-F128)/F128) -> -0.33333333
B129: Absolutorias | C129: 3 | D129: 0 | E129: 0 | F129: 3 | G129: 1 | H129: 0 | I129: 0 | J129: 1 | K129: =IF(C129=0,"-",(G129-C129)/C129) -> -0.66666667 | L129: =IF(D129=0,"-",(H129-D129)/D129) -> - | M129: =IF(E129=0,"-",(I129-E129)/E129) -> - | N129: =IF(F129=0,"-",(J129-F129)/F129) -> -0.66666667
B130: Sobreseimiento Libre | C130: 0 | D130: 0 | E130: 0 | F130: 0 | G130: 0 | H130: 0 | I130: 0 | J130: 0 | K130: =IF(C130=0,"-",(G130-C130)/C130) -> - | L130: =IF(D130=0,"-",(H130-D130)/D130) -> - | M130: =IF(E130=0,"-",(I130-E130)/E130) -> - | N130: =IF(F130=0,"-",(J130-F130)/F130) -> -
B131: Sobreseimiento Provisional | C131: 0 | D131: 0 | E131: 0 | F131: 0 | G131: 0 | H131: 0 | I131: 0 | J131: 0 | K131: =IF(C131=0,"-",(G131-C131)/C131) -> - | L131: =IF(D131=0,"-",(H131-D131)/D131) -> - | M131: =IF(E131=0,"-",(I131-E131)/E131) -> - | N131: =IF(F131=0,"-",(J131-F131)/F131) -> -
B132: Otras | C132: 0 | D132: 0 | E132: 0 | F132: 0 | G132: 0 | H132: 0 | I132: 0 | J132: 0 | K132: =IF(C132=0,"-",(G132-C132)/C132) -> - | L132: =IF(D132=0,"-",(H132-D132)/D132) -> - | M132: =IF(E132=0,"-",(I132-E132)/E132) -> - | N132: =IF(F132=0,"-",(J132-F132)/F132) -> -
B133: Total | C133: 4 | D133: 2 | E133: 0 | F133: 6 | G133: 3 | H133: 0 | I133: 0 | J133: 3 | K133: =IF(C133=0,"-",(G133-C133)/C133) -> -0.25 | L133: =IF(D133=0,"-",(H133-D133)/D133) -> -1 | M133: =IF(E133=0,"-",(I133-E133)/E133) -> - | N133: =IF(F133=0,"-",(J133-F133)/F133) -> -0.5
B134: Porcentaje Sentencias Condenatorias | C134: =IF(C128=0,"-",C128/(C128+C129)) -> 0.25 | D134: =IF(D128=0,"-",D128/(D128+D129)) -> 1 | E134: =IF(E128=0,"-",E128/(E128+E129)) -> - | F134: =IF(F128=0,"-",F128/(F128+F129)) -> 0.5 | G134: =IF(G128=0,"-",G128/(G128+G129)) -> 0.66666667 | H134: =IF(H128=0,"-",H128/(H128+H129)) -> - | I134: =IF(I128=0,"-",I128/(I128+I129)) -> - | J134: =IF(J128=0,"-",J128/(J128+J129)) -> 0.66666667 | K134: =IF(OR(C134="-",G134="-"),"-",(G134-C134)/C134) -> 1.6666667 | L134: =IF(OR(D134="-",H134="-"),"-",(H134-D134)/D134) -> - | M134: =IF(OR(E134="-",I134="-"),"-",(I134-E134)/E134) -> - | N134: =IF(OR(F134="-",J134="-"),"-",(J134-F134)/F134) -> 0.33333333
B135: Porcentaje Terminacion por SP | C135: =IF(C131=0,"-",C131/(C130+C131)) -> - | D135: =IF(D131=0,"-",D131/(D130+D131)) -> - | E135: =IF(E131=0,"-",E131/(E130+E131)) -> - | F135: =IF(F131=0,"-",F131/(F130+F131)) -> - | G135: =IF(G131=0,"-",G131/(G130+G131)) -> - | H135: =IF(H131=0,"-",H131/(H130+H131)) -> - | I135: =IF(I131=0,"-",I131/(I130+I131)) -> - | J135: =IF(J131=0,"-",J131/(J130+J131)) -> - | K135: =IF(OR(C135="-",G135="-"),"-",(G135-C135)/C135) -> - | L135: =IF(OR(D135="-",H135="-"),"-",(H135-D135)/D135) -> - | M135: =IF(OR(E135="-",I135="-"),"-",(I135-E135)/E135) -> - | N135: =IF(OR(F135="-",J135="-"),"-",(J135-F135)/F135) -> -
C141: 2º trimestre 2025 | G141: 2º trimestre 2026 | K141: EVOLUCIÓN
C142: Proc.Abrev. | D142: Juicios de Faltas | E142: Juicios sobre Delitos Leves | F142: TOTAL | G142: Proc.Abrev. | H142: Juicios de Faltas | I142: Juicios sobre Delitos Leves | J142: TOTAL | K142: Proc.Abrev. | L142: Juicios de Faltas | M142: Juicios sobre Delitos Leves | N142: TOTAL
B143: Estimatorios Sentencias Condenatorias | C143: 9 | D143: 0 | E143: 0 | F143: 9 | G143: 12 | H143: 0 | I143: 0 | J143: 12 | K143: =IF(C143=0,"-",(G143-C143)/C143) -> 0.33333333 | L143: =IF(D143=0,"-",(H143-D143)/D143) -> - | M143: =IF(E143=0,"-",(I143-E143)/E143) -> - | N143: =IF(F143=0,"-",(J143-F143)/F143) -> 0.33333333
B144: Estimatorios Sentencias Absolutorias | C144: 0 | D144: 0 | E144: 0 | F144: 0 | G144: 4 | H144: 0 | I144: 0 | J144: 4 | K144: =IF(C144=0,"-",(G144-C144)/C144) -> - | L144: =IF(D144=0,"-",(H144-D144)/D144) -> - | M144: =IF(E144=0,"-",(I144-E144)/E144) -> - | N144: =IF(F144=0,"-",(J144-F144)/F144) -> -
B145: Desestimatorios Sentencias Condenatorias | C145: 35 | D145: 0 | E145: 5 | F145: 40 | G145: 29 | H145: 0 | I145: 1 | J145: 30 | K145: =IF(C145=0,"-",(G145-C145)/C145) -> -0.17142857 | L145: =IF(D145=0,"-",(H145-D145)/D145) -> - | M145: =IF(E145=0,"-",(I145-E145)/E145) -> -0.8 | N145: =IF(F145=0,"-",(J145-F145)/F145) -> -0.25
B146: Desestimatorios Sentencias Absolutorias | C146: 0 | D146: 0 | E146: 0 | F146: 0 | G146: 11 | H146: 0 | I146: 1 | J146: 12 | K146: =IF(C146=0,"-",(G146-C146)/C146) -> - | L146: =IF(D146=0,"-",(H146-D146)/D146) -> - | M146: =IF(E146=0,"-",(I146-E146)/E146) -> - | N146: =IF(F146=0,"-",(J146-F146)/F146) -> -
B147: Por Otras Causas | C147: 2 | D147: 0 | E147: 0 | F147: 2 | G147: 0 | H147: 0 | I147: 0 | J147: 0 | K147: =IF(C147=0,"-",(G147-C147)/C147) -> -1 | L147: =IF(D147=0,"-",(H147-D147)/D147) -> - | M147: =IF(E147=0,"-",(I147-E147)/E147) -> - | N147: =IF(F147=0,"-",(J147-F147)/F147) -> -1
B148: Total | C148: 46 | D148: 0 | E148: 5 | F148: 51 | G148: 56 | H148: 0 | I148: 2 | J148: 58
B149: Porcentaje Estimación Recursos contra Sentencias Condenatorias | C149: =IF(C143=0,"-",(C143/(C143+C145))) -> 0.20454545 | D149: =IF(D143=0,"-",(D143/(D143+D145))) -> - | E149: =IF(E143=0,"-",(E143/(E143+E145))) -> - | F149: =IF(F143=0,"-",(F143/(F143+F145))) -> 0.18367347 | G149: =IF(G143=0,"-",(G143/(G143+G145))) -> 0.29268293 | H149: =IF(H143=0,"-",(H143/(H143+H145))) -> - | I149: =IF(I143=0,"-",(I143/(I143+I145))) -> - | J149: =IF(J143=0,"-",(J143/(J143+J145))) -> 0.28571429 | K149: =IF(OR(C149="-",G149="-"),"-",(G149-C149)/C149) -> 0.43089431 | L149: =IF(OR(D149="-",H149="-"),"-",(H149-D149)/D149) -> - | M149: =IF(OR(E149="-",I149="-"),"-",(I149-E149)/E149) -> - | N149: =IF(OR(F149="-",J149="-"),"-",(J149-F149)/F149) -> 0.55555556
B150: Porcentaje Estimación Recursos contra Sentencias Absolutorias | C150: =IF(C144=0,"-",(C144/(C144+C146))) -> - | D150: =IF(D144=0,"-",(D144/(D144+D146))) -> - | E150: =IF(E144=0,"-",(E144/(E144+E146))) -> - | F150: =IF(F144=0,"-",(F144/(F144+F146))) -> - | G150: =IF(G144=0,"-",(G144/(G144+G146))) -> 0.26666667 | H150: =IF(H144=0,"-",(H144/(H144+H146))) -> - | I150: =IF(I144=0,"-",(I144/(I144+I146))) -> - | J150: =IF(J144=0,"-",(J144/(J144+J146))) -> 0.25 | K150: =IF(OR(C150="-",G150="-"),"-",(G150-C150)/C150) -> - | L150: =IF(OR(D150="-",H150="-"),"-",(H150-D150)/D150) -> - | M150: =IF(OR(E150="-",I150="-"),"-",(I150-E150)/E150) -> - | N150: =IF(OR(F150="-",J150="-"),"-",(J150-F150)/F150) -> -
C156: 2º trimestre 2025 | D156: 2º trimestre 2026 | E156: Evolución
B157: Confirmaciones en Apelación P.Delito | C157: 35 | D157: 40 | E157: =IF(C157=0,"-",(D157-C157)/C157) -> 0.14285714
B158: Revocaciones en Apelación P.Delito | C158: 8 | D158: 13 | E158: =IF(C158=0,"-",(D158-C158)/C158) -> 0.625
B159: Anulaciones en Apelación P.Delito | C159: 1 | D159: 3 | E159: =IF(C159=0,"-",(D159-C159)/C159) -> 2
B160: Porcentaje Confirmaciones P.Delitos | C160: =IF(C157=0,"-",C157/(C157+C158+C159)) -> 0.79545455 | D160: =IF(D157=0,"-",D157/(D157+D158+D159)) -> 0.71428571 | E160: =IF(OR(C160="-",D160="-"),"-",(D160-C160)/C160) -> -0.10204082
C165: 2º trimestre 2025 | D165: 2º trimestre 2026 | E165: Evolución
B166: Personas enjuiciadas | C166: 6 | D166: 3 | E166: =IF(C166=0,"-",(D166-C166)/C166) -> -0.5
B167: Condenado Español | C167: 1 | D167: 2 | E167: =IF(C167=0,"-",(D167-C167)/C167) -> 1
B168: Condenado Extranjero | C168: 2 | D168: 0 | E168: =IF(C168=0,"-",(D168-C168)/C168) -> -1
B169: % condenados entre los enjuiciados | C169: =IF(C166=0,"-",(C167+C168)/C166) -> 0.5 | D169: =IF(D166=0,"-",(D167+D168)/D166) -> 0.66666667 | E169: =IF(OR(C169="-",D169="-"),"-",(D169-C169)/C169) -> 0.33333333
B170: % condenas entre los españoles enjuiciados | C170: 0.33333333 | D170: 1 | E170: =IF(OR(C170="-",D170="-"),"-",(D170-C170)/C170) -> 2
B171: % condenas entre los extranjeros enjuiciados | C171: 0.66666667 | D171: - | E171: =IF(OR(C171="-",D171="-"),"-",(D171-C171)/C171) -> -
C177: 2º trimestre 2025 | D177: 2º trimestre 2026 | E177: Evolución
B178: PROCESOS PRIMERA INSTANCIA Total | C178: 0 | D178: 3 | E178: =IF(C178=0,"-",(D178-C178)/C178) -> -
B179: Sumarios | C179: 0 | D179: 2 | E179: =IF(C179=0,"-",(D179-C179)/C179) -> -
B180: Procedimientos abreviados | C180: 0 | D180: 0 | E180: =IF(C180=0,"-",(D180-C180)/C180) -> -
B181: Procedimientos Jurado | C181: 0 | D181: 1 | E181: =IF(C181=0,"-",(D181-C181)/C181) -> -
B182: RECURSOS (APELACIONES DE SENTENCIAS) | C182: 51 | D182: 81 | E182: =IF(C182=0,"-",(D182-C182)/C182) -> 0.58823529
B183: Procedimientos abreviados | C183: 46 | D183: 79 | E183: =IF(C183=0,"-",(D183-C183)/C183) -> 0.7173913
B184: Juicios de Faltas | C184: 0 | D184: 0 | E184: =IF(C184=0,"-",(D184-C184)/C184) -> -
...

Sheet Cantabria
B11: =Portada!B9 -> 2º Trimestre 2026
C13: 2º trimestre 2025 | D13: 2º trimestre 2026 | E13: Evolución
B14: DENUNCIAS RECIBIDAS - TOTAL | C14: 545 | D14: 487 | E14: =IF(C14>0,(D14-C14)/C14) -> -0.10642202
B15: VÍCTIMAS | C15: 488 | D15: 449 | E15: =IF(C15>0,(D15-C15)/C15) -> -0.079918033
B16: Víctimas Españolas | C16: 315 | D16: 283 | E16: =IF(C16>0,(D16-C16)/C16) -> -0.1015873
B17: Víctimas Extranjeras | C17: 173 | D17: 166 | E17: =IF(C17>0,(D17-C17)/C17) -> -0.040462428
B18: Víctimas Españolas menores | C18: 0 | D18: 0 | E18: =IF(C18=0,"-",(D18-C18)/C18) -> -
B19: Víctimas Extranjeras menores | C19: 0 | D19: 1 | E19: =IF(C19=0,"-",(D19-C19)/C19) -> -
B20: % Extranjeras entre las víctimas | C20: =C17/C15 -> 0.3545082 | D20: =D17/D15 -> 0.36971047 | E20: =IF(C20>0,(D20-C20)/C20) -> 0.042882707
B21: RENUNCIAS (La victima se acoge a la dispensa a la obligacion de declarar como testigo) | C21: 73 | D21: 118 | E21: =IF(C21>0,(D21-C21)/C21) -> 0.61643836
B22: Renuncias por Española | C22: 44 | D22: 69 | E22: =IF(C22>0,(D22-C22)/C22) -> 0.56818182
B23: Renuncias por Extranjera | C23: 29 | D23: 49 | E23: =IF(C23>0,(D23-C23)/C23) -> 0.68965517
B24: % Extranjeras entre las Renuncias | C24: =C23/C21 -> 0.39726027 | D24: =D23/D21 -> 0.41525424 | E24: =IF(C24>0,(D24-C24)/C24) -> 0.045295149
B25: Víctimas de Violencia de Género cada 10.000 Mujeres | C25: 0.15939222 | D25: 0.14665391 | E25: =IF(C25>0,(D25-C25)/C25) -> -0.079918033
C33: 2º trimestre 2025 | D33: 2º trimestre 2026 | E33: Evolución
B34: Incoadas | C34: 114 | D34: 120 | E34: =IF(C34>0,(D34-C34)/C34,"-") -> 0.052631579
B35: Inadmitidas | C35: 0 | D35: 0 | E35: =IF(C35>0,(D35-C35)/C35,"-") -> -
B36: Adoptadas | C36: 76 | D36: 71 | E36: =IF(C36>0,(D36-C36)/C36,"-") -> -0.065789474
B37: Denegadas | C37: 38 | D37: 49 | E37: =IF(C37>0,(D37-C37)/C37,"-") -> 0.28947368
C43: 2º trimestre 2025 | D43: 2º trimestre 2026 | E43: Evolución
B44: Sentencias Condenatorias | C44: 98 | D44: 88 | E44: =IF(C44>0,(D44-C44)/C44,"-") -> -0.10204082
B45: Sentencias Absolutorias | C45: 4 | D45: 8 | E45: =IF(C45>0,(D45-C45)/C45,"-") -> 1
B46: Sobreseimientos libres | C46: 11 | D46: 6 | E46: =IF(C46>0,(D46-C46)/C46,"-") -> -0.45454545
B47: Sobreseimientos provisionales | C47: 168 | D47: 199 | E47: =IF(C47>0,(D47-C47)/C47,"-") -> 0.18452381
B48: Elevación | C48: 71 | D48: 47 | E48: =IF(C48>0,(D48-C48)/C48,"-") -> -0.33802817
B49: Otras | C49: 21 | D49: 53 | E49: =IF(C49>0,(D49-C49)/C49,"-") -> 1.5238095
B50: Porcentaje Sentencias Condenatorias | C50: =C44/(C44+C45) -> 0.96078431 | D50: =D44/(D44+D45) -> 0.91666667 | E50: =IF(C50>0,(D50-C50)/C50,"-") -> -0.045918367
B51: Porcentaje Terminacion por SP | C51: =C47/(C46+C47) -> 0.93854749 | D51: =D47/(D46+D47) -> 0.97073171 | E51: =IF(C51>0,(D51-C51)/C51,"-") -> 0.034291521
C57: 2º trimestre 2025 | D57: 2º trimestre 2026 | E57: Evolución
B58: Personas enjuiciadas | C58: 102 | D58: 96 | E58: =IF(C58>0,(D58-C58)/C58,"-") -> -0.058823529
B59: Condenado Español | C59: 64 | D59: 58 | E59: =IF(C59>0,(D59-C59)/C59,"-") -> -0.09375
B60: Condenado Extranjero | C60: 34 | D60: 30 | E60: =IF(C60>0,(D60-C60)/C60,"-") -> -0.11764706
B61: % condenados entre los enjuiciados | C61: =(C59+C60)/C58 -> 0.96078431 | D61: =(D59+D60)/D58 -> 0.91666667 | E61: =IF(C61>0,(D61-C61)/C61,"-") -> -0.045918367
B62: % condenas entre los españoles enjuiciados | C62: 0.95522388 | D62: 0.90625 | E62: =IF(C62>0,(D62-C62)/C62,"-") -> -0.051269531
B63: % condenas entre los extranjeros enjuiciados | C63: 0.97142857 | D63: 0.9375 | E63: =IF(C63>0,(D63-C63)/C63,"-") -> -0.034926471
C69: 2º trimestre 2025 | D69: 2º trimestre 2026 | E69: Evolución
B70: ASUNTOS PENALES | C70: 540 | D70: 522 | E70: =IF(C70>0,(D70-C70)/C70,"-") -> -0.033333333
B71: Diligencia Urgentes | C71: 203 | D71: 225 | E71: =IF(C71>0,(D71-C71)/C71,"-") -> 0.10837438
B72: Sumarios | C72: 0 | D72: 0 | E72: =IF(C72>0,(D72-C72)/C72,"-") -> -
B73: Diligencia Previas | C73: 245 | D73: 210 | E73: =IF(C73>0,(D73-C73)/C73,"-") -> -0.14285714
B74: Procedimientos abreviados | C74: 68 | D74: 68 | E74: =IF(C74>0,(D74-C74)/C74,"-") -> 0
B75: Juicios sobre delitos leves | C75: 23 | D75: 18 | E75: =IF(C75>0,(D75-C75)/C75,"-") -> -0.2173913
B76: Procesos por aceptacion de decreto | C76: 0 | D76: 0 | E76: =IF(C76>0,(D76-C76)/C76,"-") -> -
B77: Ley Orgánica 5/95 Jurado | C77: 1 | D77: 1 | E77: =IF(C77>0,(D77-C77)/C77,"-") -> 0
C89: 2º trimestre 2025 | D89: 2º trimestre 2026 | E89: Evolución
B90: Por Sententencia Condenatoria con conformidad | C90: 64 | D90: 61 | E90: =IF(C90>0,(D90-C90)/C90,"-") -> -0.046875
B91: Por Sententencia Condenatoria sin conformidad | C91: 22 | D91: 13 | E91: =IF(C91>0,(D91-C91)/C91,"-") -> -0.40909091
B92: Sentencia Absolutoria | C92: 21 | D92: 23 | E92: =IF(C92>0,(D92-C92)/C92,"-") -> 0.095238095
B93: Porcentaje de Sentencias condenatorias | C93: =(C90+C91)/(C90+C91+C92) -> 0.80373832 | D93: =(D90+D91)/(D90+D91+D92) -> 0.7628866 | E93: =IF(C93>0,(D93-C93)/C93,"-") -> -0.05082714
C99: 2º trimestre 2025 | D99: 2º trimestre 2026 | E99: Evolución
B100: Personas enjuiciadas | C100: 107 | D100: 97 | E100: =IF(C100>0,(D100-C100)/C100,"-") -> -0.093457944
B101: Condenado Español | C101: 69 | D101: 56 | E101: =IF(C101>0,(D101-C101)/C101,"-") -> -0.1884058
B102: Condenado Extranjero | C102: 17 | D102: 18 | E102: =IF(C102>0,(D102-C102)/C102,"-") -> 0.058823529
B103: % condenados entre los enjuiciados | C103: =(C101+C102)/C100 -> 0.80373832 | D103: =(D101+D102)/D100 -> 0.7628866 | E103: =IF(C103>0,(D103-C103)/C103,"-") -> -0.05082714
B104: % condenas entre los españoles enjuiciados | C104: 0.84146341 | D104: 0.70886076 | E104: =IF(C104>0,(D104-C104)/C104,"-") -> -0.15758576
B105: % condenas entre los extranjeros enjuiciados | C105: 0.68 | D105: 1 | E105: =IF(C105>0,(D105-C105)/C105,"-") -> 0.47058824
C111: 2º trimestre 2025 | D111: 2º trimestre 2026 | E111: Evolución
B112: Asuntos Total | C112: 104 | D112: 108 | E112: =IF(C112>0,(D112-C112)/C112,"-") -> 0.038461538
B113: Procedimientos Abreviados | C113: 47 | D113: 52 | E113: =IF(C113>0,(D113-C113)/C113,"-") -> 0.10638298
B114: Diligencias Urgentes | C114: 57 | D114: 56 | E114: =IF(C114>0,(D114-C114)/C114,"-") -> -0.01754386
C126: 2º trimestre 2025 | G126: 2º trimestre 2026 | K126: EVOLUCIÓN
C127: Sumario | D127: Proc.Abrev. | E127: Proc.Jurado | F127: TOTAL | G127: Sumario | H127: Proc.Abrev. | I127: Proc.Jurado | J127: TOTAL | K127: Sumario | L127: Proc.Abrev. | M127: Proc.Jurado | N127: TOTAL
B128: Condenatorias | C128: 0 | D128: 0 | E128: 0 | F128: 0 | G128: 0 | H128: 0 | I128: 0 | J128: 0 | K128: =IF(C128=0,"-",(G128-C128)/C128) -> - | L128: =IF(D128=0,"-",(H128-D128)/D128) -> - | M128: =IF(E128=0,"-",(I128-E128)/E128) -> - | N128: =IF(F128=0,"-",(J128-F128)/F128) -> -
B129: Absolutorias | C129: 0 | D129: 0 | E129: 0 | F129: 0 | G129: 0 | H129: 1 | I129: 0 | J129: 1 | K129: =IF(C129=0,"-",(G129-C129)/C129) -> - | L129: =IF(D129=0,"-",(H129-D129)/D129) -> - | M129: =IF(E129=0,"-",(I129-E129)/E129) -> - | N129: =IF(F129=0,"-",(J129-F129)/F129) -> -
B130: Sobreseimiento Libre | C130: 0 | D130: 0 | E130: 0 | F130: 0 | G130: 0 | H130: 0 | I130: 0 | J130: 0 | K130: =IF(C130=0,"-",(G130-C130)/C130) -> - | L130: =IF(D130=0,"-",(H130-D130)/D130) -> - | M130: =IF(E130=0,"-",(I130-E130)/E130) -> - | N130: =IF(F130=0,"-",(J130-F130)/F130) -> -
B131: Sobreseimiento Provisional | C131: 0 | D131: 0 | E131: 0 | F131: 0 | G131: 0 | H131: 0 | I131: 0 | J131: 0 | K131: =IF(C131=0,"-",(G131-C131)/C131) -> - | L131: =IF(D131=0,"-",(H131-D131)/D131) -> - | M131: =IF(E131=0,"-",(I131-E131)/E131) -> - | N131: =IF(F131=0,"-",(J131-F131)/F131) -> -
B132: Otras | C132: 0 | D132: 0 | E132: 0 | F132: 0 | G132: 0 | H132: 0 | I132: 0 | J132: 0 | K132: =IF(C132=0,"-",(G132-C132)/C132) -> - | L132: =IF(D132=0,"-",(H132-D132)/D132) -> - | M132: =IF(E132=0,"-",(I132-E132)/E132) -> - | N132: =IF(F132=0,"-",(J132-F132)/F132) -> -
B133: Total | C133: 0 | D133: 0 | E133: 0 | F133: 0 | G133: 0 | H133: 1 | I133: 0 | J133: 1 | K133: =IF(C133=0,"-",(G133-C133)/C133) -> - | L133: =IF(D133=0,"-",(H133-D133)/D133) -> - | M133: =IF(E133=0,"-",(I133-E133)/E133) -> - | N133: =IF(F133=0,"-",(J133-F133)/F133) -> -
B134: Porcentaje Sentencias Condenatorias | C134: =IF(C128=0,"-",C128/(C128+C129)) -> - | D134: =IF(D128=0,"-",D128/(D128+D129)) -> - | E134: =IF(E128=0,"-",E128/(E128+E129)) -> - | F134: =IF(F128=0,"-",F128/(F128+F129)) -> - | G134: =IF(G128=0,"-",G128/(G128+G129)) -> - | H134: =IF(H128=0,"-",H128/(H128+H129)) -> - | I134: =IF(I128=0,"-",I128/(I128+I129)) -> - | J134: =IF(J128=0,"-",J128/(J128+J129)) -> - | K134: =IF(OR(C134="-",G134="-"),"-",(G134-C134)/C134) -> - | L134: =IF(OR(D134="-",H134="-"),"-",(H134-D134)/D134) -> - | M134: =IF(OR(E134="-",I134="-"),"-",(I134-E134)/E134) -> - | N134: =IF(OR(F134="-",J134="-"),"-",(J134-F134)/F134) -> -
B135: Porcentaje Terminacion por SP | C135: =IF(C131=0,"-",C131/(C130+C131)) -> - | D135: =IF(D131=0,"-",D131/(D130+D131)) -> - | E135: =IF(E131=0,"-",E131/(E130+E131)) -> - | F135: =IF(F131=0,"-",F131/(F130+F131)) -> - | G135: =IF(G131=0,"-",G131/(G130+G131)) -> - | H135: =IF(H131=0,"-",H131/(H130+H131)) -> - | I135: =IF(I131=0,"-",I131/(I130+I131)) -> - | J135: =IF(J131=0,"-",J131/(J130+J131)) -> - | K135: =IF(OR(C135="-",G135="-"),"-",(G135-C135)/C135) -> - | L135: =IF(OR(D135="-",H135="-"),"-",(H135-D135)/D135) -> - | M135: =IF(OR(E135="-",I135="-"),"-",(I135-E135)/E135) -> - | N135: =IF(OR(F135="-",J135="-"),"-",(J135-F135)/F135) -> -
C141: 2º trimestre 2025 | G141: 2º trimestre 2026 | K141: EVOLUCIÓN
C142: Proc.Abrev. | D142: Juicios de Faltas | E142: Juicios sobre Delitos Leves | F142: TOTAL | G142: Proc.Abrev. | H142: Juicios de Faltas | I142: Juicios sobre Delitos Leves | J142: TOTAL | K142: Proc.Abrev. | L142: Juicios de Faltas | M142: Juicios sobre Delitos Leves | N142: TOTAL
B143: Estimatorios Sentencias Condenatorias | C143: 10 | D143: 0 | E143: 0 | F143: 10 | G143: 4 | H143: 0 | I143: 0 | J143: 4 | K143: =IF(C143=0,"-",(G143-C143)/C143) -> -0.6 | L143: =IF(D143=0,"-",(H143-D143)/D143) -> - | M143: =IF(E143=0,"-",(I143-E143)/E143) -> - | N143: =IF(F143=0,"-",(J143-F143)/F143) -> -0.6
B144: Estimatorios Sentencias Absolutorias | C144: 1 | D144: 0 | E144: 0 | F144: 1 | G144: 4 | H144: 0 | I144: 1 | J144: 5 | K144: =IF(C144=0,"-",(G144-C144)/C144) -> 3 | L144: =IF(D144=0,"-",(H144-D144)/D144) -> - | M144: =IF(E144=0,"-",(I144-E144)/E144) -> - | N144: =IF(F144=0,"-",(J144-F144)/F144) -> 4
B145: Desestimatorios Sentencias Condenatorias | C145: 8 | D145: 0 | E145: 0 | F145: 8 | G145: 22 | H145: 0 | I145: 0 | J145: 22 | K145: =IF(C145=0,"-",(G145-C145)/C145) -> 1.75 | L145: =IF(D145=0,"-",(H145-D145)/D145) -> - | M145: =IF(E145=0,"-",(I145-E145)/E145) -> - | N145: =IF(F145=0,"-",(J145-F145)/F145) -> 1.75
B146: Desestimatorios Sentencias Absolutorias | C146: 1 | D146: 0 | E146: 1 | F146: 2 | G146: 5 | H146: 0 | I146: 1 | J146: 6 | K146: =IF(C146=0,"-",(G146-C146)/C146) -> 4 | L146: =IF(D146=0,"-",(H146-D146)/D146) -> - | M146: =IF(E146=0,"-",(I146-E146)/E146) -> 0 | N146: =IF(F146=0,"-",(J146-F146)/F146) -> 2
B147: Por Otras Causas | C147: 0 | D147: 0 | E147: 0 | F147: 0 | G147: 0 | H147: 0 | I147: 0 | J147: 0 | K147: =IF(C147=0,"-",(G147-C147)/C147) -> - | L147: =IF(D147=0,"-",(H147-D147)/D147) -> - | M147: =IF(E147=0,"-",(I147-E147)/E147) -> - | N147: =IF(F147=0,"-",(J147-F147)/F147) -> -
B148: Total | C148: 20 | D148: 0 | E148: 1 | F148: 21 | G148: 35 | H148: 0 | I148: 2 | J148: 37 | K148: =IF(C148=0,"-",(G148-C148)/C148) -> 0.75 | L148: =IF(D148=0,"-",(H148-D148)/D148) -> - | M148: =IF(E148=0,"-",(I148-E148)/E148) -> 1 | N148: =IF(F148=0,"-",(J148-F148)/F148) -> 0.76190476
B149: Porcentaje Estimación Recursos contra Sentencias Condenatorias | C149: =IF(C143=0,"-",(C143/(C143+C145))) -> 0.55555556 | D149: =IF(D143=0,"-",(D143/(D143+D145))) -> - | E149: =IF(E143=0,"-",(E143/(E143+E145))) -> - | F149: =IF(F143=0,"-",(F143/(F143+F145))) -> 0.55555556 | G149: =IF(G143=0,"-",(G143/(G143+G145))) -> 0.15384615 | H149: =IF(H143=0,"-",(H143/(H143+H145))) -> - | I149: =IF(I143=0,"-",(I143/(I143+I145))) -> - | J149: =IF(J143=0,"-",(J143/(J143+J145))) -> 0.15384615 | K149: =IF(OR(C149="-",G149="-"),"-",(G149-C149)/C149) -> -0.72307692 | L149: =IF(OR(D149="-",H149="-"),"-",(H149-D149)/D149) -> - | M149: =IF(OR(E149="-",I149="-"),"-",(I149-E149)/E149) -> - | N149: =IF(OR(F149="-",J149="-"),"-",(J149-F149)/F149) -> -0.72307692
B150: Porcentaje Estimación Recursos contra Sentencias Absolutorias | C150: =IF(C144=0,"-",(C144/(C144+C146))) -> 0.5 | D150: =IF(D144=0,"-",(D144/(D144+D146))) -> - | E150: =IF(E144=0,"-",(E144/(E144+E146))) -> - | F150: =IF(F144=0,"-",(F144/(F144+F146))) -> 0.33333333 | G150: =IF(G144=0,"-",(G144/(G144+G146))) -> 0.44444444 | H150: =IF(H144=0,"-",(H144/(H144+H146))) -> - | I150: =IF(I144=0,"-",(I144/(I144+I146))) -> 0.5 | J150: =IF(J144=0,"-",(J144/(J144+J146))) -> 0.45454545 | K150: =IF(OR(C150="-",G150="-"),"-",(G150-C150)/C150) -> -0.11111111 | L150: =IF(OR(D150="-",H150="-"),"-",(H150-D150)/D150) -> - | M150: =IF(OR(E150="-",I150="-"),"-",(I150-E150)/E150) -> - | N150: =IF(OR(F150="-",J150="-"),"-",(J150-F150)/F150) -> 0.36363636
C156: 2º trimestre 2025 | D156: 2º trimestre 2026 | E156: Evolución
B157: Confirmaciones en Apelación P.Delito | C157: 9 | D157: 27 | E157: =IF(C157=0,"-",(D157-C157)/C157) -> 2
B158: Revocaciones en Apelación P.Delito | C158: 10 | D158: 8 | E158: =IF(C158=0,"-",(D158-C158)/C158) -> -0.2
B159: Anulaciones en Apelación P.Delito | C159: 0 | D159: 0 | E159: =IF(C159=0,"-",(D159-C159)/C159) -> -
B160: Porcentaje Confirmaciones P.Delitos | C160: =IF(C157=0,"-",C157/(C157+C158+C159)) -> 0.47368421 | D160: =IF(D157=0,"-",D157/(D157+D158+D159)) -> 0.77142857 | E160: =IF(OR(C160="-",D160="-"),"-",(D160-C160)/C160) -> 0.62857143
C165: 2º trimestre 2025 | D165: 2º trimestre 2026 | E165: Evolución
B166: Personas enjuiciadas | C166: 0 | D166: 1 | E166: =IF(C166=0,"-",(D166-C166)/C166) -> -
B167: Condenado Español | C167: 0 | D167: 0 | E167: =IF(C167=0,"-",(D167-C167)/C167) -> -
B168: Condenado Extranjero | C168: 0 | D168: 0 | E168: =IF(C168=0,"-",(D168-C168)/C168) -> -
B169: % condenados entre los enjuiciados | C169: =IF(C166=0,"-",(C167+C168)/C166) -> - | D169: =IF(D166=0,"-",(D167+D168)/D166) -> 0 | E169: =IF(OR(C169="-",D169="-"),"-",(D169-C169)/C169) -> -
B170: % condenas entre los españoles enjuiciados | C170: - | D170: - | E170: =IF(OR(C170="-",D170="-"),"-",(D170-C170)/C170) -> -
B171: % condenas entre los extranjeros enjuiciados | C171: - | D171: - | E171: =IF(OR(C171="-",D171="-"),"-",(D171-C171)/C171) -> -
C177: 2º trimestre 2025 | D177: 2º trimestre 2026 | E177: Evolución
B178: PROCESOS PRIMERA INSTANCIA Total | C178: 1 | D178: 1 | E178: =IF(C178=0,"-",(D178-C178)/C178) -> 0
B179: Sumarios | C179: 1 | D179: 1 | E179: =IF(C179=0,"-",(D179-C179)/C179) -> 0
B180: Procedimientos abreviados | C180: 0 | D180: 0 | E180: =IF(C180=0,"-",(D180-C180)/C180) -> -
B181: Procedimientos Jurado | C181: 0 | D181: 0 | E181: =IF(C181=0,"-",(D181-C181)/C181) -> -
B182: RECURSOS (APELACIONES DE SENTENCIAS) | C182: 34 | D182: 29 | E182: =IF(C182=0,"-",(D182-C182)/C182) -> -0.14705882
B183: Procedimientos abreviados | C183: 33 | D183: 27 | E183: =IF(C183=0,"-",(D183-C183)/C183) -> -0.18181818
B184: Juicios de Faltas | C184: 0 | D184: 0 | E184: =IF(C184=0,"-",(D184-C184)/C184) -> -
...

Sheet Castilla y León
B11: =Portada!B9 -> 2º Trimestre 2026
C13: 2º trimestre 2025 | D13: 2º trimestre 2026 | E13: Evolución
B14: DENUNCIAS RECIBIDAS - TOTAL | C14: 1542 | D14: 1660 | E14: =IF(C14>0,(D14-C14)/C14) -> 0.076523995
B15: VÍCTIMAS | C15: 1444 | D15: 1489 | E15: =IF(C15>0,(D15-C15)/C15) -> 0.031163435
B16: Víctimas Españolas | C16: 914 | D16: 913 | E16: =IF(C16>0,(D16-C16)/C16) -> -0.0010940919
B17: Víctimas Extranjeras | C17: 530 | D17: 576 | E17: =IF(C17>0,(D17-C17)/C17) -> 0.086792453
B18: Víctimas Españolas menores | C18: 11 | D18: 4 | E18: =IF(C18=0,"-",(D18-C18)/C18) -> -0.63636364
B19: Víctimas Extranjeras menores | C19: 0 | D19: 2 | E19: =IF(C19=0,"-",(D19-C19)/C19) -> -
B20: % Extranjeras entre las víctimas | C20: =C17/C15 -> 0.36703601 | D20: =D17/D15 -> 0.3868368 | E20: =IF(C20>0,(D20-C20)/C20) -> 0.053947819
B21: RENUNCIAS (La victima se acoge a la dispensa a la obligacion de declarar como testigo) | C21: 147 | D21: 183 | E21: =IF(C21>0,(D21-C21)/C21) -> 0.24489796
B22: Renuncias por Española | C22: 74 | D22: 80 | E22: =IF(C22>0,(D22-C22)/C22) -> 0.081081081
B23: Renuncias por Extranjera | C23: 73 | D23: 103 | E23: =IF(C23>0,(D23-C23)/C23) -> 0.4109589
B24: % Extranjeras entre las Renuncias | C24: =C23/C21 -> 0.49659864 | D24: =D23/D21 -> 0.56284153 | E24: =IF(C24>0,(D24-C24)/C24) -> 0.13339322
B25: Víctimas de Violencia de Género cada 10.000 Mujeres | C25: 0.11852358 | D25: 0.12221718 | E25: =IF(C25>0,(D25-C25)/C25) -> 0.031163435
C33: 2º trimestre 2025 | D33: 2º trimestre 2026 | E33: Evolución
B34: Incoadas | C34: 476 | D34: 499 | E34: =IF(C34>0,(D34-C34)/C34,"-") -> 0.048319328
B35: Inadmitidas | C35: 1 | D35: 1 | E35: =IF(C35>0,(D35-C35)/C35,"-") -> 0
B36: Adoptadas | C36: 334 | D36: 369 | E36: =IF(C36>0,(D36-C36)/C36,"-") -> 0.10479042
B37: Denegadas | C37: 141 | D37: 129 | E37: =IF(C37>0,(D37-C37)/C37,"-") -> -0.085106383
C43: 2º trimestre 2025 | D43: 2º trimestre 2026 | E43: Evolución
B44: Sentencias Condenatorias | C44: 267 | D44: 209 | E44: =IF(C44>0,(D44-C44)/C44,"-") -> -0.21722846
B45: Sentencias Absolutorias | C45: 22 | D45: 26 | E45: =IF(C45>0,(D45-C45)/C45,"-") -> 0.18181818
B46: Sobreseimientos libres | C46: 14 | D46: 20 | E46: =IF(C46>0,(D46-C46)/C46,"-") -> 0.42857143
B47: Sobreseimientos provisionales | C47: 624 | D47: 888 | E47: =IF(C47>0,(D47-C47)/C47,"-") -> 0.42307692
B48: Elevación | C48: 367 | D48: 317 | E48: =IF(C48>0,(D48-C48)/C48,"-") -> -0.13623978
B49: Otras | C49: 141 | D49: 196 | E49: =IF(C49>0,(D49-C49)/C49,"-") -> 0.39007092
B50: Porcentaje Sentencias Condenatorias | C50: =C44/(C44+C45) -> 0.92387543 | D50: =D44/(D44+D45) -> 0.8893617 | E50: =IF(C50>0,(D50-C50)/C50,"-") -> -0.037357558
B51: Porcentaje Terminacion por SP | C51: =C47/(C46+C47) -> 0.97805643 | D51: =D47/(D46+D47) -> 0.97797357 | E51: =IF(C51>0,(D51-C51)/C51,"-") -> -8.4717045e-05
C57: 2º trimestre 2025 | D57: 2º trimestre 2026 | E57: Evolución
B58: Personas enjuiciadas | C58: 289 | D58: 236 | E58: =IF(C58>0,(D58-C58)/C58,"-") -> -0.183391
B59: Condenado Español | C59: 181 | D59: 129 | E59: =IF(C59>0,(D59-C59)/C59,"-") -> -0.28729282
B60: Condenado Extranjero | C60: 86 | D60: 81 | E60: =IF(C60>0,(D60-C60)/C60,"-") -> -0.058139535
B61: % condenados entre los enjuiciados | C61: =(C59+C60)/C58 -> 0.92387543 | D61: =(D59+D60)/D58 -> 0.88983051 | E61: =IF(C61>0,(D61-C61)/C61,"-") -> -0.036850124
B62: % condenas entre los españoles enjuiciados | C62: 0.93298969 | D62: 0.84868421 | E62: =IF(C62>0,(D62-C62)/C62,"-") -> -0.09036057
B63: % condenas entre los extranjeros enjuiciados | C63: 0.90526316 | D63: 0.96428571 | E63: =IF(C63>0,(D63-C63)/C63,"-") -> 0.065199336
C69: 2º trimestre 2025 | D69: 2º trimestre 2026 | E69: Evolución
B70: ASUNTOS PENALES | C70: 1931 | D70: 1963 | E70: =IF(C70>0,(D70-C70)/C70,"-") -> 0.016571724
B71: Diligencia Urgentes | C71: 568 | D71: 622 | E71: =IF(C71>0,(D71-C71)/C71,"-") -> 0.095070423
B72: Sumarios | C72: 4 | D72: 7 | E72: =IF(C72>0,(D72-C72)/C72,"-") -> 0.75
B73: Diligencia Previas | C73: 989 | D73: 900 | E73: =IF(C73>0,(D73-C73)/C73,"-") -> -0.089989889
B74: Procedimientos abreviados | C74: 325 | D74: 375 | E74: =IF(C74>0,(D74-C74)/C74,"-") -> 0.15384615
B75: Juicios sobre delitos leves | C75: 45 | D75: 58 | E75: =IF(C75>0,(D75-C75)/C75,"-") -> 0.28888889
B76: Procesos por aceptacion de decreto | C76: 0 | D76: 0 | E76: =IF(C76>0,(D76-C76)/C76,"-") -> -
B77: Ley Orgánica 5/95 Jurado | C77: 0 | D77: 1 | E77: =IF(C77>0,(D77-C77)/C77,"-") -> -
C89: 2º trimestre 2025 | D89: 2º trimestre 2026 | E89: Evolución
B90: Por Sententencia Condenatoria con conformidad | C90: 177 | D90: 192 | E90: =IF(C90>0,(D90-C90)/C90,"-") -> 0.084745763
B91: Por Sententencia Condenatoria sin conformidad | C91: 66 | D91: 60 | E91: =IF(C91>0,(D91-C91)/C91,"-") -> -0.090909091
B92: Sentencia Absolutoria | C92: 80 | D92: 83 | E92: =IF(C92>0,(D92-C92)/C92,"-") -> 0.0375
B93: Porcentaje de Sentencias condenatorias | C93: =(C90+C91)/(C90+C91+C92) -> 0.75232198 | D93: =(D90+D91)/(D90+D91+D92) -> 0.75223881 | E93: =IF(C93>0,(D93-C93)/C93,"-") -> -0.00011055832
C99: 2º trimestre 2025 | D99: 2º trimestre 2026 | E99: Evolución
B100: Personas enjuiciadas | C100: 324 | D100: 339 | E100: =IF(C100>0,(D100-C100)/C100,"-") -> 0.046296296
B101: Condenado Español | C101: 178 | D101: 172 | E101: =IF(C101>0,(D101-C101)/C101,"-") -> -0.033707865
B102: Condenado Extranjero | C102: 66 | D102: 80 | E102: =IF(C102>0,(D102-C102)/C102,"-") -> 0.21212121
B103: % condenados entre los enjuiciados | C103: =(C101+C102)/C100 -> 0.75308642 | D103: =(D101+D102)/D100 -> 0.74336283 | E103: =IF(C103>0,(D103-C103)/C103,"-") -> -0.012911649
B104: % condenas entre los españoles enjuiciados | C104: 0.73553719 | D104: 0.74137931 | E104: =IF(C104>0,(D104-C104)/C104,"-") -> 0.0079426579
B105: % condenas entre los extranjeros enjuiciados | C105: 0.80487805 | D105: 0.74766355 | E105: =IF(C105>0,(D105-C105)/C105,"-") -> -0.071084679
C111: 2º trimestre 2025 | D111: 2º trimestre 2026 | E111: Evolución
B112: Asuntos Total | C112: 370 | D112: 338 | E112: =IF(C112>0,(D112-C112)/C112,"-") -> -0.086486486
B113: Procedimientos Abreviados | C113: 269 | D113: 218 | E113: =IF(C113>0,(D113-C113)/C113,"-") -> -0.18959108
B114: Diligencias Urgentes | C114: 101 | D114: 120 | E114: =IF(C114>0,(D114-C114)/C114,"-") -> 0.18811881
C126: 2º trimestre 2025 | G126: 2º trimestre 2026 | K126: EVOLUCIÓN
C127: Sumario | D127: Proc.Abrev. | E127: Proc.Jurado | F127: TOTAL | G127: Sumario | H127: Proc.Abrev. | I127: Proc.Jurado | J127: TOTAL | K127: Sumario | L127: Proc.Abrev. | M127: Proc.Jurado | N127: TOTAL
B128: Condenatorias | C128: 1 | D128: 0 | E128: 0 | F128: 1 | G128: 6 | H128: 0 | I128: 0 | J128: 6 | K128: =IF(C128=0,"-",(G128-C128)/C128) -> 5 | L128: =IF(D128=0,"-",(H128-D128)/D128) -> - | M128: =IF(E128=0,"-",(I128-E128)/E128) -> - | N128: =IF(F128=0,"-",(J128-F128)/F128) -> 5
B129: Absolutorias | C129: 0 | D129: 0 | E129: 0 | F129: 0 | G129: 1 | H129: 0 | I129: 0 | J129: 1 | K129: =IF(C129=0,"-",(G129-C129)/C129) -> - | L129: =IF(D129=0,"-",(H129-D129)/D129) -> - | M129: =IF(E129=0,"-",(I129-E129)/E129) -> - | N129: =IF(F129=0,"-",(J129-F129)/F129) -> -
B130: Sobreseimiento Libre | C130: 0 | D130: 0 | E130: 0 | F130: 0 | G130: 0 | H130: 0 | I130: 0 | J130: 0 | K130: =IF(C130=0,"-",(G130-C130)/C130) -> - | L130: =IF(D130=0,"-",(H130-D130)/D130) -> - | M130: =IF(E130=0,"-",(I130-E130)/E130) -> - | N130: =IF(F130=0,"-",(J130-F130)/F130) -> -
B131: Sobreseimiento Provisional | C131: 0 | D131: 0 | E131: 0 | F131: 0 | G131: 0 | H131: 0 | I131: 0 | J131: 0 | K131: =IF(C131=0,"-",(G131-C131)/C131) -> - | L131: =IF(D131=0,"-",(H131-D131)/D131) -> - | M131: =IF(E131=0,"-",(I131-E131)/E131) -> - | N131: =IF(F131=0,"-",(J131-F131)/F131) -> -
B132: Otras | C132: 0 | D132: 0 | E132: 0 | F132: 0 | G132: 0 | H132: 0 | I132: 0 | J132: 0 | K132: =IF(C132=0,"-",(G132-C132)/C132) -> - | L132: =IF(D132=0,"-",(H132-D132)/D132) -> - | M132: =IF(E132=0,"-",(I132-E132)/E132) -> - | N132: =IF(F132=0,"-",(J132-F132)/F132) -> -
B133: Total | C133: 1 | D133: 0 | E133: 0 | F133: 1 | G133: 7 | H133: 0 | I133: 0 | J133: 7 | K133: =IF(C133=0,"-",(G133-C133)/C133) -> 6 | L133: =IF(D133=0,"-",(H133-D133)/D133) -> - | M133: =IF(E133=0,"-",(I133-E133)/E133) -> - | N133: =IF(F133=0,"-",(J133-F133)/F133) -> 6
B134: Porcentaje Sentencias Condenatorias | C134: =IF(C128=0,"-",C128/(C128+C129)) -> 1 | D134: =IF(D128=0,"-",D128/(D128+D129)) -> - | E134: =IF(E128=0,"-",E128/(E128+E129)) -> - | F134: =IF(F128=0,"-",F128/(F128+F129)) -> 1 | G134: =IF(G128=0,"-",G128/(G128+G129)) -> 0.85714286 | H134: =IF(H128=0,"-",H128/(H128+H129)) -> - | I134: =IF(I128=0,"-",I128/(I128+I129)) -> - | J134: =IF(J128=0,"-",J128/(J128+J129)) -> 0.85714286 | K134: =IF(OR(C134="-",G134="-"),"-",(G134-C134)/C134) -> -0.14285714 | L134: =IF(OR(D134="-",H134="-"),"-",(H134-D134)/D134) -> - | M134: =IF(OR(E134="-",I134="-"),"-",(I134-E134)/E134) -> - | N134: =IF(OR(F134="-",J134="-"),"-",(J134-F134)/F134) -> -0.14285714
B135: Porcentaje Terminacion por SP | C135: =IF(C131=0,"-",C131/(C130+C131)) -> - | D135: =IF(D131=0,"-",D131/(D130+D131)) -> - | E135: =IF(E131=0,"-",E131/(E130+E131)) -> - | F135: =IF(F131=0,"-",F131/(F130+F131)) -> - | G135: =IF(G131=0,"-",G131/(G130+G131)) -> - | H135: =IF(H131=0,"-",H131/(H130+H131)) -> - | I135: =IF(I131=0,"-",I131/(I130+I131)) -> - | J135: =IF(J131=0,"-",J131/(J130+J131)) -> - | K135: =IF(OR(C135="-",G135="-"),"-",(G135-C135)/C135) -> - | L135: =IF(OR(D135="-",H135="-"),"-",(H135-D135)/D135) -> - | M135: =IF(OR(E135="-",I135="-"),"-",(I135-E135)/E135) -> - | N135: =IF(OR(F135="-",J135="-"),"-",(J135-F135)/F135) -> -
C141: 2º trimestre 2025 | G141: 2º trimestre 2026 | K141: EVOLUCIÓN
C142: Proc.Abrev. | D142: Juicios de Faltas | E142: Juicios sobre Delitos Leves | F142: TOTAL | G142: Proc.Abrev. | H142: Juicios de Faltas | I142: Juicios sobre Delitos Leves | J142: TOTAL | K142: Proc.Abrev. | L142: Juicios de Faltas | M142: Juicios sobre Delitos Leves | N142: TOTAL
B143: Estimatorios Sentencias Condenatorias | C143: 9 | D143: 0 | E143: 0 | F143: 9 | G143: 8 | H143: 0 | I143: 3 | J143: 11 | K143: =IF(C143=0,"-",(G143-C143)/C143) -> -0.11111111 | L143: =IF(D143=0,"-",(H143-D143)/D143) -> - | M143: =IF(E143=0,"-",(I143-E143)/E143) -> - | N143: =IF(F143=0,"-",(J143-F143)/F143) -> 0.22222222
B144: Estimatorios Sentencias Absolutorias | C144: 1 | D144: 0 | E144: 0 | F144: 1 | G144: 2 | H144: 0 | I144: 0 | J144: 2 | K144: =IF(C144=0,"-",(G144-C144)/C144) -> 1 | L144: =IF(D144=0,"-",(H144-D144)/D144) -> - | M144: =IF(E144=0,"-",(I144-E144)/E144) -> - | N144: =IF(F144=0,"-",(J144-F144)/F144) -> 1
B145: Desestimatorios Sentencias Condenatorias | C145: 25 | D145: 0 | E145: 2 | F145: 27 | G145: 31 | H145: 0 | I145: 2 | J145: 33 | K145: =IF(C145=0,"-",(G145-C145)/C145) -> 0.24 | L145: =IF(D145=0,"-",(H145-D145)/D145) -> - | M145: =IF(E145=0,"-",(I145-E145)/E145) -> 0 | N145: =IF(F145=0,"-",(J145-F145)/F145) -> 0.22222222
B146: Desestimatorios Sentencias Absolutorias | C146: 9 | D146: 0 | E146: 1 | F146: 10 | G146: 9 | H146: 0 | I146: 2 | J146: 11 | K146: =IF(C146=0,"-",(G146-C146)/C146) -> 0 | L146: =IF(D146=0,"-",(H146-D146)/D146) -> - | M146: =IF(E146=0,"-",(I146-E146)/E146) -> 1 | N146: =IF(F146=0,"-",(J146-F146)/F146) -> 0.1
B147: Por Otras Causas | C147: 0 | D147: 0 | E147: 0 | F147: 0 | G147: 0 | H147: 0 | I147: 0 | J147: 0 | K147: =IF(C147=0,"-",(G147-C147)/C147) -> - | L147: =IF(D147=0,"-",(H147-D147)/D147) -> - | M147: =IF(E147=0,"-",(I147-E147)/E147) -> - | N147: =IF(F147=0,"-",(J147-F147)/F147) -> -
B148: Total | C148: 44 | D148: 0 | E148: 3 | F148: 47 | G148: 50 | H148: 0 | I148: 7 | J148: 57 | K148: =IF(C148=0,"-",(G148-C148)/C148) -> 0.13636364 | L148: =IF(D148=0,"-",(H148-D148)/D148) -> - | M148: =IF(E148=0,"-",(I148-E148)/E148) -> 1.3333333 | N148: =IF(F148=0,"-",(J148-F148)/F148) -> 0.21276596
B149: Porcentaje Estimación Recursos contra Sentencias Condenatorias | C149: =IF(C143=0,"-",(C143/(C143+C145))) -> 0.26470588 | D149: =IF(D143=0,"-",(D143/(D143+D145))) -> - | E149: =IF(E143=0,"-",(E143/(E143+E145))) -> - | F149: =IF(F143=0,"-",(F143/(F143+F145))) -> 0.25 | G149: =IF(G143=0,"-",(G143/(G143+G145))) -> 0.20512821 | H149: =IF(H143=0,"-",(H143/(H143+H145))) -> - | I149: =IF(I143=0,"-",(I143/(I143+I145))) -> 0.6 | J149: =IF(J143=0,"-",(J143/(J143+J145))) -> 0.25 | K149: =IF(OR(C149="-",G149="-"),"-",(G149-C149)/C149) -> -0.22507123 | L149: =IF(OR(D149="-",H149="-"),"-",(H149-D149)/D149) -> - | M149: =IF(OR(E149="-",I149="-"),"-",(I149-E149)/E149) -> - | N149: =IF(OR(F149="-",J149="-"),"-",(J149-F149)/F149) -> 0
B150: Porcentaje Estimación Recursos contra Sentencias Absolutorias | C150: =IF(C144=0,"-",(C144/(C144+C146))) -> 0.1 | D150: =IF(D144=0,"-",(D144/(D144+D146))) -> - | E150: =IF(E144=0,"-",(E144/(E144+E146))) -> - | F150: =IF(F144=0,"-",(F144/(F144+F146))) -> 0.090909091 | G150: =IF(G144=0,"-",(G144/(G144+G146))) -> 0.18181818 | H150: =IF(H144=0,"-",(H144/(H144+H146))) -> - | I150: =IF(I144=0,"-",(I144/(I144+I146))) -> - | J150: =IF(J144=0,"-",(J144/(J144+J146))) -> 0.15384615 | K150: =IF(OR(C150="-",G150="-"),"-",(G150-C150)/C150) -> 0.81818182 | L150: =IF(OR(D150="-",H150="-"),"-",(H150-D150)/D150) -> - | M150: =IF(OR(E150="-",I150="-"),"-",(I150-E150)/E150) -> - | N150: =IF(OR(F150="-",J150="-"),"-",(J150-F150)/F150) -> 0.69230769
C156: 2º trimestre 2025 | D156: 2º trimestre 2026 | E156: Evolución
B157: Confirmaciones en Apelación P.Delito | C157: 34 | D157: 41 | E157: =IF(C157=0,"-",(D157-C157)/C157) -> 0.20588235
B158: Revocaciones en Apelación P.Delito | C158: 9 | D158: 9 | E158: =IF(C158=0,"-",(D158-C158)/C158) -> 0
B159: Anulaciones en Apelación P.Delito | C159: 1 | D159: 0 | E159: =IF(C159=0,"-",(D159-C159)/C159) -> -1
B160: Porcentaje Confirmaciones P.Delitos | C160: =IF(C157=0,"-",C157/(C157+C158+C159)) -> 0.77272727 | D160: =IF(D157=0,"-",D157/(D157+D158+D159)) -> 0.82 | E160: =IF(OR(C160="-",D160="-"),"-",(D160-C160)/C160) -> 0.061176471
C165: 2º trimestre 2025 | D165: 2º trimestre 2026 | E165: Evolución
B166: Personas enjuiciadas | C166: 1 | D166: 7 | E166: =IF(C166=0,"-",(D166-C166)/C166) -> 6
B167: Condenado Español | C167: 0 | D167: 4 | E167: =IF(C167=0,"-",(D167-C167)/C167) -> -
B168: Condenado Extranjero | C168: 1 | D168: 2 | E168: =IF(C168=0,"-",(D168-C168)/C168) -> 1
B169: % condenados entre los enjuiciados | C169: =IF(C166=0,"-",(C167+C168)/C166) -> 1 | D169: =IF(D166=0,"-",(D167+D168)/D166) -> 0.85714286 | E169: =IF(OR(C169="-",D169="-"),"-",(D169-C169)/C169) -> -0.14285714
B170: % condenas entre los españoles enjuiciados | C170: - | D170: 0.8 | E170: =IF(OR(C170="-",D170="-"),"-",(D170-C170)/C170) -> -
B171: % condenas entre los extranjeros enjuiciados | C171: 1 | D171: 1 | E171: =IF(OR(C171="-",D171="-"),"-",(D171-C171)/C171) -> 0
C177: 2º trimestre 2025 | D177: 2º trimestre 2026 | E177: Evolución
B178: PROCESOS PRIMERA INSTANCIA Total | C178: 3 | D178: 1 | E178: =IF(C178=0,"-",(D178-C178)/C178) -> -0.66666667
B179: Sumarios | C179: 3 | D179: 1 | E179: =IF(C179=0,"-",(D179-C179)/C179) -> -0.66666667
B180: Procedimientos abreviados | C180: 0 | D180: 0 | E180: =IF(C180=0,"-",(D180-C180)/C180) -> -
B181: Procedimientos Jurado | C181: 0 | D181: 0 | E181: =IF(C181=0,"-",(D181-C181)/C181) -> -
B182: RECURSOS (APELACIONES DE SENTENCIAS) | C182: 47 | D182: 60 | E182: =IF(C182=0,"-",(D182-C182)/C182) -> 0.27659574
B183: Procedimientos abreviados | C183: 43 | D183: 55 | E183: =IF(C183=0,"-",(D183-C183)/C183) -> 0.27906977
B184: Juicios de Faltas | C184: 0 | D184: 0 | E184: =IF(C184=0,"-",(D184-C184)/C184) -> -
...

Sheet Castilla La Mancha
B11: =Portada!B9 -> 2º Trimestre 2026
C13: 2º trimestre 2025 | D13: 2º trimestre 2026 | E13: Evolución
B14: DENUNCIAS RECIBIDAS - TOTAL | C14: 1799 | D14: 2169 | E14: =IF(C14>0,(D14-C14)/C14) -> 0.20566982
B15: VÍCTIMAS | C15: 1562 | D15: 1922 | E15: =IF(C15>0,(D15-C15)/C15) -> 0.23047375
B16: Víctimas Españolas | C16: 974 | D16: 1207 | E16: =IF(C16>0,(D16-C16)/C16) -> 0.23921971
B17: Víctimas Extranjeras | C17: 588 | D17: 715 | E17: =IF(C17>0,(D17-C17)/C17) -> 0.21598639
B18: Víctimas Españolas menores | C18: 7 | D18: 1 | E18: =IF(C18=0,"-",(D18-C18)/C18) -> -0.85714286
B19: Víctimas Extranjeras menores | C19: 2 | D19: 3 | E19: =IF(C19=0,"-",(D19-C19)/C19) -> 0.5
B20: % Extranjeras entre las víctimas | C20: =C17/C15 -> 0.37644046 | D20: =D17/D15 -> 0.37200832 | E20: =IF(C20>0,(D20-C20)/C20) -> -0.011773804
B21: RENUNCIAS (La victima se acoge a la dispensa a la obligacion de declarar como testigo) | C21: 238 | D21: 185 | E21: =IF(C21>0,(D21-C21)/C21) -> -0.22268908
B22: Renuncias por Española | C22: 145 | D22: 106 | E22: =IF(C22>0,(D22-C22)/C22) -> -0.26896552
B23: Renuncias por Extranjera | C23: 93 | D23: 79 | E23: =IF(C23>0,(D23-C23)/C23) -> -0.15053763
B24: % Extranjeras entre las Renuncias | C24: =C23/C21 -> 0.3907563 | D24: =D23/D21 -> 0.42702703 | E24: =IF(C24>0,(D24-C24)/C24) -> 0.092821854
B25: Víctimas de Violencia de Género cada 10.000 Mujeres | C25: 0.14751463 | D25: 0.18151288 | E25: =IF(C25>0,(D25-C25)/C25) -> 0.23047375
C33: 2º trimestre 2025 | D33: 2º trimestre 2026 | E33: Evolución
B34: Incoadas | C34: 445 | D34: 493 | E34: =IF(C34>0,(D34-C34)/C34,"-") -> 0.10786517
B35: Inadmitidas | C35: 0 | D35: 6 | E35: =IF(C35>0,(D35-C35)/C35,"-") -> -
B36: Adoptadas | C36: 303 | D36: 361 | E36: =IF(C36>0,(D36-C36)/C36,"-") -> 0.19141914
B37: Denegadas | C37: 142 | D37: 126 | E37: =IF(C37>0,(D37-C37)/C37,"-") -> -0.11267606
C43: 2º trimestre 2025 | D43: 2º trimestre 2026 | E43: Evolución
B44: Sentencias Condenatorias | C44: 285 | D44: 282 | E44: =IF(C44>0,(D44-C44)/C44,"-") -> -0.010526316
B45: Sentencias Absolutorias | C45: 20 | D45: 26 | E45: =IF(C45>0,(D45-C45)/C45,"-") -> 0.3
B46: Sobreseimientos libres | C46: 11 | D46: 15 | E46: =IF(C46>0,(D46-C46)/C46,"-") -> 0.36363636
B47: Sobreseimientos provisionales | C47: 819 | D47: 791 | E47: =IF(C47>0,(D47-C47)/C47,"-") -> -0.034188034
B48: Elevación | C48: 380 | D48: 378 | E48: =IF(C48>0,(D48-C48)/C48,"-") -> -0.0052631579
B49: Otras | C49: 136 | D49: 298 | E49: =IF(C49>0,(D49-C49)/C49,"-") -> 1.1911765
B50: Porcentaje Sentencias Condenatorias | C50: =C44/(C44+C45) -> 0.93442623 | D50: =D44/(D44+D45) -> 0.91558442 | E50: =IF(C50>0,(D50-C50)/C50,"-") -> -0.020164046
B51: Porcentaje Terminacion por SP | C51: =C47/(C46+C47) -> 0.98674699 | D51: =D47/(D46+D47) -> 0.98138958 | E51: =IF(C51>0,(D51-C51)/C51,"-") -> -0.0054293652
C57: 2º trimestre 2025 | D57: 2º trimestre 2026 | E57: Evolución
B58: Personas enjuiciadas | C58: 305 | D58: 309 | E58: =IF(C58>0,(D58-C58)/C58,"-") -> 0.013114754
B59: Condenado Español | C59: 193 | D59: 183 | E59: =IF(C59>0,(D59-C59)/C59,"-") -> -0.051813472
B60: Condenado Extranjero | C60: 92 | D60: 100 | E60: =IF(C60>0,(D60-C60)/C60,"-") -> 0.086956522
B61: % condenados entre los enjuiciados | C61: =(C59+C60)/C58 -> 0.93442623 | D61: =(D59+D60)/D58 -> 0.91585761 | E61: =IF(C61>0,(D61-C61)/C61,"-") -> -0.019871686
B62: % condenas entre los españoles enjuiciados | C62: 0.93236715 | D62: 0.90594059 | E62: =IF(C62>0,(D62-C62)/C62,"-") -> -0.028343508
B63: % condenas entre los extranjeros enjuiciados | C63: 0.93877551 | D63: 0.93457944 | E63: =IF(C63>0,(D63-C63)/C63,"-") -> -0.0044697278
C69: 2º trimestre 2025 | D69: 2º trimestre 2026 | E69: Evolución
B70: ASUNTOS PENALES | C70: 2004 | D70: 2407 | E70: =IF(C70>0,(D70-C70)/C70,"-") -> 0.2010978
B71: Diligencia Urgentes | C71: 768 | D71: 820 | E71: =IF(C71>0,(D71-C71)/C71,"-") -> 0.067708333
B72: Sumarios | C72: 5 | D72: 6 | E72: =IF(C72>0,(D72-C72)/C72,"-") -> 0.2
B73: Diligencia Previas | C73: 837 | D73: 1054 | E73: =IF(C73>0,(D73-C73)/C73,"-") -> 0.25925926
B74: Procedimientos abreviados | C74: 319 | D74: 429 | E74: =IF(C74>0,(D74-C74)/C74,"-") -> 0.34482759
B75: Juicios sobre delitos leves | C75: 74 | D75: 98 | E75: =IF(C75>0,(D75-C75)/C75,"-") -> 0.32432432
B76: Procesos por aceptacion de decreto | C76: 0 | D76: 0 | E76: =IF(C76>0,(D76-C76)/C76,"-") -> -
B77: Ley Orgánica 5/95 Jurado | C77: 1 | D77: 0 | E77: =IF(C77>0,(D77-C77)/C77,"-") -> -1
C89: 2º trimestre 2025 | D89: 2º trimestre 2026 | E89: Evolución
B90: Por Sententencia Condenatoria con conformidad | C90: 143 | D90: 95 | E90: =IF(C90>0,(D90-C90)/C90,"-") -> -0.33566434
B91: Por Sententencia Condenatoria sin conformidad | C91: 69 | D91: 70 | E91: =IF(C91>0,(D91-C91)/C91,"-") -> 0.014492754
B92: Sentencia Absolutoria | C92: 112 | D92: 81 | E92: =IF(C92>0,(D92-C92)/C92,"-") -> -0.27678571
B93: Porcentaje de Sentencias condenatorias | C93: =(C90+C91)/(C90+C91+C92) -> 0.65432099 | D93: =(D90+D91)/(D90+D91+D92) -> 0.67073171 | E93: =IF(C93>0,(D93-C93)/C93,"-") -> 0.025080534
C99: 2º trimestre 2025 | D99: 2º trimestre 2026 | E99: Evolución
B100: Personas enjuiciadas | C100: 328 | D100: 252 | E100: =IF(C100>0,(D100-C100)/C100,"-") -> -0.23170732
B101: Condenado Español | C101: 148 | D101: 109 | E101: =IF(C101>0,(D101-C101)/C101,"-") -> -0.26351351
B102: Condenado Extranjero | C102: 64 | D102: 62 | E102: =IF(C102>0,(D102-C102)/C102,"-") -> -0.03125
B103: % condenados entre los enjuiciados | C103: =(C101+C102)/C100 -> 0.64634146 | D103: =(D101+D102)/D100 -> 0.67857143 | E103: =IF(C103>0,(D103-C103)/C103,"-") -> 0.049865229
B104: % condenas entre los españoles enjuiciados | C104: 0.64069264 | D104: 0.65662651 | E104: =IF(C104>0,(D104-C104)/C104,"-") -> 0.024869749
B105: % condenas entre los extranjeros enjuiciados | C105: 0.65979381 | D105: 0.72093023 | E105: =IF(C105>0,(D105-C105)/C105,"-") -> 0.092659884
C111: 2º trimestre 2025 | D111: 2º trimestre 2026 | E111: Evolución
B112: Asuntos Total | C112: 389 | D112: 288 | E112: =IF(C112>0,(D112-C112)/C112,"-") -> -0.2596401
B113: Procedimientos Abreviados | C113: 246 | D113: 195 | E113: =IF(C113>0,(D113-C113)/C113,"-") -> -0.20731707
B114: Diligencias Urgentes | C114: 143 | D114: 93 | E114: =IF(C114>0,(D114-C114)/C114,"-") -> -0.34965035
C126: 2º trimestre 2025 | G126: 2º trimestre 2026 | K126: EVOLUCIÓN
C127: Sumario | D127: Proc.Abrev. | E127: Proc.Jurado | F127: TOTAL | G127: Sumario | H127: Proc.Abrev. | I127: Proc.Jurado | J127: TOTAL | K127: Sumario | L127: Proc.Abrev. | M127: Proc.Jurado | N127: TOTAL
B128: Condenatorias | C128: 0 | D128: 0 | E128: 0 | F128: 0 | G128: 2 | H128: 0 | I128: 2 | J128: 4 | K128: =IF(C128=0,"-",(G128-C128)/C128) -> - | L128: =IF(D128=0,"-",(H128-D128)/D128) -> - | M128: =IF(E128=0,"-",(I128-E128)/E128) -> - | N128: =IF(F128=0,"-",(J128-F128)/F128) -> -
B129: Absolutorias | C129: 1 | D129: 0 | E129: 0 | F129: 1 | G129: 1 | H129: 0 | I129: 0 | J129: 1 | K129: =IF(C129=0,"-",(G129-C129)/C129) -> 0 | L129: =IF(D129=0,"-",(H129-D129)/D129) -> - | M129: =IF(E129=0,"-",(I129-E129)/E129) -> - | N129: =IF(F129=0,"-",(J129-F129)/F129) -> 0
B130: Sobreseimiento Libre | C130: 0 | D130: 0 | E130: 0 | F130: 0 | G130: 0 | H130: 0 | I130: 0 | J130: 0 | K130: =IF(C130=0,"-",(G130-C130)/C130) -> - | L130: =IF(D130=0,"-",(H130-D130)/D130) -> - | M130: =IF(E130=0,"-",(I130-E130)/E130) -> - | N130: =IF(F130=0,"-",(J130-F130)/F130) -> -
B131: Sobreseimiento Provisional | C131: 0 | D131: 0 | E131: 0 | F131: 0 | G131: 1 | H131: 0 | I131: 0 | J131: 1 | K131: =IF(C131=0,"-",(G131-C131)/C131) -> - | L131: =IF(D131=0,"-",(H131-D131)/D131) -> - | M131: =IF(E131=0,"-",(I131-E131)/E131) -> - | N131: =IF(F131=0,"-",(J131-F131)/F131) -> -
B132: Otras | C132: 0 | D132: 0 | E132: 0 | F132: 0 | G132: 0 | H132: 0 | I132: 0 | J132: 0 | K132: =IF(C132=0,"-",(G132-C132)/C132) -> - | L132: =IF(D132=0,"-",(H132-D132)/D132) -> - | M132: =IF(E132=0,"-",(I132-E132)/E132) -> - | N132: =IF(F132=0,"-",(J132-F132)/F132) -> -
B133: Total | C133: 1 | D133: 0 | E133: 0 | F133: 1 | G133: 4 | H133: 0 | I133: 2 | J133: 6 | K133: =IF(C133=0,"-",(G133-C133)/C133) -> 3 | L133: =IF(D133=0,"-",(H133-D133)/D133) -> - | M133: =IF(E133=0,"-",(I133-E133)/E133) -> - | N133: =IF(F133=0,"-",(J133-F133)/F133) -> 5
B134: Porcentaje Sentencias Condenatorias | C134: =IF(C128=0,"-",C128/(C128+C129)) -> - | D134: =IF(D128=0,"-",D128/(D128+D129)) -> - | E134: =IF(E128=0,"-",E128/(E128+E129)) -> - | F134: =IF(F128=0,"-",F128/(F128+F129)) -> - | G134: =IF(G128=0,"-",G128/(G128+G129)) -> 0.66666667 | H134: =IF(H128=0,"-",H128/(H128+H129)) -> - | I134: =IF(I128=0,"-",I128/(I128+I129)) -> 1 | J134: =IF(J128=0,"-",J128/(J128+J129)) -> 0.8 | K134: =IF(OR(C134="-",G134="-"),"-",(G134-C134)/C134) -> - | L134: =IF(OR(D134="-",H134="-"),"-",(H134-D134)/D134) -> - | M134: =IF(OR(E134="-",I134="-"),"-",(I134-E134)/E134) -> - | N134: =IF(OR(F134="-",J134="-"),"-",(J134-F134)/F134) -> -
B135: Porcentaje Terminacion por SP | C135: =IF(C131=0,"-",C131/(C130+C131)) -> - | D135: =IF(D131=0,"-",D131/(D130+D131)) -> - | E135: =IF(E131=0,"-",E131/(E130+E131)) -> - | F135: =IF(F131=0,"-",F131/(F130+F131)) -> - | G135: =IF(G131=0,"-",G131/(G130+G131)) -> 1 | H135: =IF(H131=0,"-",H131/(H130+H131)) -> - | I135: =IF(I131=0,"-",I131/(I130+I131)) -> - | J135: =IF(J131=0,"-",J131/(J130+J131)) -> 1 | K135: =IF(OR(C135="-",G135="-"),"-",(G135-C135)/C135) -> - | L135: =IF(OR(D135="-",H135="-"),"-",(H135-D135)/D135) -> - | M135: =IF(OR(E135="-",I135="-"),"-",(I135-E135)/E135) -> - | N135: =IF(OR(F135="-",J135="-"),"-",(J135-F135)/F135) -> -
C141: 2º trimestre 2025 | G141: 2º trimestre 2026 | K141: EVOLUCIÓN
C142: Proc.Abrev. | D142: Juicios de Faltas | E142: Juicios sobre Delitos Leves | F142: TOTAL | G142: Proc.Abrev. | H142: Juicios de Faltas | I142: Juicios sobre Delitos Leves | J142: TOTAL | K142: Proc.Abrev. | L142: Juicios de Faltas | M142: Juicios sobre Delitos Leves | N142: TOTAL
B143: Estimatorios Sentencias Condenatorias | C143: 8 | D143: 0 | E143: 1 | F143: 9 | G143: 1 | H143: 0 | I143: 3 | J143: 4 | K143: =IF(C143=0,"-",(G143-C143)/C143) -> -0.875 | L143: =IF(D143=0,"-",(H143-D143)/D143) -> - | M143: =IF(E143=0,"-",(I143-E143)/E143) -> 2 | N143: =IF(F143=0,"-",(J143-F143)/F143) -> -0.55555556
B144: Estimatorios Sentencias Absolutorias | C144: 0 | D144: 0 | E144: 0 | F144: 0 | G144: 2 | H144: 0 | I144: 0 | J144: 2 | K144: =IF(C144=0,"-",(G144-C144)/C144) -> - | L144: =IF(D144=0,"-",(H144-D144)/D144) -> - | M144: =IF(E144=0,"-",(I144-E144)/E144) -> - | N144: =IF(F144=0,"-",(J144-F144)/F144) -> -
B145: Desestimatorios Sentencias Condenatorias | C145: 29 | D145: 0 | E145: 5 | F145: 34 | G145: 39 | H145: 0 | I145: 3 | J145: 42 | K145: =IF(C145=0,"-",(G145-C145)/C145) -> 0.34482759 | L145: =IF(D145=0,"-",(H145-D145)/D145) -> - | M145: =IF(E145=0,"-",(I145-E145)/E145) -> -0.4 | N145: =IF(F145=0,"-",(J145-F145)/F145) -> 0.23529412
B146: Desestimatorios Sentencias Absolutorias | C146: 5 | D146: 0 | E146: 0 | F146: 5 | G146: 17 | H146: 0 | I146: 1 | J146: 18 | K146: =IF(C146=0,"-",(G146-C146)/C146) -> 2.4 | L146: =IF(D146=0,"-",(H146-D146)/D146) -> - | M146: =IF(E146=0,"-",(I146-E146)/E146) -> - | N146: =IF(F146=0,"-",(J146-F146)/F146) -> 2.6
B147: Por Otras Causas | C147: 0 | D147: 0 | E147: 0 | F147: 0 | G147: 1 | H147: 0 | I147: 0 | J147: 1 | K147: =IF(C147=0,"-",(G147-C147)/C147) -> - | L147: =IF(D147=0,"-",(H147-D147)/D147) -> - | M147: =IF(E147=0,"-",(I147-E147)/E147) -> - | N147: =IF(F147=0,"-",(J147-F147)/F147) -> -
B148: Total | C148: 42 | D148: 0 | E148: 6 | F148: 48 | G148: 60 | H148: 0 | I148: 7 | J148: 67 | K148: =IF(C148=0,"-",(G148-C148)/C148) -> 0.42857143 | L148: =IF(D148=0,"-",(H148-D148)/D148) -> - | M148: =IF(E148=0,"-",(I148-E148)/E148) -> 0.16666667 | N148: =IF(F148=0,"-",(J148-F148)/F148) -> 0.39583333
B149: Porcentaje Estimación Recursos contra Sentencias Condenatorias | C149: =IF(C143=0,"-",(C143/(C143+C145))) -> 0.21621622 | D149: =IF(D143=0,"-",(D143/(D143+D145))) -> - | E149: =IF(E143=0,"-",(E143/(E143+E145))) -> 0.16666667 | F149: =IF(F143=0,"-",(F143/(F143+F145))) -> 0.20930233 | G149: =IF(G143=0,"-",(G143/(G143+G145))) -> 0.025 | H149: =IF(H143=0,"-",(H143/(H143+H145))) -> - | I149: =IF(I143=0,"-",(I143/(I143+I145))) -> 0.5 | J149: =IF(J143=0,"-",(J143/(J143+J145))) -> 0.086956522 | K149: =IF(OR(C149="-",G149="-"),"-",(G149-C149)/C149) -> -0.884375 | L149: =IF(OR(D149="-",H149="-"),"-",(H149-D149)/D149) -> - | M149: =IF(OR(E149="-",I149="-"),"-",(I149-E149)/E149) -> 2 | N149: =IF(OR(F149="-",J149="-"),"-",(J149-F149)/F149) -> -0.58454106
B150: Porcentaje Estimación Recursos contra Sentencias Absolutorias | C150: =IF(C144=0,"-",(C144/(C144+C146))) -> - | D150: =IF(D144=0,"-",(D144/(D144+D146))) -> - | E150: =IF(E144=0,"-",(E144/(E144+E146))) -> - | F150: =IF(F144=0,"-",(F144/(F144+F146))) -> - | G150: =IF(G144=0,"-",(G144/(G144+G146))) -> 0.10526316 | H150: =IF(H144=0,"-",(H144/(H144+H146))) -> - | I150: =IF(I144=0,"-",(I144/(I144+I146))) -> - | J150: =IF(J144=0,"-",(J144/(J144+J146))) -> 0.1 | K150: =IF(OR(C150="-",G150="-"),"-",(G150-C150)/C150) -> - | L150: =IF(OR(D150="-",H150="-"),"-",(H150-D150)/D150) -> - | M150: =IF(OR(E150="-",I150="-"),"-",(I150-E150)/E150) -> - | N150: =IF(OR(F150="-",J150="-"),"-",(J150-F150)/F150) -> -
C156: 2º trimestre 2025 | D156: 2º trimestre 2026 | E156: Evolución
B157: Confirmaciones en Apelación P.Delito | C157: 37 | D157: 56 | E157: =IF(C157=0,"-",(D157-C157)/C157) -> 0.51351351
B158: Revocaciones en Apelación P.Delito | C158: 5 | D158: 2 | E158: =IF(C158=0,"-",(D158-C158)/C158) -> -0.6
B159: Anulaciones en Apelación P.Delito | C159: 0 | D159: 1 | E159: =IF(C159=0,"-",(D159-C159)/C159) -> -
B160: Porcentaje Confirmaciones P.Delitos | C160: =IF(C157=0,"-",C157/(C157+C158+C159)) -> 0.88095238 | D160: =IF(D157=0,"-",D157/(D157+D158+D159)) -> 0.94915254 | E160: =IF(OR(C160="-",D160="-"),"-",(D160-C160)/C160) -> 0.077416399
C165: 2º trimestre 2025 | D165: 2º trimestre 2026 | E165: Evolución
B166: Personas enjuiciadas | C166: 1 | D166: 5 | E166: =IF(C166=0,"-",(D166-C166)/C166) -> 4
B167: Condenado Español | C167: 0 | D167: 3 | E167: =IF(C167=0,"-",(D167-C167)/C167) -> -
B168: Condenado Extranjero | C168: 0 | D168: 1 | E168: =IF(C168=0,"-",(D168-C168)/C168) -> -
B169: % condenados entre los enjuiciados | C169: =IF(C166=0,"-",(C167+C168)/C166) -> 0 | D169: =IF(D166=0,"-",(D167+D168)/D166) -> 0.8 | E169: =IF(OR(C169="-",D169="-"),"-",(D169-C169)/C169) -> #DIV/0!
B170: % condenas entre los españoles enjuiciados | C170: - | D170: 0.75 | E170: =IF(OR(C170="-",D170="-"),"-",(D170-C170)/C170) -> -
B171: % condenas entre los extranjeros enjuiciados | C171: - | D171: 1 | E171: =IF(OR(C171="-",D171="-"),"-",(D171-C171)/C171) -> -
C177: 2º trimestre 2025 | D177: 2º trimestre 2026 | E177: Evolución
B178: PROCESOS PRIMERA INSTANCIA Total | C178: 7 | D178: 7 | E178: =IF(C178=0,"-",(D178-C178)/C178) -> 0
B179: Sumarios | C179: 7 | D179: 3 | E179: =IF(C179=0,"-",(D179-C179)/C179) -> -0.57142857
B180: Procedimientos abreviados | C180: 0 | D180: 1 | E180: =IF(C180=0,"-",(D180-C180)/C180) -> -
B181: Procedimientos Jurado | C181: 0 | D181: 3 | E181: =IF(C181=0,"-",(D181-C181)/C181) -> -
B182: RECURSOS (APELACIONES DE SENTENCIAS) | C182: 42 | D182: 45 | E182: =IF(C182=0,"-",(D182-C182)/C182) -> 0.071428571
B183: Procedimientos abreviados | C183: 33 | D183: 38 | E183: =IF(C183=0,"-",(D183-C183)/C183) -> 0.15151515
B184: Juicios de Faltas | C184: 0 | D184: 0 | E184: =IF(C184=0,"-",(D184-C184)/C184) -> -
...

Sheet Cataluña
B11: =Portada!B9 -> 2º Trimestre 2026
C13: 2º trimestre 2025 | D13: 2º trimestre 2026 | E13: Evolución
B14: DENUNCIAS RECIBIDAS - TOTAL | C14: 6382 | D14: 6765 | E14: =IF(C14>0,(D14-C14)/C14) -> 0.060012535
B15: VÍCTIMAS | C15: 6245 | D15: 6603 | E15: =IF(C15>0,(D15-C15)/C15) -> 0.057325861
B16: Víctimas Españolas | C16: 3396 | D16: 3503 | E16: =IF(C16>0,(D16-C16)/C16) -> 0.031507656
B17: Víctimas Extranjeras | C17: 2849 | D17: 3100 | E17: =IF(C17>0,(D17-C17)/C17) -> 0.088101088
B18: Víctimas Españolas menores | C18: 3 | D18: 10 | E18: =IF(C18=0,"-",(D18-C18)/C18) -> 2.3333333
B19: Víctimas Extranjeras menores | C19: 0 | D19: 3 | E19: =IF(C19=0,"-",(D19-C19)/C19) -> -
B20: % Extranjeras entre las víctimas | C20: =C17/C15 -> 0.45620496 | D20: =D17/D15 -> 0.46948357 | E20: =IF(C20>0,(D20-C20)/C20) -> 0.029106663
B21: RENUNCIAS (La victima se acoge a la dispensa a la obligacion de declarar como testigo) | C21: 753 | D21: 707 | E21: =IF(C21>0,(D21-C21)/C21) -> -0.061088977
B22: Renuncias por Española | C22: 381 | D22: 370 | E22: =IF(C22>0,(D22-C22)/C22) -> -0.028871391
B23: Renuncias por Extranjera | C23: 372 | D23: 337 | E23: =IF(C23>0,(D23-C23)/C23) -> -0.094086022
B24: % Extranjeras entre las Renuncias | C24: =C23/C21 -> 0.4940239 | D24: =D23/D21 -> 0.47666195 | E24: =IF(C24>0,(D24-C24)/C24) -> -0.035143952
B25: Víctimas de Violencia de Género cada 10.000 Mujeres | C25: 0.15167736 | D25: 0.1603724 | E25: =IF(C25>0,(D25-C25)/C25) -> 0.057325861
C33: 2º trimestre 2025 | D33: 2º trimestre 2026 | E33: Evolución
B34: Incoadas | C34: 1441 | D34: 1165 | E34: =IF(C34>0,(D34-C34)/C34,"-") -> -0.19153366
B35: Inadmitidas | C35: 43 | D35: 17 | E35: =IF(C35>0,(D35-C35)/C35,"-") -> -0.60465116
B36: Adoptadas | C36: 706 | D36: 595 | E36: =IF(C36>0,(D36-C36)/C36,"-") -> -0.1572238
B37: Denegadas | C37: 692 | D37: 553 | E37: =IF(C37>0,(D37-C37)/C37,"-") -> -0.20086705
C43: 2º trimestre 2025 | D43: 2º trimestre 2026 | E43: Evolución
B44: Sentencias Condenatorias | C44: 626 | D44: 738 | E44: =IF(C44>0,(D44-C44)/C44,"-") -> 0.17891374
B45: Sentencias Absolutorias | C45: 63 | D45: 51 | E45: =IF(C45>0,(D45-C45)/C45,"-") -> -0.19047619
B46: Sobreseimientos libres | C46: 159 | D46: 91 | E46: =IF(C46>0,(D46-C46)/C46,"-") -> -0.42767296
B47: Sobreseimientos provisionales | C47: 2471 | D47: 2330 | E47: =IF(C47>0,(D47-C47)/C47,"-") -> -0.057061918
B48: Elevación | C48: 1885 | D48: 1720 | E48: =IF(C48>0,(D48-C48)/C48,"-") -> -0.087533156
B49: Otras | C49: 878 | D49: 1707 | E49: =IF(C49>0,(D49-C49)/C49,"-") -> 0.94419134
B50: Porcentaje Sentencias Condenatorias | C50: =C44/(C44+C45) -> 0.90856313 | D50: =D44/(D44+D45) -> 0.93536122 | E50: =IF(C50>0,(D50-C50)/C50,"-") -> 0.029495013
B51: Porcentaje Terminacion por SP | C51: =C47/(C46+C47) -> 0.93954373 | D51: =D47/(D46+D47) -> 0.96241223 | E51: =IF(C51>0,(D51-C51)/C51,"-") -> 0.024340006
C57: 2º trimestre 2025 | D57: 2º trimestre 2026 | E57: Evolución
B58: Personas enjuiciadas | C58: 694 | D58: 795 | E58: =IF(C58>0,(D58-C58)/C58,"-") -> 0.14553314
B59: Condenado Español | C59: 317 | D59: 360 | E59: =IF(C59>0,(D59-C59)/C59,"-") -> 0.13564669
B60: Condenado Extranjero | C60: 313 | D60: 384 | E60: =IF(C60>0,(D60-C60)/C60,"-") -> 0.22683706
B61: % condenados entre los enjuiciados | C61: =(C59+C60)/C58 -> 0.90778098 | D61: =(D59+D60)/D58 -> 0.93584906 | E61: =IF(C61>0,(D61-C61)/C61,"-") -> 0.030919437
B62: % condenas entre los españoles enjuiciados | C62: 0.91884058 | D62: 0.92307692 | E62: =IF(C62>0,(D62-C62)/C62,"-") -> 0.0046105314
B63: % condenas entre los extranjeros enjuiciados | C63: 0.89684814 | D63: 0.94814815 | E63: =IF(C63>0,(D63-C63)/C63,"-") -> 0.057200331
C69: 2º trimestre 2025 | D69: 2º trimestre 2026 | E69: Evolución
B70: ASUNTOS PENALES | C70: 8370 | D70: 8276 | E70: =IF(C70>0,(D70-C70)/C70,"-") -> -0.011230585
B71: Diligencia Urgentes | C71: 2883 | D71: 2609 | E71: =IF(C71>0,(D71-C71)/C71,"-") -> -0.095039889
B72: Sumarios | C72: 73 | D72: 70 | E72: =IF(C72>0,(D72-C72)/C72,"-") -> -0.04109589
B73: Diligencia Previas | C73: 3308 | D73: 3805 | E73: =IF(C73>0,(D73-C73)/C73,"-") -> 0.15024184
B74: Procedimientos abreviados | C74: 1917 | D74: 1626 | E74: =IF(C74>0,(D74-C74)/C74,"-") -> -0.15179969
B75: Juicios sobre delitos leves | C75: 183 | D75: 156 | E75: =IF(C75>0,(D75-C75)/C75,"-") -> -0.14754098
B76: Procesos por aceptacion de decreto | C76: 0 | D76: 0 | E76: =IF(C76>0,(D76-C76)/C76,"-") -> -
B77: Ley Orgánica 5/95 Jurado | C77: 6 | D77: 10 | E77: =IF(C77>0,(D77-C77)/C77,"-") -> 0.66666667
C89: 2º trimestre 2025 | D89: 2º trimestre 2026 | E89: Evolución
B90: Por Sententencia Condenatoria con conformidad | C90: 614 | D90: 506 | E90: =IF(C90>0,(D90-C90)/C90,"-") -> -0.17589577
B91: Por Sententencia Condenatoria sin conformidad | C91: 329 | D91: 421 | E91: =IF(C91>0,(D91-C91)/C91,"-") -> 0.27963526
B92: Sentencia Absolutoria | C92: 477 | D92: 526 | E92: =IF(C92>0,(D92-C92)/C92,"-") -> 0.10272537
B93: Porcentaje de Sentencias condenatorias | C93: =(C90+C91)/(C90+C91+C92) -> 0.66408451 | D93: =(D90+D91)/(D90+D91+D92) -> 0.63799036 | E93: =IF(C93>0,(D93-C93)/C93,"-") -> -0.039293406
C99: 2º trimestre 2025 | D99: 2º trimestre 2026 | E99: Evolución
B100: Personas enjuiciadas | C100: 1561 | D100: 1464 | E100: =IF(C100>0,(D100-C100)/C100,"-") -> -0.062139654
B101: Condenado Español | C101: 507 | D101: 482 | E101: =IF(C101>0,(D101-C101)/C101,"-") -> -0.049309665
B102: Condenado Extranjero | C102: 440 | D102: 448 | E102: =IF(C102>0,(D102-C102)/C102,"-") -> 0.018181818
B103: % condenados entre los enjuiciados | C103: =(C101+C102)/C100 -> 0.6066624 | D103: =(D101+D102)/D100 -> 0.6352459 | E103: =IF(C103>0,(D103-C103)/C103,"-") -> 0.047116
B104: % condenas entre los españoles enjuiciados | C104: 0.55592105 | D104: 0.62842243 | E104: =IF(C104>0,(D104-C104)/C104,"-") -> 0.13041667
B105: % condenas entre los extranjeros enjuiciados | C105: 0.6779661 | D105: 0.64275466 | E105: =IF(C105>0,(D105-C105)/C105,"-") -> -0.051936872
C111: 2º trimestre 2025 | D111: 2º trimestre 2026 | E111: Evolución
B112: Asuntos Total | C112: 1632 | D112: 1600 | E112: =IF(C112>0,(D112-C112)/C112,"-") -> -0.019607843
B113: Procedimientos Abreviados | C113: 801 | D113: 874 | E113: =IF(C113>0,(D113-C113)/C113,"-") -> 0.09113608
B114: Diligencias Urgentes | C114: 831 | D114: 726 | E114: =IF(C114>0,(D114-C114)/C114,"-") -> -0.12635379
C126: 2º trimestre 2025 | G126: 2º trimestre 2026 | K126: EVOLUCIÓN
C127: Sumario | D127: Proc.Abrev. | E127: Proc.Jurado | F127: TOTAL | G127: Sumario | H127: Proc.Abrev. | I127: Proc.Jurado | J127: TOTAL | K127: Sumario | L127: Proc.Abrev. | M127: Proc.Jurado | N127: TOTAL
B128: Condenatorias | C128: 13 | D128: 3 | E128: 7 | F128: 23 | G128: 17 | H128: 7 | I128: 10 | J128: 34 | K128: =IF(C128=0,"-",(G128-C128)/C128) -> 0.30769231 | L128: =IF(D128=0,"-",(H128-D128)/D128) -> 1.3333333 | M128: =IF(E128=0,"-",(I128-E128)/E128) -> 0.42857143 | N128: =IF(F128=0,"-",(J128-F128)/F128) -> 0.47826087
B129: Absolutorias | C129: 1 | D129: 1 | E129: 0 | F129: 2 | G129: 8 | H129: 5 | I129: 0 | J129: 13 | K129: =IF(C129=0,"-",(G129-C129)/C129) -> 7 | L129: =IF(D129=0,"-",(H129-D129)/D129) -> 4 | M129: =IF(E129=0,"-",(I129-E129)/E129) -> - | N129: =IF(F129=0,"-",(J129-F129)/F129) -> 5.5
B130: Sobreseimiento Libre | C130: 0 | D130: 0 | E130: 0 | F130: 0 | G130: 0 | H130: 0 | I130: 0 | J130: 0 | K130: =IF(C130=0,"-",(G130-C130)/C130) -> - | L130: =IF(D130=0,"-",(H130-D130)/D130) -> - | M130: =IF(E130=0,"-",(I130-E130)/E130) -> - | N130: =IF(F130=0,"-",(J130-F130)/F130) -> -
B131: Sobreseimiento Provisional | C131: 0 | D131: 0 | E131: 0 | F131: 0 | G131: 4 | H131: 0 | I131: 0 | J131: 4 | K131: =IF(C131=0,"-",(G131-C131)/C131) -> - | L131: =IF(D131=0,"-",(H131-D131)/D131) -> - | M131: =IF(E131=0,"-",(I131-E131)/E131) -> - | N131: =IF(F131=0,"-",(J131-F131)/F131) -> -
B132: Otras | C132: 11 | D132: 3 | E132: 0 | F132: 14 | G132: 10 | H132: 0 | I132: 0 | J132: 10 | K132: =IF(C132=0,"-",(G132-C132)/C132) -> -0.090909091 | L132: =IF(D132=0,"-",(H132-D132)/D132) -> -1 | M132: =IF(E132=0,"-",(I132-E132)/E132) -> - | N132: =IF(F132=0,"-",(J132-F132)/F132) -> -0.28571429
B133: Total | C133: 25 | D133: 7 | E133: 7 | F133: 39 | G133: 39 | H133: 12 | I133: 10 | J133: 61 | K133: =IF(C133=0,"-",(G133-C133)/C133) -> 0.56 | L133: =IF(D133=0,"-",(H133-D133)/D133) -> 0.71428571 | M133: =IF(E133=0,"-",(I133-E133)/E133) -> 0.42857143 | N133: =IF(F133=0,"-",(J133-F133)/F133) -> 0.56410256
B134: Porcentaje Sentencias Condenatorias | C134: =IF(C128=0,"-",C128/(C128+C129)) -> 0.92857143 | D134: =IF(D128=0,"-",D128/(D128+D129)) -> 0.75 | E134: =IF(E128=0,"-",E128/(E128+E129)) -> 1 | F134: =IF(F128=0,"-",F128/(F128+F129)) -> 0.92 | G134: =IF(G128=0,"-",G128/(G128+G129)) -> 0.68 | H134: =IF(H128=0,"-",H128/(H128+H129)) -> 0.58333333 | I134: =IF(I128=0,"-",I128/(I128+I129)) -> 1 | J134: =IF(J128=0,"-",J128/(J128+J129)) -> 0.72340426 | K134: =IF(OR(C134="-",G134="-"),"-",(G134-C134)/C134) -> -0.26769231 | L134: =IF(OR(D134="-",H134="-"),"-",(H134-D134)/D134) -> -0.22222222 | M134: =IF(OR(E134="-",I134="-"),"-",(I134-E134)/E134) -> 0 | N134: =IF(OR(F134="-",J134="-"),"-",(J134-F134)/F134) -> -0.21369103
B135: Porcentaje Terminacion por SP | C135: =IF(C131=0,"-",C131/(C130+C131)) -> - | D135: =IF(D131=0,"-",D131/(D130+D131)) -> - | E135: =IF(E131=0,"-",E131/(E130+E131)) -> - | F135: =IF(F131=0,"-",F131/(F130+F131)) -> - | G135: =IF(G131=0,"-",G131/(G130+G131)) -> 1 | H135: =IF(H131=0,"-",H131/(H130+H131)) -> - | I135: =IF(I131=0,"-",I131/(I130+I131)) -> - | J135: =IF(J131=0,"-",J131/(J130+J131)) -> 1 | K135: =IF(OR(C135="-",G135="-"),"-",(G135-C135)/C135) -> - | L135: =IF(OR(D135="-",H135="-"),"-",(H135-D135)/D135) -> - | M135: =IF(OR(E135="-",I135="-"),"-",(I135-E135)/E135) -> - | N135: =IF(OR(F135="-",J135="-"),"-",(J135-F135)/F135) -> -
C141: 2º trimestre 2025 | G141: 2º trimestre 2026 | K141: EVOLUCIÓN
C142: Proc.Abrev. | D142: Juicios de Faltas | E142: Juicios sobre Delitos Leves | F142: TOTAL | G142: Proc.Abrev. | H142: Juicios de Faltas | I142: Juicios sobre Delitos Leves | J142: TOTAL | K142: Proc.Abrev. | L142: Juicios de Faltas | M142: Juicios sobre Delitos Leves | N142: TOTAL
B143: Estimatorios Sentencias Condenatorias | C143: 78 | D143: 0 | E143: 6 | F143: 84 | G143: 40 | H143: 0 | I143: 2 | J143: 42 | K143: =IF(C143=0,"-",(G143-C143)/C143) -> -0.48717949 | L143: =IF(D143=0,"-",(H143-D143)/D143) -> - | M143: =IF(E143=0,"-",(I143-E143)/E143) -> -0.66666667 | N143: =IF(F143=0,"-",(J143-F143)/F143) -> -0.5
B144: Estimatorios Sentencias Absolutorias | C144: 31 | D144: 0 | E144: 4 | F144: 35 | G144: 49 | H144: 0 | I144: 2 | J144: 51 | K144: =IF(C144=0,"-",(G144-C144)/C144) -> 0.58064516 | L144: =IF(D144=0,"-",(H144-D144)/D144) -> - | M144: =IF(E144=0,"-",(I144-E144)/E144) -> -0.5 | N144: =IF(F144=0,"-",(J144-F144)/F144) -> 0.45714286
B145: Desestimatorios Sentencias Condenatorias | C145: 247 | D145: 0 | E145: 12 | F145: 259 | G145: 220 | H145: 0 | I145: 16 | J145: 236 | K145: =IF(C145=0,"-",(G145-C145)/C145) -> -0.10931174 | L145: =IF(D145=0,"-",(H145-D145)/D145) -> - | M145: =IF(E145=0,"-",(I145-E145)/E145) -> 0.33333333 | N145: =IF(F145=0,"-",(J145-F145)/F145) -> -0.088803089
B146: Desestimatorios Sentencias Absolutorias | C146: 111 | D146: 0 | E146: 6 | F146: 117 | G146: 57 | H146: 0 | I146: 12 | J146: 69 | K146: =IF(C146=0,"-",(G146-C146)/C146) -> -0.48648649 | L146: =IF(D146=0,"-",(H146-D146)/D146) -> - | M146: =IF(E146=0,"-",(I146-E146)/E146) -> 1 | N146: =IF(F146=0,"-",(J146-F146)/F146) -> -0.41025641
B147: Por Otras Causas | C147: 10 | D147: 0 | E147: 5 | F147: 15 | G147: 1 | H147: 0 | I147: 0 | J147: 1 | K147: =IF(C147=0,"-",(G147-C147)/C147) -> -0.9 | L147: =IF(D147=0,"-",(H147-D147)/D147) -> - | M147: =IF(E147=0,"-",(I147-E147)/E147) -> -1 | N147: =IF(F147=0,"-",(J147-F147)/F147) -> -0.93333333
B148: Total | C148: 477 | D148: 0 | E148: 33 | F148: 510 | G148: 367 | H148: 0 | I148: 32 | J148: 399 | K148: =IF(C148=0,"-",(G148-C148)/C148) -> -0.23060797 | L148: =IF(D148=0,"-",(H148-D148)/D148) -> - | M148: =IF(E148=0,"-",(I148-E148)/E148) -> -0.03030303 | N148: =IF(F148=0,"-",(J148-F148)/F148) -> -0.21764706
B149: Porcentaje Estimación Recursos contra Sentencias Condenatorias | C149: =IF(C143=0,"-",(C143/(C143+C145))) -> 0.24 | D149: =IF(D143=0,"-",(D143/(D143+D145))) -> - | E149: =IF(E143=0,"-",(E143/(E143+E145))) -> 0.33333333 | F149: =IF(F143=0,"-",(F143/(F143+F145))) -> 0.24489796 | G149: =IF(G143=0,"-",(G143/(G143+G145))) -> 0.15384615 | H149: =IF(H143=0,"-",(H143/(H143+H145))) -> - | I149: =IF(I143=0,"-",(I143/(I143+I145))) -> 0.11111111 | J149: =IF(J143=0,"-",(J143/(J143+J145))) -> 0.15107914 | K149: =IF(OR(C149="-",G149="-"),"-",(G149-C149)/C149) -> -0.35897436 | L149: =IF(OR(D149="-",H149="-"),"-",(H149-D149)/D149) -> - | M149: =IF(OR(E149="-",I149="-"),"-",(I149-E149)/E149) -> -0.66666667 | N149: =IF(OR(F149="-",J149="-"),"-",(J149-F149)/F149) -> -0.38309353
B150: Porcentaje Estimación Recursos contra Sentencias Absolutorias | C150: =IF(C144=0,"-",(C144/(C144+C146))) -> 0.21830986 | D150: =IF(D144=0,"-",(D144/(D144+D146))) -> - | E150: =IF(E144=0,"-",(E144/(E144+E146))) -> 0.4 | F150: =IF(F144=0,"-",(F144/(F144+F146))) -> 0.23026316 | G150: =IF(G144=0,"-",(G144/(G144+G146))) -> 0.46226415 | H150: =IF(H144=0,"-",(H144/(H144+H146))) -> - | I150: =IF(I144=0,"-",(I144/(I144+I146))) -> 0.14285714 | J150: =IF(J144=0,"-",(J144/(J144+J146))) -> 0.425 | K150: =IF(OR(C150="-",G150="-"),"-",(G150-C150)/C150) -> 1.117468 | L150: =IF(OR(D150="-",H150="-"),"-",(H150-D150)/D150) -> - | M150: =IF(OR(E150="-",I150="-"),"-",(I150-E150)/E150) -> -0.64285714 | N150: =IF(OR(F150="-",J150="-"),"-",(J150-F150)/F150) -> 0.84571429
C156: 2º trimestre 2025 | D156: 2º trimestre 2026 | E156: Evolución
B157: Confirmaciones en Apelación P.Delito | C157: 358 | D157: 270 | E157: =IF(C157=0,"-",(D157-C157)/C157) -> -0.24581006
B158: Revocaciones en Apelación P.Delito | C158: 104 | D158: 91 | E158: =IF(C158=0,"-",(D158-C158)/C158) -> -0.125
B159: Anulaciones en Apelación P.Delito | C159: 7 | D159: 5 | E159: =IF(C159=0,"-",(D159-C159)/C159) -> -0.28571429
B160: Porcentaje Confirmaciones P.Delitos | C160: =IF(C157=0,"-",C157/(C157+C158+C159)) -> 0.76332623 | D160: =IF(D157=0,"-",D157/(D157+D158+D159)) -> 0.73770492 | E160: =IF(OR(C160="-",D160="-"),"-",(D160-C160)/C160) -> -0.033565345
C165: 2º trimestre 2025 | D165: 2º trimestre 2026 | E165: Evolución
B166: Personas enjuiciadas | C166: 25 | D166: 47 | E166: =IF(C166=0,"-",(D166-C166)/C166) -> 0.88
B167: Condenado Español | C167: 9 | D167: 18 | E167: =IF(C167=0,"-",(D167-C167)/C167) -> 1
B168: Condenado Extranjero | C168: 14 | D168: 16 | E168: =IF(C168=0,"-",(D168-C168)/C168) -> 0.14285714
B169: % condenados entre los enjuiciados | C169: =IF(C166=0,"-",(C167+C168)/C166) -> 0.92 | D169: =IF(D166=0,"-",(D167+D168)/D166) -> 0.72340426 | E169: =IF(OR(C169="-",D169="-"),"-",(D169-C169)/C169) -> -0.21369103
B170: % condenas entre los españoles enjuiciados | C170: 0.9 | D170: 0.7826087 | E170: =IF(OR(C170="-",D170="-"),"-",(D170-C170)/C170) -> -0.13043478
B171: % condenas entre los extranjeros enjuiciados | C171: 0.93333333 | D171: 0.66666667 | E171: =IF(OR(C171="-",D171="-"),"-",(D171-C171)/C171) -> -0.28571429
C177: 2º trimestre 2025 | D177: 2º trimestre 2026 | E177: Evolución
B178: PROCESOS PRIMERA INSTANCIA Total | C178: 117 | D178: 92 | E178: =IF(C178=0,"-",(D178-C178)/C178) -> -0.21367521
B179: Sumarios | C179: 96 | D179: 80 | E179: =IF(C179=0,"-",(D179-C179)/C179) -> -0.16666667
B180: Procedimientos abreviados | C180: 11 | D180: 7 | E180: =IF(C180=0,"-",(D180-C180)/C180) -> -0.36363636
B181: Procedimientos Jurado | C181: 10 | D181: 5 | E181: =IF(C181=0,"-",(D181-C181)/C181) -> -0.5
B182: RECURSOS (APELACIONES DE SENTENCIAS) | C182: 430 | D182: 355 | E182: =IF(C182=0,"-",(D182-C182)/C182) -> -0.1744186
B183: Procedimientos abreviados | C183: 399 | D183: 327 | E183: =IF(C183=0,"-",(D183-C183)/C183) -> -0.18045113
B184: Juicios de Faltas | C184: 0 | D184: 0 | E184: =IF(C184=0,"-",(D184-C184)/C184) -> -
...

Sheet Com. Valenciana
B11: =Portada!B9 -> 2º Trimestre 2026
C13: 2º trimestre 2025 | D13: 2º trimestre 2026 | E13: Evolución
B14: DENUNCIAS RECIBIDAS - TOTAL | C14: 6982 | D14: 7284 | E14: =IF(C14>0,(D14-C14)/C14) -> 0.043254082
B15: VÍCTIMAS | C15: 6497 | D15: 6576 | E15: =IF(C15>0,(D15-C15)/C15) -> 0.012159458
B16: Víctimas Españolas | C16: 3793 | D16: 3632 | E16: =IF(C16>0,(D16-C16)/C16) -> -0.042446612
B17: Víctimas Extranjeras | C17: 2704 | D17: 2944 | E17: =IF(C17>0,(D17-C17)/C17) -> 0.088757396
B18: Víctimas Españolas menores | C18: 6 | D18: 9 | E18: =IF(C18=0,"-",(D18-C18)/C18) -> 0.5
B19: Víctimas Extranjeras menores | C19: 5 | D19: 1 | E19: =IF(C19=0,"-",(D19-C19)/C19) -> -0.8
B20: % Extranjeras entre las víctimas | C20: =C17/C15 -> 0.41619209 | D20: =D17/D15 -> 0.44768856 | E20: =IF(C20>0,(D20-C20)/C20) -> 0.075677738
B21: RENUNCIAS (La victima se acoge a la dispensa a la obligacion de declarar como testigo) | C21: 1035 | D21: 888 | E21: =IF(C21>0,(D21-C21)/C21) -> -0.14202899
B22: Renuncias por Española | C22: 543 | D22: 456 | E22: =IF(C22>0,(D22-C22)/C22) -> -0.16022099
B23: Renuncias por Extranjera | C23: 492 | D23: 432 | E23: =IF(C23>0,(D23-C23)/C23) -> -0.12195122
B24: % Extranjeras entre las Renuncias | C24: =C23/C21 -> 0.47536232 | D24: =D23/D21 -> 0.48648649 | E24: =IF(C24>0,(D24-C24)/C24) -> 0.02340145
B25: Víctimas de Violencia de Género cada 10.000 Mujeres | C25: 0.23585788 | D25: 0.23872578 | E25: =IF(C25>0,(D25-C25)/C25) -> 0.012159458
C33: 2º trimestre 2025 | D33: 2º trimestre 2026 | E33: Evolución
B34: Incoadas | C34: 1250 | D34: 1347 | E34: =IF(C34>0,(D34-C34)/C34,"-") -> 0.0776
B35: Inadmitidas | C35: 2 | D35: 8 | E35: =IF(C35>0,(D35-C35)/C35,"-") -> 3
B36: Adoptadas | C36: 928 | D36: 1072 | E36: =IF(C36>0,(D36-C36)/C36,"-") -> 0.15517241
B37: Denegadas | C37: 320 | D37: 267 | E37: =IF(C37>0,(D37-C37)/C37,"-") -> -0.165625
C43: 2º trimestre 2025 | D43: 2º trimestre 2026 | E43: Evolución
B44: Sentencias Condenatorias | C44: 1209 | D44: 1215 | E44: =IF(C44>0,(D44-C44)/C44,"-") -> 0.0049627792
B45: Sentencias Absolutorias | C45: 88 | D45: 74 | E45: =IF(C45>0,(D45-C45)/C45,"-") -> -0.15909091
B46: Sobreseimientos libres | C46: 116 | D46: 113 | E46: =IF(C46>0,(D46-C46)/C46,"-") -> -0.025862069
B47: Sobreseimientos provisionales | C47: 1942 | D47: 2152 | E47: =IF(C47>0,(D47-C47)/C47,"-") -> 0.10813594
B48: Elevación | C48: 1153 | D48: 1138 | E48: =IF(C48>0,(D48-C48)/C48,"-") -> -0.01300954
B49: Otras | C49: 1543 | D49: 1711 | E49: =IF(C49>0,(D49-C49)/C49,"-") -> 0.10887881
B50: Porcentaje Sentencias Condenatorias | C50: =C44/(C44+C45) -> 0.93215112 | D50: =D44/(D44+D45) -> 0.94259116 | E50: =IF(C50>0,(D50-C50)/C50,"-") -> 0.011199941
B51: Porcentaje Terminacion por SP | C51: =C47/(C46+C47) -> 0.9436346 | D51: =D47/(D46+D47) -> 0.95011038 | E51: =IF(C51>0,(D51-C51)/C51,"-") -> 0.0068625913
C57: 2º trimestre 2025 | D57: 2º trimestre 2026 | E57: Evolución
B58: Personas enjuiciadas | C58: 1297 | D58: 1325 | E58: =IF(C58>0,(D58-C58)/C58,"-") -> 0.021588281
B59: Condenado Español | C59: 728 | D59: 683 | E59: =IF(C59>0,(D59-C59)/C59,"-") -> -0.061813187
B60: Condenado Extranjero | C60: 481 | D60: 568 | E60: =IF(C60>0,(D60-C60)/C60,"-") -> 0.18087318
B61: % condenados entre los enjuiciados | C61: =(C59+C60)/C58 -> 0.93215112 | D61: =(D59+D60)/D58 -> 0.94415094 | E61: =IF(C61>0,(D61-C61)/C61,"-") -> 0.012873262
B62: % condenas entre los españoles enjuiciados | C62: 0.93573265 | D62: 0.93051771 | E62: =IF(C62>0,(D62-C62)/C62,"-") -> -0.0055731054
B63: % condenas entre los extranjeros enjuiciados | C63: 0.92678227 | D63: 0.96108291 | E63: =IF(C63>0,(D63-C63)/C63,"-") -> 0.037010458
C69: 2º trimestre 2025 | D69: 2º trimestre 2026 | E69: Evolución
B70: ASUNTOS PENALES | C70: 7978 | D70: 8496 | E70: =IF(C70>0,(D70-C70)/C70,"-") -> 0.064928554
B71: Diligencia Urgentes | C71: 2244 | D71: 2440 | E71: =IF(C71>0,(D71-C71)/C71,"-") -> 0.087344029
B72: Sumarios | C72: 21 | D72: 16 | E72: =IF(C72>0,(D72-C72)/C72,"-") -> -0.23809524
B73: Diligencia Previas | C73: 4220 | D73: 4573 | E73: =IF(C73>0,(D73-C73)/C73,"-") -> 0.083649289
B74: Procedimientos abreviados | C74: 1187 | D74: 1168 | E74: =IF(C74>0,(D74-C74)/C74,"-") -> -0.01600674
B75: Juicios sobre delitos leves | C75: 303 | D75: 298 | E75: =IF(C75>0,(D75-C75)/C75,"-") -> -0.01650165
B76: Procesos por aceptacion de decreto | C76: 0 | D76: 0 | E76: =IF(C76>0,(D76-C76)/C76,"-") -> -
B77: Ley Orgánica 5/95 Jurado | C77: 3 | D77: 1 | E77: =IF(C77>0,(D77-C77)/C77,"-") -> -0.66666667
C89: 2º trimestre 2025 | D89: 2º trimestre 2026 | E89: Evolución
B90: Por Sententencia Condenatoria con conformidad | C90: 486 | D90: 462 | E90: =IF(C90>0,(D90-C90)/C90,"-") -> -0.049382716
B91: Por Sententencia Condenatoria sin conformidad | C91: 261 | D91: 299 | E91: =IF(C91>0,(D91-C91)/C91,"-") -> 0.14559387
B92: Sentencia Absolutoria | C92: 263 | D92: 263 | E92: =IF(C92>0,(D92-C92)/C92,"-") -> 0
B93: Porcentaje de Sentencias condenatorias | C93: =(C90+C91)/(C90+C91+C92) -> 0.73960396 | D93: =(D90+D91)/(D90+D91+D92) -> 0.74316406 | E93: =IF(C93>0,(D93-C93)/C93,"-") -> 0.0048135249
C99: 2º trimestre 2025 | D99: 2º trimestre 2026 | E99: Evolución
B100: Personas enjuiciadas | C100: 1010 | D100: 1028 | E100: =IF(C100>0,(D100-C100)/C100,"-") -> 0.017821782
B101: Condenado Español | C101: 485 | D101: 486 | E101: =IF(C101>0,(D101-C101)/C101,"-") -> 0.0020618557
B102: Condenado Extranjero | C102: 262 | D102: 275 | E102: =IF(C102>0,(D102-C102)/C102,"-") -> 0.049618321
B103: % condenados entre los enjuiciados | C103: =(C101+C102)/C100 -> 0.73960396 | D103: =(D101+D102)/D100 -> 0.74027237 | E103: =IF(C103>0,(D103-C103)/C103,"-") -> 0.00090374468
B104: % condenas entre los españoles enjuiciados | C104: 0.72932331 | D104: 0.74425727 | E104: =IF(C104>0,(D104-C104)/C104,"-") -> 0.020476469
B105: % condenas entre los extranjeros enjuiciados | C105: 0.75942029 | D105: 0.73333333 | E105: =IF(C105>0,(D105-C105)/C105,"-") -> -0.034351145
C111: 2º trimestre 2025 | D111: 2º trimestre 2026 | E111: Evolución
B112: Asuntos Total | C112: 917 | D112: 1040 | E112: =IF(C112>0,(D112-C112)/C112,"-") -> 0.13413304
B113: Procedimientos Abreviados | C113: 613 | D113: 625 | E113: =IF(C113>0,(D113-C113)/C113,"-") -> 0.019575856
B114: Diligencias Urgentes | C114: 304 | D114: 415 | E114: =IF(C114>0,(D114-C114)/C114,"-") -> 0.36513158
C126: 2º trimestre 2025 | G126: 2º trimestre 2026 | K126: EVOLUCIÓN
C127: Sumario | D127: Proc.Abrev. | E127: Proc.Jurado | F127: TOTAL | G127: Sumario | H127: Proc.Abrev. | I127: Proc.Jurado | J127: TOTAL | K127: Sumario | L127: Proc.Abrev. | M127: Proc.Jurado | N127: TOTAL
B128: Condenatorias | C128: 9 | D128: 4 | E128: 2 | F128: 15 | G128: 9 | H128: 4 | I128: 1 | J128: 14 | K128: =IF(C128=0,"-",(G128-C128)/C128) -> 0 | L128: =IF(D128=0,"-",(H128-D128)/D128) -> 0 | M128: =IF(E128=0,"-",(I128-E128)/E128) -> -0.5 | N128: =IF(F128=0,"-",(J128-F128)/F128) -> -0.066666667
B129: Absolutorias | C129: 4 | D129: 0 | E129: 0 | F129: 4 | G129: 8 | H129: 3 | I129: 0 | J129: 11 | K129: =IF(C129=0,"-",(G129-C129)/C129) -> 1 | L129: =IF(D129=0,"-",(H129-D129)/D129) -> - | M129: =IF(E129=0,"-",(I129-E129)/E129) -> - | N129: =IF(F129=0,"-",(J129-F129)/F129) -> 1.75
B130: Sobreseimiento Libre | C130: 0 | D130: 0 | E130: 0 | F130: 0 | G130: 0 | H130: 0 | I130: 0 | J130: 0 | K130: =IF(C130=0,"-",(G130-C130)/C130) -> - | L130: =IF(D130=0,"-",(H130-D130)/D130) -> - | M130: =IF(E130=0,"-",(I130-E130)/E130) -> - | N130: =IF(F130=0,"-",(J130-F130)/F130) -> -
B131: Sobreseimiento Provisional | C131: 2 | D131: 0 | E131: 0 | F131: 2 | G131: 2 | H131: 0 | I131: 0 | J131: 2 | K131: =IF(C131=0,"-",(G131-C131)/C131) -> 0 | L131: =IF(D131=0,"-",(H131-D131)/D131) -> - | M131: =IF(E131=0,"-",(I131-E131)/E131) -> - | N131: =IF(F131=0,"-",(J131-F131)/F131) -> 0
B132: Otras | C132: 2 | D132: 0 | E132: 0 | F132: 2 | G132: 4 | H132: 0 | I132: 0 | J132: 4 | K132: =IF(C132=0,"-",(G132-C132)/C132) -> 1 | L132: =IF(D132=0,"-",(H132-D132)/D132) -> - | M132: =IF(E132=0,"-",(I132-E132)/E132) -> - | N132: =IF(F132=0,"-",(J132-F132)/F132) -> 1
B133: Total | C133: 17 | D133: 4 | E133: 2 | F133: 23 | G133: 23 | H133: 7 | I133: 1 | J133: 31 | K133: =IF(C133=0,"-",(G133-C133)/C133) -> 0.35294118 | L133: =IF(D133=0,"-",(H133-D133)/D133) -> 0.75 | M133: =IF(E133=0,"-",(I133-E133)/E133) -> -0.5 | N133: =IF(F133=0,"-",(J133-F133)/F133) -> 0.34782609
B134: Porcentaje Sentencias Condenatorias | C134: =IF(C128=0,"-",C128/(C128+C129)) -> 0.69230769 | D134: =IF(D128=0,"-",D128/(D128+D129)) -> 1 | E134: =IF(E128=0,"-",E128/(E128+E129)) -> 1 | F134: =IF(F128=0,"-",F128/(F128+F129)) -> 0.78947368 | G134: =IF(G128=0,"-",G128/(G128+G129)) -> 0.52941176 | H134: =IF(H128=0,"-",H128/(H128+H129)) -> 0.57142857 | I134: =IF(I128=0,"-",I128/(I128+I129)) -> 1 | J134: =IF(J128=0,"-",J128/(J128+J129)) -> 0.56 | K134: =IF(OR(C134="-",G134="-"),"-",(G134-C134)/C134) -> -0.23529412 | L134: =IF(OR(D134="-",H134="-"),"-",(H134-D134)/D134) -> -0.42857143 | M134: =IF(OR(E134="-",I134="-"),"-",(I134-E134)/E134) -> 0 | N134: =IF(OR(F134="-",J134="-"),"-",(J134-F134)/F134) -> -0.29066667
B135: Porcentaje Terminacion por SP | C135: =IF(C131=0,"-",C131/(C130+C131)) -> 1 | D135: =IF(D131=0,"-",D131/(D130+D131)) -> - | E135: =IF(E131=0,"-",E131/(E130+E131)) -> - | F135: =IF(F131=0,"-",F131/(F130+F131)) -> 1 | G135: =IF(G131=0,"-",G131/(G130+G131)) -> 1 | H135: =IF(H131=0,"-",H131/(H130+H131)) -> - | I135: =IF(I131=0,"-",I131/(I130+I131)) -> - | J135: =IF(J131=0,"-",J131/(J130+J131)) -> 1 | K135: =IF(OR(C135="-",G135="-"),"-",(G135-C135)/C135) -> 0 | L135: =IF(OR(D135="-",H135="-"),"-",(H135-D135)/D135) -> - | M135: =IF(OR(E135="-",I135="-"),"-",(I135-E135)/E135) -> - | N135: =IF(OR(F135="-",J135="-"),"-",(J135-F135)/F135) -> 0
C141: 2º trimestre 2025 | G141: 2º trimestre 2026 | K141: EVOLUCIÓN
C142: Proc.Abrev. | D142: Juicios de Faltas | E142: Juicios sobre Delitos Leves | F142: TOTAL | G142: Proc.Abrev. | H142: Juicios de Faltas | I142: Juicios sobre Delitos Leves | J142: TOTAL | K142: Proc.Abrev. | L142: Juicios de Faltas | M142: Juicios sobre Delitos Leves | N142: TOTAL
B143: Estimatorios Sentencias Condenatorias | C143: 34 | D143: 0 | E143: 3 | F143: 37 | G143: 24 | H143: 0 | I143: 0 | J143: 24 | K143: =IF(C143=0,"-",(G143-C143)/C143) -> -0.29411765 | L143: =IF(D143=0,"-",(H143-D143)/D143) -> - | M143: =IF(E143=0,"-",(I143-E143)/E143) -> -1 | N143: =IF(F143=0,"-",(J143-F143)/F143) -> -0.35135135
B144: Estimatorios Sentencias Absolutorias | C144: 1 | D144: 0 | E144: 0 | F144: 1 | G144: 31 | H144: 0 | I144: 2 | J144: 33 | K144: =IF(C144=0,"-",(G144-C144)/C144) -> 30 | L144: =IF(D144=0,"-",(H144-D144)/D144) -> - | M144: =IF(E144=0,"-",(I144-E144)/E144) -> - | N144: =IF(F144=0,"-",(J144-F144)/F144) -> 32
B145: Desestimatorios Sentencias Condenatorias | C145: 262 | D145: 0 | E145: 18 | F145: 280 | G145: 214 | H145: 0 | I145: 17 | J145: 231 | K145: =IF(C145=0,"-",(G145-C145)/C145) -> -0.18320611 | L145: =IF(D145=0,"-",(H145-D145)/D145) -> - | M145: =IF(E145=0,"-",(I145-E145)/E145) -> -0.055555556 | N145: =IF(F145=0,"-",(J145-F145)/F145) -> -0.175
B146: Desestimatorios Sentencias Absolutorias | C146: 53 | D146: 0 | E146: 16 | F146: 69 | G146: 45 | H146: 0 | I146: 0 | J146: 45 | K146: =IF(C146=0,"-",(G146-C146)/C146) -> -0.1509434 | L146: =IF(D146=0,"-",(H146-D146)/D146) -> - | M146: =IF(E146=0,"-",(I146-E146)/E146) -> -1 | N146: =IF(F146=0,"-",(J146-F146)/F146) -> -0.34782609
B147: Por Otras Causas | C147: 0 | D147: 0 | E147: 0 | F147: 0 | G147: 0 | H147: 0 | I147: 0 | J147: 0 | K147: =IF(C147=0,"-",(G147-C147)/C147) -> - | L147: =IF(D147=0,"-",(H147-D147)/D147) -> - | M147: =IF(E147=0,"-",(I147-E147)/E147) -> - | N147: =IF(F147=0,"-",(J147-F147)/F147) -> -
B148: Total | C148: 350 | D148: 0 | E148: 37 | F148: 387 | G148: 314 | H148: 0 | I148: 19 | J148: 333 | K148: =IF(C148=0,"-",(G148-C148)/C148) -> -0.10285714 | L148: =IF(D148=0,"-",(H148-D148)/D148) -> - | M148: =IF(E148=0,"-",(I148-E148)/E148) -> -0.48648649 | N148: =IF(F148=0,"-",(J148-F148)/F148) -> -0.13953488
B149: Porcentaje Estimación Recursos contra Sentencias Condenatorias | C149: =IF(C143=0,"-",(C143/(C143+C145))) -> 0.11486486 | D149: =IF(D143=0,"-",(D143/(D143+D145))) -> - | E149: =IF(E143=0,"-",(E143/(E143+E145))) -> 0.14285714 | F149: =IF(F143=0,"-",(F143/(F143+F145))) -> 0.11671924 | G149: =IF(G143=0,"-",(G143/(G143+G145))) -> 0.10084034 | H149: =IF(H143=0,"-",(H143/(H143+H145))) -> - | I149: =IF(I143=0,"-",(I143/(I143+I145))) -> - | J149: =IF(J143=0,"-",(J143/(J143+J145))) -> 0.094117647 | K149: =IF(OR(C149="-",G149="-"),"-",(G149-C149)/C149) -> -0.1220959 | L149: =IF(OR(D149="-",H149="-"),"-",(H149-D149)/D149) -> - | M149: =IF(OR(E149="-",I149="-"),"-",(I149-E149)/E149) -> - | N149: =IF(OR(F149="-",J149="-"),"-",(J149-F149)/F149) -> -0.1936407
B150: Porcentaje Estimación Recursos contra Sentencias Absolutorias | C150: =IF(C144=0,"-",(C144/(C144+C146))) -> 0.018518519 | D150: =IF(D144=0,"-",(D144/(D144+D146))) -> - | E150: =IF(E144=0,"-",(E144/(E144+E146))) -> - | F150: =IF(F144=0,"-",(F144/(F144+F146))) -> 0.014285714 | G150: =IF(G144=0,"-",(G144/(G144+G146))) -> 0.40789474 | H150: =IF(H144=0,"-",(H144/(H144+H146))) -> - | I150: =IF(I144=0,"-",(I144/(I144+I146))) -> 1 | J150: =IF(J144=0,"-",(J144/(J144+J146))) -> 0.42307692 | K150: =IF(OR(C150="-",G150="-"),"-",(G150-C150)/C150) -> 21.026316 | L150: =IF(OR(D150="-",H150="-"),"-",(H150-D150)/D150) -> - | M150: =IF(OR(E150="-",I150="-"),"-",(I150-E150)/E150) -> - | N150: =IF(OR(F150="-",J150="-"),"-",(J150-F150)/F150) -> 28.615385
C156: 2º trimestre 2025 | D156: 2º trimestre 2026 | E156: Evolución
B157: Confirmaciones en Apelación P.Delito | C157: 304 | D157: 236 | E157: =IF(C157=0,"-",(D157-C157)/C157) -> -0.22368421
B158: Revocaciones en Apelación P.Delito | C158: 39 | D158: 48 | E158: =IF(C158=0,"-",(D158-C158)/C158) -> 0.23076923
B159: Anulaciones en Apelación P.Delito | C159: 1 | D159: 6 | E159: =IF(C159=0,"-",(D159-C159)/C159) -> 5
B160: Porcentaje Confirmaciones P.Delitos | C160: =IF(C157=0,"-",C157/(C157+C158+C159)) -> 0.88372093 | D160: =IF(D157=0,"-",D157/(D157+D158+D159)) -> 0.8137931 | E160: =IF(OR(C160="-",D160="-"),"-",(D160-C160)/C160) -> -0.079128857
C165: 2º trimestre 2025 | D165: 2º trimestre 2026 | E165: Evolución
B166: Personas enjuiciadas | C166: 19 | D166: 25 | E166: =IF(C166=0,"-",(D166-C166)/C166) -> 0.31578947
B167: Condenado Español | C167: 12 | D167: 6 | E167: =IF(C167=0,"-",(D167-C167)/C167) -> -0.5
B168: Condenado Extranjero | C168: 3 | D168: 8 | E168: =IF(C168=0,"-",(D168-C168)/C168) -> 1.6666667
B169: % condenados entre los enjuiciados | C169: =IF(C166=0,"-",(C167+C168)/C166) -> 0.78947368 | D169: =IF(D166=0,"-",(D167+D168)/D166) -> 0.56 | E169: =IF(OR(C169="-",D169="-"),"-",(D169-C169)/C169) -> -0.29066667
B170: % condenas entre los españoles enjuiciados | C170: 0.75 | D170: 0.5 | E170: =IF(OR(C170="-",D170="-"),"-",(D170-C170)/C170) -> -0.33333333
B171: % condenas entre los extranjeros enjuiciados | C171: 1 | D171: 0.61538462 | E171: =IF(OR(C171="-",D171="-"),"-",(D171-C171)/C171) -> -0.38461538
C177: 2º trimestre 2025 | D177: 2º trimestre 2026 | E177: Evolución
B178: PROCESOS PRIMERA INSTANCIA Total | C178: 31 | D178: 47 | E178: =IF(C178=0,"-",(D178-C178)/C178) -> 0.51612903
B179: Sumarios | C179: 25 | D179: 34 | E179: =IF(C179=0,"-",(D179-C179)/C179) -> 0.36
B180: Procedimientos abreviados | C180: 4 | D180: 11 | E180: =IF(C180=0,"-",(D180-C180)/C180) -> 1.75
B181: Procedimientos Jurado | C181: 2 | D181: 2 | E181: =IF(C181=0,"-",(D181-C181)/C181) -> 0
B182: RECURSOS (APELACIONES DE SENTENCIAS) | C182: 375 | D182: 509 | E182: =IF(C182=0,"-",(D182-C182)/C182) -> 0.35733333
B183: Procedimientos abreviados | C183: 325 | D183: 458 | E183: =IF(C183=0,"-",(D183-C183)/C183) -> 0.40923077
B184: Juicios de Faltas | C184: 0 | D184: 0 | E184: =IF(C184=0,"-",(D184-C184)/C184) -> -
...

Sheet Extremadura
B11: =Portada!B9 -> 2º Trimestre 2026
C13: 2º trimestre 2025 | D13: 2º trimestre 2026 | E13: Evolución
B14: DENUNCIAS RECIBIDAS - TOTAL | C14: 797 | D14: 1019 | E14: =IF(C14>0,(D14-C14)/C14) -> 0.27854454
B15: VÍCTIMAS | C15: 749 | D15: 834 | E15: =IF(C15>0,(D15-C15)/C15) -> 0.11348465
B16: Víctimas Españolas | C16: 672 | D16: 748 | E16: =IF(C16>0,(D16-C16)/C16) -> 0.11309524
B17: Víctimas Extranjeras | C17: 77 | D17: 86 | E17: =IF(C17>0,(D17-C17)/C17) -> 0.11688312
B18: Víctimas Españolas menores | C18: 9 | D18: 0 | E18: =IF(C18=0,"-",(D18-C18)/C18) -> -1
B19: Víctimas Extranjeras menores | C19: 0 | D19: 0 | E19: =IF(C19=0,"-",(D19-C19)/C19) -> -
B20: % Extranjeras entre las víctimas | C20: =C17/C15 -> 0.10280374 | D20: =D17/D15 -> 0.10311751 | E20: =IF(C20>0,(D20-C20)/C20) -> 0.0030521038
B21: RENUNCIAS (La victima se acoge a la dispensa a la obligacion de declarar como testigo) | C21: 21 | D21: 67 | E21: =IF(C21>0,(D21-C21)/C21) -> 2.1904762
B22: Renuncias por Española | C22: 21 | D22: 58 | E22: =IF(C22>0,(D22-C22)/C22) -> 1.7619048
B23: Renuncias por Extranjera | C23: 0 | D23: 9 | E23: =IF(C23>0,(D23-C23)/C23) -> FALSE
B24: % Extranjeras entre las Renuncias | C24: =C23/C21 -> 0 | D24: =D23/D21 -> 0.13432836 | E24: =IF(C24>0,(D24-C24)/C24) -> FALSE
B25: Víctimas de Violencia de Género cada 10.000 Mujeres | C25: 0.14054827 | D25: 0.15649834 | E25: =IF(C25>0,(D25-C25)/C25) -> 0.11348465
C33: 2º trimestre 2025 | D33: 2º trimestre 2026 | E33: Evolución
B34: Incoadas | C34: 222 | D34: 164 | E34: =IF(C34>0,(D34-C34)/C34,"-") -> -0.26126126
B35: Inadmitidas | C35: 2 | D35: 0 | E35: =IF(C35>0,(D35-C35)/C35,"-") -> -1
B36: Adoptadas | C36: 154 | D36: 106 | E36: =IF(C36>0,(D36-C36)/C36,"-") -> -0.31168831
B37: Denegadas | C37: 66 | D37: 58 | E37: =IF(C37>0,(D37-C37)/C37,"-") -> -0.12121212
C43: 2º trimestre 2025 | D43: 2º trimestre 2026 | E43: Evolución
B44: Sentencias Condenatorias | C44: 172 | D44: 220 | E44: =IF(C44>0,(D44-C44)/C44,"-") -> 0.27906977
B45: Sentencias Absolutorias | C45: 6 | D45: 11 | E45: =IF(C45>0,(D45-C45)/C45,"-") -> 0.83333333
B46: Sobreseimientos libres | C46: 11 | D46: 16 | E46: =IF(C46>0,(D46-C46)/C46,"-") -> 0.45454545
B47: Sobreseimientos provisionales | C47: 267 | D47: 308 | E47: =IF(C47>0,(D47-C47)/C47,"-") -> 0.15355805
B48: Elevación | C48: 157 | D48: 139 | E48: =IF(C48>0,(D48-C48)/C48,"-") -> -0.11464968
B49: Otras | C49: 43 | D49: 210 | E49: =IF(C49>0,(D49-C49)/C49,"-") -> 3.8837209
B50: Porcentaje Sentencias Condenatorias | C50: =C44/(C44+C45) -> 0.96629213 | D50: =D44/(D44+D45) -> 0.95238095 | E50: =IF(C50>0,(D50-C50)/C50,"-") -> -0.014396456
B51: Porcentaje Terminacion por SP | C51: =C47/(C46+C47) -> 0.96043165 | D51: =D47/(D46+D47) -> 0.95061728 | E51: =IF(C51>0,(D51-C51)/C51,"-") -> -0.010218708
C57: 2º trimestre 2025 | D57: 2º trimestre 2026 | E57: Evolución
B58: Personas enjuiciadas | C58: 180 | D58: 231 | E58: =IF(C58>0,(D58-C58)/C58,"-") -> 0.28333333
B59: Condenado Español | C59: 150 | D59: 200 | E59: =IF(C59>0,(D59-C59)/C59,"-") -> 0.33333333
B60: Condenado Extranjero | C60: 24 | D60: 20 | E60: =IF(C60>0,(D60-C60)/C60,"-") -> -0.16666667
B61: % condenados entre los enjuiciados | C61: =(C59+C60)/C58 -> 0.96666667 | D61: =(D59+D60)/D58 -> 0.95238095 | E61: =IF(C61>0,(D61-C61)/C61,"-") -> -0.014778325
B62: % condenas entre los españoles enjuiciados | C62: 0.96153846 | D62: 0.9478673 | E62: =IF(C62>0,(D62-C62)/C62,"-") -> -0.014218009
B63: % condenas entre los extranjeros enjuiciados | C63: 1 | D63: 1 | E63: =IF(C63>0,(D63-C63)/C63,"-") -> 0
C69: 2º trimestre 2025 | D69: 2º trimestre 2026 | E69: Evolución
B70: ASUNTOS PENALES | C70: 884 | D70: 1081 | E70: =IF(C70>0,(D70-C70)/C70,"-") -> 0.22285068
B71: Diligencia Urgentes | C71: 271 | D71: 478 | E71: =IF(C71>0,(D71-C71)/C71,"-") -> 0.76383764
B72: Sumarios | C72: 1 | D72: 3 | E72: =IF(C72>0,(D72-C72)/C72,"-") -> 2
B73: Diligencia Previas | C73: 402 | D73: 437 | E73: =IF(C73>0,(D73-C73)/C73,"-") -> 0.087064677
B74: Procedimientos abreviados | C74: 183 | D74: 141 | E74: =IF(C74>0,(D74-C74)/C74,"-") -> -0.2295082
B75: Juicios sobre delitos leves | C75: 27 | D75: 22 | E75: =IF(C75>0,(D75-C75)/C75,"-") -> -0.18518519
B76: Procesos por aceptacion de decreto | C76: 0 | D76: 0 | E76: =IF(C76>0,(D76-C76)/C76,"-") -> -
B77: Ley Orgánica 5/95 Jurado | C77: 0 | D77: 0 | E77: =IF(C77>0,(D77-C77)/C77,"-") -> -
C89: 2º trimestre 2025 | D89: 2º trimestre 2026 | E89: Evolución
B90: Por Sententencia Condenatoria con conformidad | C90: 78 | D90: 117 | E90: =IF(C90>0,(D90-C90)/C90,"-") -> 0.5
B91: Por Sententencia Condenatoria sin conformidad | C91: 25 | D91: 26 | E91: =IF(C91>0,(D91-C91)/C91,"-") -> 0.04
B92: Sentencia Absolutoria | C92: 12 | D92: 15 | E92: =IF(C92>0,(D92-C92)/C92,"-") -> 0.25
B93: Porcentaje de Sentencias condenatorias | C93: =(C90+C91)/(C90+C91+C92) -> 0.89565217 | D93: =(D90+D91)/(D90+D91+D92) -> 0.90506329 | E93: =IF(C93>0,(D93-C93)/C93,"-") -> 0.010507558
C99: 2º trimestre 2025 | D99: 2º trimestre 2026 | E99: Evolución
B100: Personas enjuiciadas | C100: 117 | D100: 158 | E100: =IF(C100>0,(D100-C100)/C100,"-") -> 0.35042735
B101: Condenado Español | C101: 86 | D101: 107 | E101: =IF(C101>0,(D101-C101)/C101,"-") -> 0.24418605
B102: Condenado Extranjero | C102: 19 | D102: 36 | E102: =IF(C102>0,(D102-C102)/C102,"-") -> 0.89473684
B103: % condenados entre los enjuiciados | C103: =(C101+C102)/C100 -> 0.8974359 | D103: =(D101+D102)/D100 -> 0.90506329 | E103: =IF(C103>0,(D103-C103)/C103,"-") -> 0.0084990958
B104: % condenas entre los españoles enjuiciados | C104: 0.88659794 | D104: 0.87704918 | E104: =IF(C104>0,(D104-C104)/C104,"-") -> -0.010770111
B105: % condenas entre los extranjeros enjuiciados | C105: 0.95 | D105: 1 | E105: =IF(C105>0,(D105-C105)/C105,"-") -> 0.052631579
C111: 2º trimestre 2025 | D111: 2º trimestre 2026 | E111: Evolución
B112: Asuntos Total | C112: 114 | D112: 136 | E112: =IF(C112>0,(D112-C112)/C112,"-") -> 0.19298246
B113: Procedimientos Abreviados | C113: 89 | D113: 86 | E113: =IF(C113>0,(D113-C113)/C113,"-") -> -0.033707865
B114: Diligencias Urgentes | C114: 25 | D114: 50 | E114: =IF(C114>0,(D114-C114)/C114,"-") -> 1
C126: 2º trimestre 2025 | G126: 2º trimestre 2026 | K126: EVOLUCIÓN
C127: Sumario | D127: Proc.Abrev. | E127: Proc.Jurado | F127: TOTAL | G127: Sumario | H127: Proc.Abrev. | I127: Proc.Jurado | J127: TOTAL | K127: Sumario | L127: Proc.Abrev. | M127: Proc.Jurado | N127: TOTAL
B128: Condenatorias | C128: 1 | D128: 1 | E128: 0 | F128: 2 | G128: 1 | H128: 0 | I128: 1 | J128: 2 | K128: =IF(C128=0,"-",(G128-C128)/C128) -> 0 | L128: =IF(D128=0,"-",(H128-D128)/D128) -> -1 | M128: =IF(E128=0,"-",(I128-E128)/E128) -> - | N128: =IF(F128=0,"-",(J128-F128)/F128) -> 0
B129: Absolutorias | C129: 0 | D129: 0 | E129: 0 | F129: 0 | G129: 0 | H129: 0 | I129: 0 | J129: 0 | K129: =IF(C129=0,"-",(G129-C129)/C129) -> - | L129: =IF(D129=0,"-",(H129-D129)/D129) -> - | M129: =IF(E129=0,"-",(I129-E129)/E129) -> - | N129: =IF(F129=0,"-",(J129-F129)/F129) -> -
B130: Sobreseimiento Libre | C130: 0 | D130: 0 | E130: 0 | F130: 0 | G130: 0 | H130: 0 | I130: 0 | J130: 0 | K130: =IF(C130=0,"-",(G130-C130)/C130) -> - | L130: =IF(D130=0,"-",(H130-D130)/D130) -> - | M130: =IF(E130=0,"-",(I130-E130)/E130) -> - | N130: =IF(F130=0,"-",(J130-F130)/F130) -> -
B131: Sobreseimiento Provisional | C131: 0 | D131: 0 | E131: 0 | F131: 0 | G131: 0 | H131: 0 | I131: 0 | J131: 0 | K131: =IF(C131=0,"-",(G131-C131)/C131) -> - | L131: =IF(D131=0,"-",(H131-D131)/D131) -> - | M131: =IF(E131=0,"-",(I131-E131)/E131) -> - | N131: =IF(F131=0,"-",(J131-F131)/F131) -> -
B132: Otras | C132: 0 | D132: 0 | E132: 0 | F132: 0 | G132: 0 | H132: 0 | I132: 0 | J132: 0 | K132: =IF(C132=0,"-",(G132-C132)/C132) -> - | L132: =IF(D132=0,"-",(H132-D132)/D132) -> - | M132: =IF(E132=0,"-",(I132-E132)/E132) -> - | N132: =IF(F132=0,"-",(J132-F132)/F132) -> -
B133: Total | C133: 1 | D133: 1 | E133: 0 | F133: 2 | G133: 1 | H133: 0 | I133: 1 | J133: 2 | K133: =IF(C133=0,"-",(G133-C133)/C133) -> 0 | L133: =IF(D133=0,"-",(H133-D133)/D133) -> -1 | M133: =IF(E133=0,"-",(I133-E133)/E133) -> - | N133: =IF(F133=0,"-",(J133-F133)/F133) -> 0
B134: Porcentaje Sentencias Condenatorias | C134: =IF(C128=0,"-",C128/(C128+C129)) -> 1 | D134: =IF(D128=0,"-",D128/(D128+D129)) -> 1 | E134: =IF(E128=0,"-",E128/(E128+E129)) -> - | F134: =IF(F128=0,"-",F128/(F128+F129)) -> 1 | G134: =IF(G128=0,"-",G128/(G128+G129)) -> 1 | H134: =IF(H128=0,"-",H128/(H128+H129)) -> - | I134: =IF(I128=0,"-",I128/(I128+I129)) -> 1 | J134: =IF(J128=0,"-",J128/(J128+J129)) -> 1 | K134: =IF(OR(C134="-",G134="-"),"-",(G134-C134)/C134) -> 0 | L134: =IF(OR(D134="-",H134="-"),"-",(H134-D134)/D134) -> - | M134: =IF(OR(E134="-",I134="-"),"-",(I134-E134)/E134) -> - | N134: =IF(OR(F134="-",J134="-"),"-",(J134-F134)/F134) -> 0
B135: Porcentaje Terminacion por SP | C135: =IF(C131=0,"-",C131/(C130+C131)) -> - | D135: =IF(D131=0,"-",D131/(D130+D131)) -> - | E135: =IF(E131=0,"-",E131/(E130+E131)) -> - | F135: =IF(F131=0,"-",F131/(F130+F131)) -> - | G135: =IF(G131=0,"-",G131/(G130+G131)) -> - | H135: =IF(H131=0,"-",H131/(H130+H131)) -> - | I135: =IF(I131=0,"-",I131/(I130+I131)) -> - | J135: =IF(J131=0,"-",J131/(J130+J131)) -> - | K135: =IF(OR(C135="-",G135="-"),"-",(G135-C135)/C135) -> - | L135: =IF(OR(D135="-",H135="-"),"-",(H135-D135)/D135) -> - | M135: =IF(OR(E135="-",I135="-"),"-",(I135-E135)/E135) -> - | N135: =IF(OR(F135="-",J135="-"),"-",(J135-F135)/F135) -> -
C141: 2º trimestre 2025 | G141: 2º trimestre 2026 | K141: EVOLUCIÓN
C142: Proc.Abrev. | D142: Juicios de Faltas | E142: Juicios sobre Delitos Leves | F142: TOTAL | G142: Proc.Abrev. | H142: Juicios de Faltas | I142: Juicios sobre Delitos Leves | J142: TOTAL | K142: Proc.Abrev. | L142: Juicios de Faltas | M142: Juicios sobre Delitos Leves | N142: TOTAL
B143: Estimatorios Sentencias Condenatorias | C143: 4 | D143: 0 | E143: 0 | F143: 4 | G143: 5 | H143: 0 | I143: 0 | J143: 5 | K143: =IF(C143=0,"-",(G143-C143)/C143) -> 0.25 | L143: =IF(D143=0,"-",(H143-D143)/D143) -> - | M143: =IF(E143=0,"-",(I143-E143)/E143) -> - | N143: =IF(F143=0,"-",(J143-F143)/F143) -> 0.25
B144: Estimatorios Sentencias Absolutorias | C144: 0 | D144: 0 | E144: 0 | F144: 0 | G144: 0 | H144: 0 | I144: 0 | J144: 0 | K144: =IF(C144=0,"-",(G144-C144)/C144) -> - | L144: =IF(D144=0,"-",(H144-D144)/D144) -> - | M144: =IF(E144=0,"-",(I144-E144)/E144) -> - | N144: =IF(F144=0,"-",(J144-F144)/F144) -> -
B145: Desestimatorios Sentencias Condenatorias | C145: 15 | D145: 0 | E145: 1 | F145: 16 | G145: 5 | H145: 0 | I145: 0 | J145: 5 | K145: =IF(C145=0,"-",(G145-C145)/C145) -> -0.66666667 | L145: =IF(D145=0,"-",(H145-D145)/D145) -> - | M145: =IF(E145=0,"-",(I145-E145)/E145) -> -1 | N145: =IF(F145=0,"-",(J145-F145)/F145) -> -0.6875
B146: Desestimatorios Sentencias Absolutorias | C146: 1 | D146: 0 | E146: 0 | F146: 1 | G146: 3 | H146: 0 | I146: 1 | J146: 4 | K146: =IF(C146=0,"-",(G146-C146)/C146) -> 2 | L146: =IF(D146=0,"-",(H146-D146)/D146) -> - | M146: =IF(E146=0,"-",(I146-E146)/E146) -> - | N146: =IF(F146=0,"-",(J146-F146)/F146) -> 3
B147: Por Otras Causas | C147: 0 | D147: 0 | E147: 0 | F147: 0 | G147: 2 | H147: 0 | I147: 0 | J147: 2 | K147: =IF(C147=0,"-",(G147-C147)/C147) -> - | L147: =IF(D147=0,"-",(H147-D147)/D147) -> - | M147: =IF(E147=0,"-",(I147-E147)/E147) -> - | N147: =IF(F147=0,"-",(J147-F147)/F147) -> -
B148: Total | C148: 20 | D148: 0 | E148: 1 | F148: 21 | G148: 15 | H148: 0 | I148: 1 | J148: 16 | K148: =IF(C148=0,"-",(G148-C148)/C148) -> -0.25 | L148: =IF(D148=0,"-",(H148-D148)/D148) -> - | M148: =IF(E148=0,"-",(I148-E148)/E148) -> 0 | N148: =IF(F148=0,"-",(J148-F148)/F148) -> -0.23809524
B149: Porcentaje Estimación Recursos contra Sentencias Condenatorias | C149: =IF(C143=0,"-",(C143/(C143+C145))) -> 0.21052632 | D149: =IF(D143=0,"-",(D143/(D143+D145))) -> - | E149: =IF(E143=0,"-",(E143/(E143+E145))) -> - | F149: =IF(F143=0,"-",(F143/(F143+F145))) -> 0.2 | G149: =IF(G143=0,"-",(G143/(G143+G145))) -> 0.5 | H149: =IF(H143=0,"-",(H143/(H143+H145))) -> - | I149: =IF(I143=0,"-",(I143/(I143+I145))) -> - | J149: =IF(J143=0,"-",(J143/(J143+J145))) -> 0.5 | K149: =IF(OR(C149="-",G149="-"),"-",(G149-C149)/C149) -> 1.375 | L149: =IF(OR(D149="-",H149="-"),"-",(H149-D149)/D149) -> - | M149: =IF(OR(E149="-",I149="-"),"-",(I149-E149)/E149) -> - | N149: =IF(OR(F149="-",J149="-"),"-",(J149-F149)/F149) -> 1.5
B150: Porcentaje Estimación Recursos contra Sentencias Absolutorias | C150: =IF(C144=0,"-",(C144/(C144+C146))) -> - | D150: =IF(D144=0,"-",(D144/(D144+D146))) -> - | E150: =IF(E144=0,"-",(E144/(E144+E146))) -> - | F150: =IF(F144=0,"-",(F144/(F144+F146))) -> - | G150: =IF(G144=0,"-",(G144/(G144+G146))) -> - | H150: =IF(H144=0,"-",(H144/(H144+H146))) -> - | I150: =IF(I144=0,"-",(I144/(I144+I146))) -> - | J150: =IF(J144=0,"-",(J144/(J144+J146))) -> - | K150: =IF(OR(C150="-",G150="-"),"-",(G150-C150)/C150) -> - | L150: =IF(OR(D150="-",H150="-"),"-",(H150-D150)/D150) -> - | M150: =IF(OR(E150="-",I150="-"),"-",(I150-E150)/E150) -> - | N150: =IF(OR(F150="-",J150="-"),"-",(J150-F150)/F150) -> -
C156: 2º trimestre 2025 | D156: 2º trimestre 2026 | E156: Evolución
B157: Confirmaciones en Apelación P.Delito | C157: 16 | D157: 8 | E157: =IF(C157=0,"-",(D157-C157)/C157) -> -0.5
B158: Revocaciones en Apelación P.Delito | C158: 4 | D158: 5 | E158: =IF(C158=0,"-",(D158-C158)/C158) -> 0.25
B159: Anulaciones en Apelación P.Delito | C159: 0 | D159: 0 | E159: =IF(C159=0,"-",(D159-C159)/C159) -> -
B160: Porcentaje Confirmaciones P.Delitos | C160: =IF(C157=0,"-",C157/(C157+C158+C159)) -> 0.8 | D160: =IF(D157=0,"-",D157/(D157+D158+D159)) -> 0.61538462 | E160: =IF(OR(C160="-",D160="-"),"-",(D160-C160)/C160) -> -0.23076923
C165: 2º trimestre 2025 | D165: 2º trimestre 2026 | E165: Evolución
B166: Personas enjuiciadas | C166: 2 | D166: 2 | E166: =IF(C166=0,"-",(D166-C166)/C166) -> 0
B167: Condenado Español | C167: 1 | D167: 2 | E167: =IF(C167=0,"-",(D167-C167)/C167) -> 1
B168: Condenado Extranjero | C168: 1 | D168: 0 | E168: =IF(C168=0,"-",(D168-C168)/C168) -> -1
B169: % condenados entre los enjuiciados | C169: =IF(C166=0,"-",(C167+C168)/C166) -> 1 | D169: =IF(D166=0,"-",(D167+D168)/D166) -> 1 | E169: =IF(OR(C169="-",D169="-"),"-",(D169-C169)/C169) -> 0
B170: % condenas entre los españoles enjuiciados | C170: 1 | D170: 1 | E170: =IF(OR(C170="-",D170="-"),"-",(D170-C170)/C170) -> 0
B171: % condenas entre los extranjeros enjuiciados | C171: 1 | D171: - | E171: =IF(OR(C171="-",D171="-"),"-",(D171-C171)/C171) -> -
C177: 2º trimestre 2025 | D177: 2º trimestre 2026 | E177: Evolución
B178: PROCESOS PRIMERA INSTANCIA Total | C178: 2 | D178: 3 | E178: =IF(C178=0,"-",(D178-C178)/C178) -> 0.5
B179: Sumarios | C179: 1 | D179: 2 | E179: =IF(C179=0,"-",(D179-C179)/C179) -> 1
B180: Procedimientos abreviados | C180: 1 | D180: 0 | E180: =IF(C180=0,"-",(D180-C180)/C180) -> -1
B181: Procedimientos Jurado | C181: 0 | D181: 1 | E181: =IF(C181=0,"-",(D181-C181)/C181) -> -
B182: RECURSOS (APELACIONES DE SENTENCIAS) | C182: 22 | D182: 19 | E182: =IF(C182=0,"-",(D182-C182)/C182) -> -0.13636364
B183: Procedimientos abreviados | C183: 21 | D183: 18 | E183: =IF(C183=0,"-",(D183-C183)/C183) -> -0.14285714
B184: Juicios de Faltas | C184: 0 | D184: 0 | E184: =IF(C184=0,"-",(D184-C184)/C184) -> -
...

Sheet Galicia
B11: =Portada!B9 -> 2º Trimestre 2026
C13: 2º trimestre 2025 | D13: 2º trimestre 2026 | E13: Evolución
B14: DENUNCIAS RECIBIDAS - TOTAL | C14: 2051 | D14: 2222 | E14: =IF(C14>0,(D14-C14)/C14) -> 0.083373964
B15: VÍCTIMAS | C15: 1862 | D15: 1946 | E15: =IF(C15>0,(D15-C15)/C15) -> 0.045112782
B16: Víctimas Españolas | C16: 1493 | D16: 1425 | E16: =IF(C16>0,(D16-C16)/C16) -> -0.045545881
B17: Víctimas Extranjeras | C17: 369 | D17: 521 | E17: =IF(C17>0,(D17-C17)/C17) -> 0.41192412
B18: Víctimas Españolas menores | C18: 3 | D18: 5 | E18: =IF(C18=0,"-",(D18-C18)/C18) -> 0.66666667
B19: Víctimas Extranjeras menores | C19: 0 | D19: 4 | E19: =IF(C19=0,"-",(D19-C19)/C19) -> -
B20: % Extranjeras entre las víctimas | C20: =C17/C15 -> 0.19817401 | D20: =D17/D15 -> 0.26772867 | E20: =IF(C20>0,(D20-C20)/C20) -> 0.35097775
B21: RENUNCIAS (La victima se acoge a la dispensa a la obligacion de declarar como testigo) | C21: 121 | D21: 117 | E21: =IF(C21>0,(D21-C21)/C21) -> -0.033057851
B22: Renuncias por Española | C22: 94 | D22: 86 | E22: =IF(C22>0,(D22-C22)/C22) -> -0.085106383
B23: Renuncias por Extranjera | C23: 27 | D23: 31 | E23: =IF(C23>0,(D23-C23)/C23) -> 0.14814815
B24: % Extranjeras entre las Renuncias | C24: =C23/C21 -> 0.2231405 | D24: =D23/D21 -> 0.26495726 | E24: =IF(C24>0,(D24-C24)/C24) -> 0.18740108
B25: Víctimas de Violencia de Género cada 10.000 Mujeres | C25: 0.1322524 | D25: 0.13821867 | E25: =IF(C25>0,(D25-C25)/C25) -> 0.045112782
C33: 2º trimestre 2025 | D33: 2º trimestre 2026 | E33: Evolución
B34: Incoadas | C34: 457 | D34: 413 | E34: =IF(C34>0,(D34-C34)/C34,"-") -> -0.096280088
B35: Inadmitidas | C35: 3 | D35: 0 | E35: =IF(C35>0,(D35-C35)/C35,"-") -> -1
B36: Adoptadas | C36: 312 | D36: 274 | E36: =IF(C36>0,(D36-C36)/C36,"-") -> -0.12179487
B37: Denegadas | C37: 142 | D37: 139 | E37: =IF(C37>0,(D37-C37)/C37,"-") -> -0.021126761
C43: 2º trimestre 2025 | D43: 2º trimestre 2026 | E43: Evolución
B44: Sentencias Condenatorias | C44: 333 | D44: 366 | E44: =IF(C44>0,(D44-C44)/C44,"-") -> 0.099099099
B45: Sentencias Absolutorias | C45: 22 | D45: 26 | E45: =IF(C45>0,(D45-C45)/C45,"-") -> 0.18181818
B46: Sobreseimientos libres | C46: 25 | D46: 16 | E46: =IF(C46>0,(D46-C46)/C46,"-") -> -0.36
B47: Sobreseimientos provisionales | C47: 716 | D47: 850 | E47: =IF(C47>0,(D47-C47)/C47,"-") -> 0.18715084
B48: Elevación | C48: 380 | D48: 340 | E48: =IF(C48>0,(D48-C48)/C48,"-") -> -0.10526316
B49: Otras | C49: 252 | D49: 350 | E49: =IF(C49>0,(D49-C49)/C49,"-") -> 0.38888889
B50: Porcentaje Sentencias Condenatorias | C50: =C44/(C44+C45) -> 0.93802817 | D50: =D44/(D44+D45) -> 0.93367347 | E50: =IF(C50>0,(D50-C50)/C50,"-") -> -0.0046423975
B51: Porcentaje Terminacion por SP | C51: =C47/(C46+C47) -> 0.96626181 | D51: =D47/(D46+D47) -> 0.98152425 | E51: =IF(C51>0,(D51-C51)/C51,"-") -> 0.015795348
C57: 2º trimestre 2025 | D57: 2º trimestre 2026 | E57: Evolución
B58: Personas enjuiciadas | C58: 356 | D58: 392 | E58: =IF(C58>0,(D58-C58)/C58,"-") -> 0.1011236
B59: Condenado Español | C59: 257 | D59: 273 | E59: =IF(C59>0,(D59-C59)/C59,"-") -> 0.062256809
B60: Condenado Extranjero | C60: 77 | D60: 93 | E60: =IF(C60>0,(D60-C60)/C60,"-") -> 0.20779221
B61: % condenados entre los enjuiciados | C61: =(C59+C60)/C58 -> 0.93820225 | D61: =(D59+D60)/D58 -> 0.93367347 | E61: =IF(C61>0,(D61-C61)/C61,"-") -> -0.0048270805
B62: % condenas entre los españoles enjuiciados | C62: 0.92446043 | D62: 0.91919192 | E62: =IF(C62>0,(D62-C62)/C62,"-") -> -0.0056990135
B63: % condenas entre los extranjeros enjuiciados | C63: 0.98717949 | D63: 0.97894737 | E63: =IF(C63>0,(D63-C63)/C63,"-") -> -0.0083390294
C69: 2º trimestre 2025 | D69: 2º trimestre 2026 | E69: Evolución
B70: ASUNTOS PENALES | C70: 2209 | D70: 2348 | E70: =IF(C70>0,(D70-C70)/C70,"-") -> 0.0629244
B71: Diligencia Urgentes | C71: 652 | D71: 825 | E71: =IF(C71>0,(D71-C71)/C71,"-") -> 0.26533742
B72: Sumarios | C72: 6 | D72: 6 | E72: =IF(C72>0,(D72-C72)/C72,"-") -> 0
B73: Diligencia Previas | C73: 1113 | D73: 1059 | E73: =IF(C73>0,(D73-C73)/C73,"-") -> -0.04851752
B74: Procedimientos abreviados | C74: 356 | D74: 378 | E74: =IF(C74>0,(D74-C74)/C74,"-") -> 0.061797753
B75: Juicios sobre delitos leves | C75: 81 | D75: 77 | E75: =IF(C75>0,(D75-C75)/C75,"-") -> -0.049382716
B76: Procesos por aceptacion de decreto | C76: 0 | D76: 0 | E76: =IF(C76>0,(D76-C76)/C76,"-") -> -
B77: Ley Orgánica 5/95 Jurado | C77: 1 | D77: 3 | E77: =IF(C77>0,(D77-C77)/C77,"-") -> 2
C89: 2º trimestre 2025 | D89: 2º trimestre 2026 | E89: Evolución
B90: Por Sententencia Condenatoria con conformidad | C90: 153 | D90: 200 | E90: =IF(C90>0,(D90-C90)/C90,"-") -> 0.30718954
B91: Por Sententencia Condenatoria sin conformidad | C91: 118 | D91: 74 | E91: =IF(C91>0,(D91-C91)/C91,"-") -> -0.37288136
B92: Sentencia Absolutoria | C92: 89 | D92: 61 | E92: =IF(C92>0,(D92-C92)/C92,"-") -> -0.31460674
B93: Porcentaje de Sentencias condenatorias | C93: =(C90+C91)/(C90+C91+C92) -> 0.75277778 | D93: =(D90+D91)/(D90+D91+D92) -> 0.81791045 | E93: =IF(C93>0,(D93-C93)/C93,"-") -> 0.086523104
C99: 2º trimestre 2025 | D99: 2º trimestre 2026 | E99: Evolución
B100: Personas enjuiciadas | C100: 360 | D100: 342 | E100: =IF(C100>0,(D100-C100)/C100,"-") -> -0.05
B101: Condenado Español | C101: 228 | D101: 223 | E101: =IF(C101>0,(D101-C101)/C101,"-") -> -0.021929825
B102: Condenado Extranjero | C102: 43 | D102: 53 | E102: =IF(C102>0,(D102-C102)/C102,"-") -> 0.23255814
B103: % condenados entre los enjuiciados | C103: =(C101+C102)/C100 -> 0.75277778 | D103: =(D101+D102)/D100 -> 0.80701754 | E103: =IF(C103>0,(D103-C103)/C103,"-") -> 0.072052826
B104: % condenas entre los españoles enjuiciados | C104: 0.76510067 | D104: 0.79359431 | E104: =IF(C104>0,(D104-C104)/C104,"-") -> 0.037241681
B105: % condenas entre los extranjeros enjuiciados | C105: 0.69354839 | D105: 0.86885246 | E105: =IF(C105>0,(D105-C105)/C105,"-") -> 0.25276401
C111: 2º trimestre 2025 | D111: 2º trimestre 2026 | E111: Evolución
B112: Asuntos Total | C112: 411 | D112: 403 | E112: =IF(C112>0,(D112-C112)/C112,"-") -> -0.01946472
B113: Procedimientos Abreviados | C113: 305 | D113: 283 | E113: =IF(C113>0,(D113-C113)/C113,"-") -> -0.072131148
B114: Diligencias Urgentes | C114: 106 | D114: 120 | E114: =IF(C114>0,(D114-C114)/C114,"-") -> 0.13207547
C126: 2º trimestre 2025 | G126: 2º trimestre 2026 | K126: EVOLUCIÓN
C127: Sumario | D127: Proc.Abrev. | E127: Proc.Jurado | F127: TOTAL | G127: Sumario | H127: Proc.Abrev. | I127: Proc.Jurado | J127: TOTAL | K127: Sumario | L127: Proc.Abrev. | M127: Proc.Jurado | N127: TOTAL
B128: Condenatorias | C128: 3 | D128: 4 | E128: 1 | F128: 8 | G128: 5 | H128: 0 | I128: 1 | J128: 6 | K128: =IF(C128=0,"-",(G128-C128)/C128) -> 0.66666667 | L128: =IF(D128=0,"-",(H128-D128)/D128) -> -1 | M128: =IF(E128=0,"-",(I128-E128)/E128) -> 0 | N128: =IF(F128=0,"-",(J128-F128)/F128) -> -0.25
B129: Absolutorias | C129: 0 | D129: 0 | E129: 0 | F129: 0 | G129: 1 | H129: 0 | I129: 0 | J129: 1 | K129: =IF(C129=0,"-",(G129-C129)/C129) -> - | L129: =IF(D129=0,"-",(H129-D129)/D129) -> - | M129: =IF(E129=0,"-",(I129-E129)/E129) -> - | N129: =IF(F129=0,"-",(J129-F129)/F129) -> -
B130: Sobreseimiento Libre | C130: 0 | D130: 0 | E130: 0 | F130: 0 | G130: 0 | H130: 0 | I130: 0 | J130: 0 | K130: =IF(C130=0,"-",(G130-C130)/C130) -> - | L130: =IF(D130=0,"-",(H130-D130)/D130) -> - | M130: =IF(E130=0,"-",(I130-E130)/E130) -> - | N130: =IF(F130=0,"-",(J130-F130)/F130) -> -
B131: Sobreseimiento Provisional | C131: 0 | D131: 0 | E131: 0 | F131: 0 | G131: 0 | H131: 0 | I131: 0 | J131: 0 | K131: =IF(C131=0,"-",(G131-C131)/C131) -> - | L131: =IF(D131=0,"-",(H131-D131)/D131) -> - | M131: =IF(E131=0,"-",(I131-E131)/E131) -> - | N131: =IF(F131=0,"-",(J131-F131)/F131) -> -
B132: Otras | C132: 0 | D132: 0 | E132: 0 | F132: 0 | G132: 0 | H132: 0 | I132: 0 | J132: 0 | K132: =IF(C132=0,"-",(G132-C132)/C132) -> - | L132: =IF(D132=0,"-",(H132-D132)/D132) -> - | M132: =IF(E132=0,"-",(I132-E132)/E132) -> - | N132: =IF(F132=0,"-",(J132-F132)/F132) -> -
B133: Total | C133: 3 | D133: 4 | E133: 1 | F133: 8 | G133: 6 | H133: 0 | I133: 1 | J133: 7 | K133: =IF(C133=0,"-",(G133-C133)/C133) -> 1 | L133: =IF(D133=0,"-",(H133-D133)/D133) -> -1 | M133: =IF(E133=0,"-",(I133-E133)/E133) -> 0 | N133: =IF(F133=0,"-",(J133-F133)/F133) -> -0.125
B134: Porcentaje Sentencias Condenatorias | C134: =IF(C128=0,"-",C128/(C128+C129)) -> 1 | D134: =IF(D128=0,"-",D128/(D128+D129)) -> 1 | E134: =IF(E128=0,"-",E128/(E128+E129)) -> 1 | F134: =IF(F128=0,"-",F128/(F128+F129)) -> 1 | G134: =IF(G128=0,"-",G128/(G128+G129)) -> 0.83333333 | H134: =IF(H128=0,"-",H128/(H128+H129)) -> - | I134: =IF(I128=0,"-",I128/(I128+I129)) -> 1 | J134: =IF(J128=0,"-",J128/(J128+J129)) -> 0.85714286 | K134: =IF(OR(C134="-",G134="-"),"-",(G134-C134)/C134) -> -0.16666667 | L134: =IF(OR(D134="-",H134="-"),"-",(H134-D134)/D134) -> - | M134: =IF(OR(E134="-",I134="-"),"-",(I134-E134)/E134) -> 0 | N134: =IF(OR(F134="-",J134="-"),"-",(J134-F134)/F134) -> -0.14285714
B135: Porcentaje Terminacion por SP | C135: =IF(C131=0,"-",C131/(C130+C131)) -> - | D135: =IF(D131=0,"-",D131/(D130+D131)) -> - | E135: =IF(E131=0,"-",E131/(E130+E131)) -> - | F135: =IF(F131=0,"-",F131/(F130+F131)) -> - | G135: =IF(G131=0,"-",G131/(G130+G131)) -> - | H135: =IF(H131=0,"-",H131/(H130+H131)) -> - | I135: =IF(I131=0,"-",I131/(I130+I131)) -> - | J135: =IF(J131=0,"-",J131/(J130+J131)) -> - | K135: =IF(OR(C135="-",G135="-"),"-",(G135-C135)/C135) -> - | L135: =IF(OR(D135="-",H135="-"),"-",(H135-D135)/D135) -> - | M135: =IF(OR(E135="-",I135="-"),"-",(I135-E135)/E135) -> - | N135: =IF(OR(F135="-",J135="-"),"-",(J135-F135)/F135) -> -
C141: 2º trimestre 2025 | G141: 2º trimestre 2026 | K141: EVOLUCIÓN
C142: Proc.Abrev. | D142: Juicios de Faltas | E142: Juicios sobre Delitos Leves | F142: TOTAL | G142: Proc.Abrev. | H142: Juicios de Faltas | I142: Juicios sobre Delitos Leves | J142: TOTAL | K142: Proc.Abrev. | L142: Juicios de Faltas | M142: Juicios sobre Delitos Leves | N142: TOTAL
B143: Estimatorios Sentencias Condenatorias | C143: 10 | D143: 0 | E143: 2 | F143: 12 | G143: 7 | H143: 0 | I143: 0 | J143: 7 | K143: =IF(C143=0,"-",(G143-C143)/C143) -> -0.3 | L143: =IF(D143=0,"-",(H143-D143)/D143) -> - | M143: =IF(E143=0,"-",(I143-E143)/E143) -> -1 | N143: =IF(F143=0,"-",(J143-F143)/F143) -> -0.41666667
B144: Estimatorios Sentencias Absolutorias | C144: 4 | D144: 0 | E144: 0 | F144: 4 | G144: 0 | H144: 0 | I144: 0 | J144: 0 | K144: =IF(C144=0,"-",(G144-C144)/C144) -> -1 | L144: =IF(D144=0,"-",(H144-D144)/D144) -> - | M144: =IF(E144=0,"-",(I144-E144)/E144) -> - | N144: =IF(F144=0,"-",(J144-F144)/F144) -> -1
B145: Desestimatorios Sentencias Condenatorias | C145: 56 | D145: 0 | E145: 7 | F145: 63 | G145: 18 | H145: 0 | I145: 2 | J145: 20 | K145: =IF(C145=0,"-",(G145-C145)/C145) -> -0.67857143 | L145: =IF(D145=0,"-",(H145-D145)/D145) -> - | M145: =IF(E145=0,"-",(I145-E145)/E145) -> -0.71428571 | N145: =IF(F145=0,"-",(J145-F145)/F145) -> -0.68253968
B146: Desestimatorios Sentencias Absolutorias | C146: 13 | D146: 0 | E146: 2 | F146: 15 | G146: 6 | H146: 0 | I146: 2 | J146: 8 | K146: =IF(C146=0,"-",(G146-C146)/C146) -> -0.53846154 | L146: =IF(D146=0,"-",(H146-D146)/D146) -> - | M146: =IF(E146=0,"-",(I146-E146)/E146) -> 0 | N146: =IF(F146=0,"-",(J146-F146)/F146) -> -0.46666667
B147: Por Otras Causas | C147: 0 | D147: 0 | E147: 0 | F147: 0 | G147: 0 | H147: 0 | I147: 1 | J147: 1 | K147: =IF(C147=0,"-",(G147-C147)/C147) -> - | L147: =IF(D147=0,"-",(H147-D147)/D147) -> - | M147: =IF(E147=0,"-",(I147-E147)/E147) -> - | N147: =IF(F147=0,"-",(J147-F147)/F147) -> -
B148: Total | C148: 83 | D148: 0 | E148: 11 | F148: 94 | G148: 31 | H148: 0 | I148: 5 | J148: 36 | K148: =IF(C148=0,"-",(G148-C148)/C148) -> -0.62650602 | L148: =IF(D148=0,"-",(H148-D148)/D148) -> - | M148: =IF(E148=0,"-",(I148-E148)/E148) -> -0.54545455 | N148: =IF(F148=0,"-",(J148-F148)/F148) -> -0.61702128
B149: Porcentaje Estimación Recursos contra Sentencias Condenatorias | C149: =IF(C143=0,"-",(C143/(C143+C145))) -> 0.15151515 | D149: =IF(D143=0,"-",(D143/(D143+D145))) -> - | E149: =IF(E143=0,"-",(E143/(E143+E145))) -> 0.22222222 | F149: =IF(F143=0,"-",(F143/(F143+F145))) -> 0.16 | G149: =IF(G143=0,"-",(G143/(G143+G145))) -> 0.28 | H149: =IF(H143=0,"-",(H143/(H143+H145))) -> - | I149: =IF(I143=0,"-",(I143/(I143+I145))) -> - | J149: =IF(J143=0,"-",(J143/(J143+J145))) -> 0.25925926 | K149: =IF(OR(C149="-",G149="-"),"-",(G149-C149)/C149) -> 0.848 | L149: =IF(OR(D149="-",H149="-"),"-",(H149-D149)/D149) -> - | M149: =IF(OR(E149="-",I149="-"),"-",(I149-E149)/E149) -> - | N149: =IF(OR(F149="-",J149="-"),"-",(J149-F149)/F149) -> 0.62037037
B150: Porcentaje Estimación Recursos contra Sentencias Absolutorias | C150: =IF(C144=0,"-",(C144/(C144+C146))) -> 0.23529412 | D150: =IF(D144=0,"-",(D144/(D144+D146))) -> - | E150: =IF(E144=0,"-",(E144/(E144+E146))) -> - | F150: =IF(F144=0,"-",(F144/(F144+F146))) -> 0.21052632 | G150: =IF(G144=0,"-",(G144/(G144+G146))) -> - | H150: =IF(H144=0,"-",(H144/(H144+H146))) -> - | I150: =IF(I144=0,"-",(I144/(I144+I146))) -> - | J150: =IF(J144=0,"-",(J144/(J144+J146))) -> - | K150: =IF(OR(C150="-",G150="-"),"-",(G150-C150)/C150) -> - | L150: =IF(OR(D150="-",H150="-"),"-",(H150-D150)/D150) -> - | M150: =IF(OR(E150="-",I150="-"),"-",(I150-E150)/E150) -> - | N150: =IF(OR(F150="-",J150="-"),"-",(J150-F150)/F150) -> -
C156: 2º trimestre 2025 | D156: 2º trimestre 2026 | E156: Evolución
B157: Confirmaciones en Apelación P.Delito | C157: 59 | D157: 24 | E157: =IF(C157=0,"-",(D157-C157)/C157) -> -0.59322034
B158: Revocaciones en Apelación P.Delito | C158: 13 | D158: 7 | E158: =IF(C158=0,"-",(D158-C158)/C158) -> -0.46153846
B159: Anulaciones en Apelación P.Delito | C159: 0 | D159: 0 | E159: =IF(C159=0,"-",(D159-C159)/C159) -> -
B160: Porcentaje Confirmaciones P.Delitos | C160: =IF(C157=0,"-",C157/(C157+C158+C159)) -> 0.81944444 | D160: =IF(D157=0,"-",D157/(D157+D158+D159)) -> 0.77419355 | E160: =IF(OR(C160="-",D160="-"),"-",(D160-C160)/C160) -> -0.055221432
C165: 2º trimestre 2025 | D165: 2º trimestre 2026 | E165: Evolución
B166: Personas enjuiciadas | C166: 8 | D166: 7 | E166: =IF(C166=0,"-",(D166-C166)/C166) -> -0.125
B167: Condenado Español | C167: 4 | D167: 4 | E167: =IF(C167=0,"-",(D167-C167)/C167) -> 0
B168: Condenado Extranjero | C168: 4 | D168: 2 | E168: =IF(C168=0,"-",(D168-C168)/C168) -> -0.5
B169: % condenados entre los enjuiciados | C169: =IF(C166=0,"-",(C167+C168)/C166) -> 1 | D169: =IF(D166=0,"-",(D167+D168)/D166) -> 0.85714286 | E169: =IF(OR(C169="-",D169="-"),"-",(D169-C169)/C169) -> -0.14285714
B170: % condenas entre los españoles enjuiciados | C170: 1 | D170: 0.8 | E170: =IF(OR(C170="-",D170="-"),"-",(D170-C170)/C170) -> -0.2
B171: % condenas entre los extranjeros enjuiciados | C171: 1 | D171: 1 | E171: =IF(OR(C171="-",D171="-"),"-",(D171-C171)/C171) -> 0
C177: 2º trimestre 2025 | D177: 2º trimestre 2026 | E177: Evolución
B178: PROCESOS PRIMERA INSTANCIA Total | C178: 9 | D178: 5 | E178: =IF(C178=0,"-",(D178-C178)/C178) -> -0.44444444
B179: Sumarios | C179: 4 | D179: 4 | E179: =IF(C179=0,"-",(D179-C179)/C179) -> 0
B180: Procedimientos abreviados | C180: 1 | D180: 1 | E180: =IF(C180=0,"-",(D180-C180)/C180) -> 0
B181: Procedimientos Jurado | C181: 4 | D181: 0 | E181: =IF(C181=0,"-",(D181-C181)/C181) -> -1
B182: RECURSOS (APELACIONES DE SENTENCIAS) | C182: 92 | D182: 41 | E182: =IF(C182=0,"-",(D182-C182)/C182) -> -0.55434783
B183: Procedimientos abreviados | C183: 84 | D183: 33 | E183: =IF(C183=0,"-",(D183-C183)/C183) -> -0.60714286
B184: Juicios de Faltas | C184: 0 | D184: 0 | E184: =IF(C184=0,"-",(D184-C184)/C184) -> -
...

Sheet Com. Madrid
B11: =Portada!B9 -> 2º Trimestre 2026
C13: 2º trimestre 2025 | D13: 2º trimestre 2026 | E13: Evolución
B14: DENUNCIAS RECIBIDAS - TOTAL | C14: 7996 | D14: 9988 | E14: =IF(C14>0,(D14-C14)/C14) -> 0.24912456
B15: VÍCTIMAS | C15: 7011 | D15: 8818 | E15: =IF(C15>0,(D15-C15)/C15) -> 0.25773784
B16: Víctimas Españolas | C16: 3820 | D16: 4940 | E16: =IF(C16>0,(D16-C16)/C16) -> 0.29319372
B17: Víctimas Extranjeras | C17: 3191 | D17: 3878 | E17: =IF(C17>0,(D17-C17)/C17) -> 0.21529301
B18: Víctimas Españolas menores | C18: 4 | D18: 8 | E18: =IF(C18=0,"-",(D18-C18)/C18) -> 1
B19: Víctimas Extranjeras menores | C19: 1 | D19: 10 | E19: =IF(C19=0,"-",(D19-C19)/C19) -> 9
B20: % Extranjeras entre las víctimas | C20: =C17/C15 -> 0.45514192 | D20: =D17/D15 -> 0.43978226 | E20: =IF(C20>0,(D20-C20)/C20) -> -0.03374696
B21: RENUNCIAS (La victima se acoge a la dispensa a la obligacion de declarar como testigo) | C21: 888 | D21: 1146 | E21: =IF(C21>0,(D21-C21)/C21) -> 0.29054054
B22: Renuncias por Española | C22: 422 | D22: 548 | E22: =IF(C22>0,(D22-C22)/C22) -> 0.2985782
B23: Renuncias por Extranjera | C23: 466 | D23: 598 | E23: =IF(C23>0,(D23-C23)/C23) -> 0.2832618
B24: % Extranjeras entre las Renuncias | C24: =C23/C21 -> 0.52477477 | D24: =D23/D21 -> 0.52181501 | E24: =IF(C24>0,(D24-C24)/C24) -> -0.0056400692
B25: Víctimas de Violencia de Género cada 10.000 Mujeres | C25: 0.18915541 | D25: 0.23790792 | E25: =IF(C25>0,(D25-C25)/C25) -> 0.25773784
C33: 2º trimestre 2025 | D33: 2º trimestre 2026 | E33: Evolución
B34: Incoadas | C34: 1532 | D34: 1636 | E34: =IF(C34>0,(D34-C34)/C34,"-") -> 0.067885117
B35: Inadmitidas | C35: 13 | D35: 3 | E35: =IF(C35>0,(D35-C35)/C35,"-") -> -0.76923077
B36: Adoptadas | C36: 694 | D36: 772 | E36: =IF(C36>0,(D36-C36)/C36,"-") -> 0.11239193
B37: Denegadas | C37: 825 | D37: 861 | E37: =IF(C37>0,(D37-C37)/C37,"-") -> 0.043636364
C43: 2º trimestre 2025 | D43: 2º trimestre 2026 | E43: Evolución
B44: Sentencias Condenatorias | C44: 277 | D44: 303 | E44: =IF(C44>0,(D44-C44)/C44,"-") -> 0.093862816
B45: Sentencias Absolutorias | C45: 57 | D45: 50 | E45: =IF(C45>0,(D45-C45)/C45,"-") -> -0.12280702
B46: Sobreseimientos libres | C46: 111 | D46: 107 | E46: =IF(C46>0,(D46-C46)/C46,"-") -> -0.036036036
B47: Sobreseimientos provisionales | C47: 3081 | D47: 3746 | E47: =IF(C47>0,(D47-C47)/C47,"-") -> 0.21583901
B48: Elevación | C48: 1592 | D48: 1214 | E48: =IF(C48>0,(D48-C48)/C48,"-") -> -0.23743719
B49: Otras | C49: 2107 | D49: 2878 | E49: =IF(C49>0,(D49-C49)/C49,"-") -> 0.36592311
B50: Porcentaje Sentencias Condenatorias | C50: =C44/(C44+C45) -> 0.82934132 | D50: =D44/(D44+D45) -> 0.85835694 | E50: =IF(C50>0,(D50-C50)/C50,"-") -> 0.034986347
B51: Porcentaje Terminacion por SP | C51: =C47/(C46+C47) -> 0.96522556 | D51: =D47/(D46+D47) -> 0.97222943 | E51: =IF(C51>0,(D51-C51)/C51,"-") -> 0.0072561979
C57: 2º trimestre 2025 | D57: 2º trimestre 2026 | E57: Evolución
B58: Personas enjuiciadas | C58: 338 | D58: 357 | E58: =IF(C58>0,(D58-C58)/C58,"-") -> 0.056213018
B59: Condenado Español | C59: 155 | D59: 152 | E59: =IF(C59>0,(D59-C59)/C59,"-") -> -0.019354839
B60: Condenado Extranjero | C60: 126 | D60: 154 | E60: =IF(C60>0,(D60-C60)/C60,"-") -> 0.22222222
B61: % condenados entre los enjuiciados | C61: =(C59+C60)/C58 -> 0.83136095 | D61: =(D59+D60)/D58 -> 0.85714286 | E61: =IF(C61>0,(D61-C61)/C61,"-") -> 0.031011693
B62: % condenas entre los españoles enjuiciados | C62: 0.79896907 | D62: 0.84444444 | E62: =IF(C62>0,(D62-C62)/C62,"-") -> 0.056917563
B63: % condenas entre los extranjeros enjuiciados | C63: 0.875 | D63: 0.8700565 | E63: =IF(C63>0,(D63-C63)/C63,"-") -> -0.0056497175
C69: 2º trimestre 2025 | D69: 2º trimestre 2026 | E69: Evolución
B70: ASUNTOS PENALES | C70: 8879 | D70: 10685 | E70: =IF(C70>0,(D70-C70)/C70,"-") -> 0.20340128
B71: Diligencia Urgentes | C71: 1690 | D71: 1829 | E71: =IF(C71>0,(D71-C71)/C71,"-") -> 0.082248521
B72: Sumarios | C72: 25 | D72: 17 | E72: =IF(C72>0,(D72-C72)/C72,"-") -> -0.32
B73: Diligencia Previas | C73: 5556 | D73: 7183 | E73: =IF(C73>0,(D73-C73)/C73,"-") -> 0.29283657
B74: Procedimientos abreviados | C74: 1468 | D74: 1470 | E74: =IF(C74>0,(D74-C74)/C74,"-") -> 0.0013623978
B75: Juicios sobre delitos leves | C75: 134 | D75: 181 | E75: =IF(C75>0,(D75-C75)/C75,"-") -> 0.35074627
B76: Procesos por aceptacion de decreto | C76: 0 | D76: 0 | E76: =IF(C76>0,(D76-C76)/C76,"-") -> -
B77: Ley Orgánica 5/95 Jurado | C77: 6 | D77: 5 | E77: =IF(C77>0,(D77-C77)/C77,"-") -> -0.16666667
C89: 2º trimestre 2025 | D89: 2º trimestre 2026 | E89: Evolución
B90: Por Sententencia Condenatoria con conformidad | C90: 637 | D90: 677 | E90: =IF(C90>0,(D90-C90)/C90,"-") -> 0.062794349
B91: Por Sententencia Condenatoria sin conformidad | C91: 317 | D91: 306 | E91: =IF(C91>0,(D91-C91)/C91,"-") -> -0.034700315
B92: Sentencia Absolutoria | C92: 313 | D92: 331 | E92: =IF(C92>0,(D92-C92)/C92,"-") -> 0.057507987
B93: Porcentaje de Sentencias condenatorias | C93: =(C90+C91)/(C90+C91+C92) -> 0.75295975 | D93: =(D90+D91)/(D90+D91+D92) -> 0.74809741 | E93: =IF(C93>0,(D93-C93)/C93,"-") -> -0.0064576293
C99: 2º trimestre 2025 | D99: 2º trimestre 2026 | E99: Evolución
B100: Personas enjuiciadas | C100: 1349 | D100: 1377 | E100: =IF(C100>0,(D100-C100)/C100,"-") -> 0.020756116
B101: Condenado Español | C101: 537 | D101: 545 | E101: =IF(C101>0,(D101-C101)/C101,"-") -> 0.014897579
B102: Condenado Extranjero | C102: 471 | D102: 469 | E102: =IF(C102>0,(D102-C102)/C102,"-") -> -0.0042462845
B103: % condenados entre los enjuiciados | C103: =(C101+C102)/C100 -> 0.74722016 | D103: =(D101+D102)/D100 -> 0.73638344 | E103: =IF(C103>0,(D103-C103)/C103,"-") -> -0.014502715
B104: % condenas entre los españoles enjuiciados | C104: 0.73561644 | D104: 0.76223776 | E104: =IF(C104>0,(D104-C104)/C104,"-") -> 0.036189137
B105: % condenas entre los extranjeros enjuiciados | C105: 0.76090468 | D105: 0.70845921 | E105: =IF(C105>0,(D105-C105)/C105,"-") -> -0.068925151
C111: 2º trimestre 2025 | D111: 2º trimestre 2026 | E111: Evolución
B112: Asuntos Total | C112: 1350 | D112: 1303 | E112: =IF(C112>0,(D112-C112)/C112,"-") -> -0.034814815
B113: Procedimientos Abreviados | C113: 1015 | D113: 998 | E113: =IF(C113>0,(D113-C113)/C113,"-") -> -0.016748768
B114: Diligencias Urgentes | C114: 335 | D114: 305 | E114: =IF(C114>0,(D114-C114)/C114,"-") -> -0.089552239
C126: 2º trimestre 2025 | G126: 2º trimestre 2026 | K126: EVOLUCIÓN
C127: Sumario | D127: Proc.Abrev. | E127: Proc.Jurado | F127: TOTAL | G127: Sumario | H127: Proc.Abrev. | I127: Proc.Jurado | J127: TOTAL | K127: Sumario | L127: Proc.Abrev. | M127: Proc.Jurado | N127: TOTAL
B128: Condenatorias | C128: 11 | D128: 2 | E128: 0 | F128: 13 | G128: 15 | H128: 3 | I128: 4 | J128: 22 | K128: =IF(C128=0,"-",(G128-C128)/C128) -> 0.36363636 | L128: =IF(D128=0,"-",(H128-D128)/D128) -> 0.5 | M128: =IF(E128=0,"-",(I128-E128)/E128) -> - | N128: =IF(F128=0,"-",(J128-F128)/F128) -> 0.69230769
B129: Absolutorias | C129: 2 | D129: 2 | E129: 1 | F129: 5 | G129: 7 | H129: 0 | I129: 0 | J129: 7 | K129: =IF(C129=0,"-",(G129-C129)/C129) -> 2.5 | L129: =IF(D129=0,"-",(H129-D129)/D129) -> -1 | M129: =IF(E129=0,"-",(I129-E129)/E129) -> -1 | N129: =IF(F129=0,"-",(J129-F129)/F129) -> 0.4
B130: Sobreseimiento Libre | C130: 1 | D130: 0 | E130: 0 | F130: 1 | G130: 0 | H130: 0 | I130: 0 | J130: 0 | K130: =IF(C130=0,"-",(G130-C130)/C130) -> -1 | L130: =IF(D130=0,"-",(H130-D130)/D130) -> - | M130: =IF(E130=0,"-",(I130-E130)/E130) -> - | N130: =IF(F130=0,"-",(J130-F130)/F130) -> -1
B131: Sobreseimiento Provisional | C131: 9 | D131: 0 | E131: 0 | F131: 9 | G131: 12 | H131: 0 | I131: 0 | J131: 12 | K131: =IF(C131=0,"-",(G131-C131)/C131) -> 0.33333333 | L131: =IF(D131=0,"-",(H131-D131)/D131) -> - | M131: =IF(E131=0,"-",(I131-E131)/E131) -> - | N131: =IF(F131=0,"-",(J131-F131)/F131) -> 0.33333333
B132: Otras | C132: 0 | D132: 0 | E132: 0 | F132: 0 | G132: 1 | H132: 3 | I132: 0 | J132: 4 | K132: =IF(C132=0,"-",(G132-C132)/C132) -> - | L132: =IF(D132=0,"-",(H132-D132)/D132) -> - | M132: =IF(E132=0,"-",(I132-E132)/E132) -> - | N132: =IF(F132=0,"-",(J132-F132)/F132) -> -
B133: Total | C133: 23 | D133: 4 | E133: 1 | F133: 28 | G133: 35 | H133: 6 | I133: 4 | J133: 45 | K133: =IF(C133=0,"-",(G133-C133)/C133) -> 0.52173913 | L133: =IF(D133=0,"-",(H133-D133)/D133) -> 0.5 | M133: =IF(E133=0,"-",(I133-E133)/E133) -> 3 | N133: =IF(F133=0,"-",(J133-F133)/F133) -> 0.60714286
B134: Porcentaje Sentencias Condenatorias | C134: =IF(C128=0,"-",C128/(C128+C129)) -> 0.84615385 | D134: =IF(D128=0,"-",D128/(D128+D129)) -> 0.5 | E134: =IF(E128=0,"-",E128/(E128+E129)) -> - | F134: =IF(F128=0,"-",F128/(F128+F129)) -> 0.72222222 | G134: =IF(G128=0,"-",G128/(G128+G129)) -> 0.68181818 | H134: =IF(H128=0,"-",H128/(H128+H129)) -> 1 | I134: =IF(I128=0,"-",I128/(I128+I129)) -> 1 | J134: =IF(J128=0,"-",J128/(J128+J129)) -> 0.75862069 | K134: =IF(OR(C134="-",G134="-"),"-",(G134-C134)/C134) -> -0.19421488 | L134: =IF(OR(D134="-",H134="-"),"-",(H134-D134)/D134) -> 1 | M134: =IF(OR(E134="-",I134="-"),"-",(I134-E134)/E134) -> - | N134: =IF(OR(F134="-",J134="-"),"-",(J134-F134)/F134) -> 0.050397878
B135: Porcentaje Terminacion por SP | C135: =IF(C131=0,"-",C131/(C130+C131)) -> 0.9 | D135: =IF(D131=0,"-",D131/(D130+D131)) -> - | E135: =IF(E131=0,"-",E131/(E130+E131)) -> - | F135: =IF(F131=0,"-",F131/(F130+F131)) -> 0.9 | G135: =IF(G131=0,"-",G131/(G130+G131)) -> 1 | H135: =IF(H131=0,"-",H131/(H130+H131)) -> - | I135: =IF(I131=0,"-",I131/(I130+I131)) -> - | J135: =IF(J131=0,"-",J131/(J130+J131)) -> 1 | K135: =IF(OR(C135="-",G135="-"),"-",(G135-C135)/C135) -> 0.11111111 | L135: =IF(OR(D135="-",H135="-"),"-",(H135-D135)/D135) -> - | M135: =IF(OR(E135="-",I135="-"),"-",(I135-E135)/E135) -> - | N135: =IF(OR(F135="-",J135="-"),"-",(J135-F135)/F135) -> 0.11111111
C141: 2º trimestre 2025 | G141: 2º trimestre 2026 | K141: EVOLUCIÓN
C142: Proc.Abrev. | D142: Juicios de Faltas | E142: Juicios sobre Delitos Leves | F142: TOTAL | G142: Proc.Abrev. | H142: Juicios de Faltas | I142: Juicios sobre Delitos Leves | J142: TOTAL | K142: Proc.Abrev. | L142: Juicios de Faltas | M142: Juicios sobre Delitos Leves | N142: TOTAL
B143: Estimatorios Sentencias Condenatorias | C143: 57 | D143: 0 | E143: 8 | F143: 65 | G143: 63 | H143: 0 | I143: 3 | J143: 66 | K143: =IF(C143=0,"-",(G143-C143)/C143) -> 0.10526316 | L143: =IF(D143=0,"-",(H143-D143)/D143) -> - | M143: =IF(E143=0,"-",(I143-E143)/E143) -> -0.625 | N143: =IF(F143=0,"-",(J143-F143)/F143) -> 0.015384615
B144: Estimatorios Sentencias Absolutorias | C144: 14 | D144: 0 | E144: 5 | F144: 19 | G144: 0 | H144: 0 | I144: 0 | J144: 0 | K144: =IF(C144=0,"-",(G144-C144)/C144) -> -1 | L144: =IF(D144=0,"-",(H144-D144)/D144) -> - | M144: =IF(E144=0,"-",(I144-E144)/E144) -> -1 | N144: =IF(F144=0,"-",(J144-F144)/F144) -> -1
B145: Desestimatorios Sentencias Condenatorias | C145: 264 | D145: 0 | E145: 20 | F145: 284 | G145: 353 | H145: 0 | I145: 22 | J145: 375 | K145: =IF(C145=0,"-",(G145-C145)/C145) -> 0.33712121 | L145: =IF(D145=0,"-",(H145-D145)/D145) -> - | M145: =IF(E145=0,"-",(I145-E145)/E145) -> 0.1 | N145: =IF(F145=0,"-",(J145-F145)/F145) -> 0.32042254
B146: Desestimatorios Sentencias Absolutorias | C146: 83 | D146: 0 | E146: 14 | F146: 97 | G146: 0 | H146: 0 | I146: 0 | J146: 0 | K146: =IF(C146=0,"-",(G146-C146)/C146) -> -1 | L146: =IF(D146=0,"-",(H146-D146)/D146) -> - | M146: =IF(E146=0,"-",(I146-E146)/E146) -> -1 | N146: =IF(F146=0,"-",(J146-F146)/F146) -> -1
B147: Por Otras Causas | C147: 4 | D147: 0 | E147: 0 | F147: 4 | G147: 3 | H147: 0 | I147: 0 | J147: 3 | K147: =IF(C147=0,"-",(G147-C147)/C147) -> -0.25 | L147: =IF(D147=0,"-",(H147-D147)/D147) -> - | M147: =IF(E147=0,"-",(I147-E147)/E147) -> - | N147: =IF(F147=0,"-",(J147-F147)/F147) -> -0.25
B148: Total | C148: 422 | D148: 0 | E148: 47 | F148: 469 | G148: 419 | H148: 0 | I148: 25 | J148: 444 | K148: =IF(C148=0,"-",(G148-C148)/C148) -> -0.0071090047 | L148: =IF(D148=0,"-",(H148-D148)/D148) -> - | M148: =IF(E148=0,"-",(I148-E148)/E148) -> -0.46808511 | N148: =IF(F148=0,"-",(J148-F148)/F148) -> -0.053304904
